BEGIN:VCALENDAR
VERSION:2.0
PRODID:-//bc magazine - ECPv6.15.20//NONSGML v1.0//EN
CALSCALE:GREGORIAN
METHOD:PUBLISH
X-ORIGINAL-URL:https://www.bcmagazine.net
X-WR-CALDESC:Events for bc magazine
REFRESH-INTERVAL;VALUE=DURATION:PT1H
X-Robots-Tag:noindex
X-PUBLISHED-TTL:PT1H
BEGIN:VTIMEZONE
TZID:Asia/Hong_Kong
BEGIN:STANDARD
TZOFFSETFROM:+0800
TZOFFSETTO:+0800
TZNAME:HKT
DTSTART:20140101T000000
END:STANDARD
END:VTIMEZONE
BEGIN:VEVENT
DTSTART;TZID=Asia/Hong_Kong:20150213T180000
DTEND;TZID=Asia/Hong_Kong:20150214T000000
DTSTAMP:20260420T132046
CREATED:20150114T013046Z
LAST-MODIFIED:20150113T125615Z
UID:10005536-1423850400-1423872000@www.bcmagazine.net
SUMMARY:Hong Kong Masters @ AsiaWorld Expo - 13-15 February\, 2015
DESCRIPTION:A show-jumping lifestyle event featuring the world’s top 25 ranked riders who will compete over three days at AsiaWorld Expo for over US1million. If you have fond memories of the Olympic 2008 equestrian events or have been out and hopped a few fences at Beas River Equestrian Centre and want to see the best of the best up close and personal this will be the perfect oppourtunity. The Hong Kong Masters is the first event in the 2015 Masters Grand Slam Indoor which also visits Paris and Las Vegas. \nAs well as some quality show jumping there’ll be fine dining\, wine tastings\, a little bit of art and of course the ubiquitous “tailored shopping experience”. \nHong Kong Masters\nWhen: 13-15 February\, 2015\nWhere: AsiaWorld-Expo\nHow Much:\n13 February: $720 (Prestige)\, $590 (Standard)\n14 February: $720 (Prestige)\, $590 (Standard)\, $330 (Afternoon)\n15 February: $980 (Prestige)\, $850 (Standard)\nfrom Cityline\nMore info: www.longineshkmasters.com
URL:https://www.bcmagazine.net/event/hong-kong-masters-asiaworld-expo-13-15-february-2015/
LOCATION:AsiaWorld-Expo\, Cheong Wing Road\, Chek Lap Kok\, Lantau\, Hong Kong
CATEGORIES:Sport
GEO:22.3217383;113.9402012
X-APPLE-STRUCTURED-LOCATION;VALUE=URI;X-ADDRESS=AsiaWorld-Expo Cheong Wing Road Chek Lap Kok Lantau Hong Kong;X-APPLE-RADIUS=500;X-TITLE=Cheong Wing Road\, Chek Lap Kok:geo:113.9402012,22.3217383
END:VEVENT
BEGIN:VEVENT
DTSTART;TZID=Asia/Hong_Kong:20150213T180000
DTEND;TZID=Asia/Hong_Kong:20150214T000000
DTSTAMP:20260420T132046
CREATED:20250910T013046Z
LAST-MODIFIED:20250910T214646Z
UID:10011402-1423850400-1423872000@www.bcmagazine.net
SUMMARY:Hong Kong International Horse Show
DESCRIPTION:  \nHong Kong International Horse Show\nWhen: 30 January – 1 February\, 2025\nWhere: AsiaWorld-Expo\nHow Much:\n30 January: $40\,000\, $1\,000\, $700\n31 January\, 1 February: $40\,000\, $1\,199\, $959
URL:https://www.bcmagazine.net/event/hong-kong-international-horse-show/
LOCATION:AsiaWorld-Expo\, Cheong Wing Road\, Chek Lap Kok\, Lantau\, Hong Kong
CATEGORIES:2025,Sport
ATTACH;FMTTYPE=image/jpeg:https://www.bcmagazine.net/wp-content/uploads/2015/01/LHKIHS_HKJC-National-Jumping.jpg
GEO:22.3217383;113.9402012
X-APPLE-STRUCTURED-LOCATION;VALUE=URI;X-ADDRESS=AsiaWorld-Expo Cheong Wing Road Chek Lap Kok Lantau Hong Kong;X-APPLE-RADIUS=500;X-TITLE=Cheong Wing Road\, Chek Lap Kok:geo:113.9402012,22.3217383
END:VEVENT
BEGIN:VEVENT
DTSTART;TZID=Asia/Hong_Kong:20150213T200000
DTEND;TZID=Asia/Hong_Kong:20150213T220000
DTSTAMP:20260420T132046
CREATED:20150110T013801Z
LAST-MODIFIED:20150116T014032Z
UID:10005525-1423857600-1423864800@www.bcmagazine.net
SUMMARY:Le Placard - 11-14 February\, 2015
DESCRIPTION:A French comedy by Francis Veber with simplified English surtitles \nLe Placard\nWhen: 8pm\, 11-14 February\, 2014\nWhere: French International School\, Auditorium\, 34 Price Road\, Jardines Lookout\, Hong Kong\nHow much: $300\, $250\, $200\nMore info: www.hkta.org.hk
URL:https://www.bcmagazine.net/event/le-placard-11-14-february-2015-3/
LOCATION:French International School: Auditorium\, 34 Price Road\, Jardine's Lookout\, Hong Kong
CATEGORIES:Performing Arts,Theatre
ORGANIZER;CN="Hong Kong Theatre Association Limited":MAILTO:info [at] hkta.org.hk
GEO:22.2645115;114.1912046
X-APPLE-STRUCTURED-LOCATION;VALUE=URI;X-ADDRESS=French International School: Auditorium 34 Price Road Jardine's Lookout Hong Kong;X-APPLE-RADIUS=500;X-TITLE=34 Price Road:geo:114.1912046,22.2645115
END:VEVENT
END:VCALENDAR