BEGIN:VCALENDAR
VERSION:2.0
PRODID:-//bc magazine - ECPv6.15.20//NONSGML v1.0//EN
CALSCALE:GREGORIAN
METHOD:PUBLISH
X-WR-CALNAME:bc magazine
X-ORIGINAL-URL:https://www.bcmagazine.net
X-WR-CALDESC:Events for bc magazine
REFRESH-INTERVAL;VALUE=DURATION:PT1H
X-Robots-Tag:noindex
X-PUBLISHED-TTL:PT1H
BEGIN:VTIMEZONE
TZID:Asia/Hong_Kong
BEGIN:STANDARD
TZOFFSETFROM:+0800
TZOFFSETTO:+0800
TZNAME:HKT
DTSTART:20140101T000000
END:STANDARD
END:VTIMEZONE
BEGIN:VEVENT
DTSTART;VALUE=DATE:20150402
DTEND;VALUE=DATE:20150406
DTSTAMP:20260420T041404
CREATED:20150302T041934Z
LAST-MODIFIED:20150402T042509Z
UID:10005623-1427932800-1428278399@www.bcmagazine.net
SUMMARY:The Smurfs Live on Stage – Smurfs Save Spring @ Lyric Theatre\, HKAPA - 2-5 April\, 2015
DESCRIPTION:The Smurfs Live on Stage – Smurfs Save Spring\nWhen: 2-5 April\, 2015\n2 Apr 2015 (Thu) at 7pm\n3 Apr 2015 (Fri) at 11am\, 3pm & 7pm\n4 Apr 2015 (Sat) at 11am\, 3pm & 7pm\n5 Apr 2015 (Sun) at 11am\, 3pm & 7pm\nWhere: Lyric Theatre\, HKAPA\nTickets: $688\, $588\, $488\, $350\, $250 from HK Ticketing
URL:https://www.bcmagazine.net/event/the-smurfs-live-on-stage-smurfs-save-spring-lyric-theatre-hkapa-2-5-april-2015/
LOCATION:HKAPA: Lyric Theatre\, 1 Gloucester Road\, Wanchai\, Hong Kong
CATEGORIES:Performing Arts,Theatre
GEO:22.2801854;114.1695054
X-APPLE-STRUCTURED-LOCATION;VALUE=URI;X-ADDRESS=HKAPA: Lyric Theatre 1 Gloucester Road Wanchai Hong Kong;X-APPLE-RADIUS=500;X-TITLE=1 Gloucester Road:geo:114.1695054,22.2801854
END:VEVENT
BEGIN:VEVENT
DTSTART;VALUE=DATE:20150403
DTEND;VALUE=DATE:20150406
DTSTAMP:20260420T041404
CREATED:20150310T005334Z
LAST-MODIFIED:20150319T005436Z
UID:10005641-1428019200-1428278399@www.bcmagazine.net
SUMMARY:HKJC Community Festival @ Shatin Racecourse - 3-5 April\, 2015
DESCRIPTION:One of many events the Hong Kong Jockey Club is hosting as part of it’s 130th Anniversary celebrations is a Community Festival. The free entry event will be held at Sha Tin Racecourse and Penfold Park during Easter from 3 to 5 April\, 2015. The festival will feature a wide array of performances\, edutaining activities\, family games\, two Guinness World Record attempts\, fitness and football clinics and a wide range of dining choices. \nTickets are free via registration\, with a daily quota of 10\,000.
URL:https://www.bcmagazine.net/event/hkjc-community-festival-shatin-racecourse-3-5-april-2015/
LOCATION:Sha Tin Racecourse\, Sha Tin\, Hong Kong
CATEGORIES:Food,Sport
END:VEVENT
BEGIN:VEVENT
DTSTART;VALUE=DATE:20150403
DTEND;VALUE=DATE:20150407
DTSTAMP:20260420T041404
CREATED:20150302T042605Z
LAST-MODIFIED:20150402T043319Z
UID:10005624-1428019200-1428364799@www.bcmagazine.net
SUMMARY:Sesame Street Live: “Elmo Makes Music” @ Star Hall - 3-6 April\, 2015
DESCRIPTION:Sesame Street Live: “Elmo Makes Music”\nWhen: 3-6 April\, 2015\n3 Apr 2015 (Fri) at 2:30pm & 5:30pm\n4 Apr 2015 (Sat) at11:00am\, 2:30pm & 5:30pm\n5 Apr 2015 (Sun) at 11:00am\n6 Apr 2015 (Mon) at 11:00am\nWhere: Star Hall\nTickets: $690\, $600\, $450\, $350\, $250\, $150 from HK Ticketing
URL:https://www.bcmagazine.net/event/sesame-street-live-elmo-makes-music-star-hall-3-6-april-2015/
LOCATION:KITEC\, Star Hall\, KITEC\, 1 Trademart Drive\, Kowloon Bay\, Hong Kong
CATEGORIES:concert,Music,Performing Arts,Theatre
GEO:22.3239575;114.2037608
X-APPLE-STRUCTURED-LOCATION;VALUE=URI;X-ADDRESS=KITEC Star Hall KITEC 1 Trademart Drive Kowloon Bay Hong Kong;X-APPLE-RADIUS=500;X-TITLE=KITEC\, 1 Trademart Drive:geo:114.2037608,22.3239575
END:VEVENT
BEGIN:VEVENT
DTSTART;TZID=Asia/Hong_Kong:20150404T140000
DTEND;TZID=Asia/Hong_Kong:20150404T170000
DTSTAMP:20260420T041404
CREATED:20150313T072543Z
LAST-MODIFIED:20150313T080349Z
UID:10005651-1428156000-1428166800@www.bcmagazine.net
SUMMARY:Red Bull X Fighters Jams
DESCRIPTION:The freestyle motocross event Hong Kong X-Fighters Jams on April 4th will showcase 4 top riders Gilles Dejong (Belgium)\, Marcin Lukaszczyk (Poland)\, Marcus Dubois (Sweden) and Nick Franklin (New Zealand). \nRed Bull X Fighters Jams\nWhen: 2pm\, 4 April\, 2015 (Saturday)\nWhere: Central Harbourfront Event Space\nTickets: free admission\, no ticket required.\nMore info: www.redbull.hk/xfighersjams
URL:https://www.bcmagazine.net/event/red-bull-x-fighters-jams/
LOCATION:Central Harbourfront\,  9 Lung Wo Road\, Central\, Hong Kong
CATEGORIES:Sport
GEO:22.2826223;114.164346
X-APPLE-STRUCTURED-LOCATION;VALUE=URI;X-ADDRESS=Central Harbourfront  9 Lung Wo Road Central Hong Kong;X-APPLE-RADIUS=500;X-TITLE=9 Lung Wo Road:geo:114.164346,22.2826223
END:VEVENT
BEGIN:VEVENT
DTSTART;TZID=Asia/Hong_Kong:20150404T160000
DTEND;TZID=Asia/Hong_Kong:20150404T170000
DTSTAMP:20260420T041404
CREATED:20150105T230713Z
LAST-MODIFIED:20150105T230713Z
UID:10005500-1428163200-1428166800@www.bcmagazine.net
SUMMARY:International Pillow Fight Day 2015
DESCRIPTION:Bring your own pillow and join in the fun of International Pillow Fight Day
URL:https://www.bcmagazine.net/event/international-pillow-fight-day-2015/
LOCATION:Chater Garden\, Central\, Hong Kong
CATEGORIES:Sport
END:VEVENT
BEGIN:VEVENT
DTSTART;TZID=Asia/Hong_Kong:20150404T200000
DTEND;TZID=Asia/Hong_Kong:20150404T230000
DTSTAMP:20260420T041404
CREATED:20150306T162344Z
LAST-MODIFIED:20150321T163007Z
UID:10005637-1428177600-1428188400@www.bcmagazine.net
SUMMARY:Acidman @ Music Zone@E-Max - 4 April\, 2015
DESCRIPTION:Acidman\nWhen: 8pm\, 4 April\, 2015\nWhere: Music Zone@E-Max\nTickets: $480 from TixEasy
URL:https://www.bcmagazine.net/event/acidman-music-zonee-max-4-april-2015/
LOCATION:KITEC\, Music Zone@E-Max\, KITEC\,‎ 1 Trademart Drive\, Kowloon Bay\, Hong Kong
CATEGORIES:Concert,concert,Music
GEO:22.3239575;114.2037608
X-APPLE-STRUCTURED-LOCATION;VALUE=URI;X-ADDRESS=KITEC Music Zone@E-Max KITEC‎ 1 Trademart Drive Kowloon Bay Hong Kong;X-APPLE-RADIUS=500;X-TITLE=KITEC\,‎ 1 Trademart Drive:geo:114.2037608,22.3239575
END:VEVENT
BEGIN:VEVENT
DTSTART;TZID=Asia/Hong_Kong:20150404T200000
DTEND;TZID=Asia/Hong_Kong:20150404T230000
DTSTAMP:20260420T041404
CREATED:20150403T043416Z
LAST-MODIFIED:20150402T043913Z
UID:10005705-1428177600-1428188400@www.bcmagazine.net
SUMMARY:Sam Hui "What a Wonderful World" 2015 @ Venetian Macau - 4 April\, 2015
DESCRIPTION:Sam Hui “What a Wonderful World” 2015\nWhen: 8pm\, 4 April\, 2015\nWhere: CotaiArena\, Venetian Macau\nTickets: $1080\, $880\, $680\, $480\, $280 from HK Ticketing
URL:https://www.bcmagazine.net/event/sam-hui-what-a-wonderful-world-2015-venetian-macau-4-april-2015/
LOCATION:CotaiArena\, Venetian Macao\, Taipa\, Macau
CATEGORIES:Concert,Macau,Music
GEO:22.1483528;113.5602019
X-APPLE-STRUCTURED-LOCATION;VALUE=URI;X-ADDRESS=CotaiArena Venetian Macao Taipa Macau;X-APPLE-RADIUS=500;X-TITLE=Venetian Macao:geo:113.5602019,22.1483528
END:VEVENT
END:VCALENDAR