BEGIN:VCALENDAR
VERSION:2.0
PRODID:-//bc magazine - ECPv6.15.20//NONSGML v1.0//EN
CALSCALE:GREGORIAN
METHOD:PUBLISH
X-ORIGINAL-URL:https://www.bcmagazine.net
X-WR-CALDESC:Events for bc magazine
REFRESH-INTERVAL;VALUE=DURATION:PT1H
X-Robots-Tag:noindex
X-PUBLISHED-TTL:PT1H
BEGIN:VTIMEZONE
TZID:Asia/Hong_Kong
BEGIN:STANDARD
TZOFFSETFROM:+0800
TZOFFSETTO:+0800
TZNAME:HKT
DTSTART:20140101T000000
END:STANDARD
END:VTIMEZONE
BEGIN:VEVENT
DTSTART;VALUE=DATE:20150526
DTEND;VALUE=DATE:20150601
DTSTAMP:20260420T052909
CREATED:20150427T010712Z
LAST-MODIFIED:20160307T041828Z
UID:10005787-1432598400-1433116799@www.bcmagazine.net
SUMMARY:The Imaginary Invalid @ HK City Hall Theatre - 16-31 May\, 2015
DESCRIPTION:The Imaginary Invalid\nHong Kong Repertory Theatre\nDate: 16-31 May\, 2015\nVenue: HK City Hall Theatre\nTickets: $280\, $240\, $180 ($260\, $220\, $160 Weekday Special)\nMore info:\n16\, 19-23\, 26-30 May 2015 – 7:45pm\n17\, 23-24\, 30-31 May 2015 – 2:45pm
URL:https://www.bcmagazine.net/event/the-imaginary-invalid-hk-city-hall-theatre-16-31-may-2015-3/
LOCATION:HK City Hall\, Theatre\, 5 Edinburgh Place\, Central\, Hong Kong
CATEGORIES:Performing Arts,Theatre
GEO:22.2822646;114.1615275
X-APPLE-STRUCTURED-LOCATION;VALUE=URI;X-ADDRESS=HK City Hall Theatre 5 Edinburgh Place Central Hong Kong;X-APPLE-RADIUS=500;X-TITLE=5 Edinburgh Place:geo:114.1615275,22.2822646
END:VEVENT
BEGIN:VEVENT
DTSTART;VALUE=DATE:20150528
DTEND;VALUE=DATE:20150531
DTSTAMP:20260420T052909
CREATED:20150405T055235Z
LAST-MODIFIED:20150505T055520Z
UID:10005716-1432771200-1433030399@www.bcmagazine.net
SUMMARY:Albert Au & Friends in Concert - 28-30 May\, 2015
DESCRIPTION:Albert Au & Friends in Concert 2015\nDate: 8pm\, 28-30 May\, 2015\nVenue: Queen Elizabeth Stadium\, Arena\nTickets: $580\, $480\, $380\, $280\, $180 from URBTIX
URL:https://www.bcmagazine.net/event/albert-au-friends-in-concert-28-30-may-2015/
LOCATION:Queen Elizabeth Stadium\, 18 Oi Kwan Road\, Wanchai\, Hong Kong
CATEGORIES:2015,Concert,concert,Music,Performing Arts
GEO:22.2751271;114.1789682
X-APPLE-STRUCTURED-LOCATION;VALUE=URI;X-ADDRESS=Queen Elizabeth Stadium 18 Oi Kwan Road Wanchai Hong Kong;X-APPLE-RADIUS=500;X-TITLE=18 Oi Kwan Road:geo:114.1789682,22.2751271
END:VEVENT
BEGIN:VEVENT
DTSTART;TZID=Asia/Hong_Kong:20150528T200000
DTEND;TZID=Asia/Hong_Kong:20150528T230000
DTSTAMP:20260420T052909
CREATED:20150412T062222Z
LAST-MODIFIED:20150512T062244Z
UID:10005741-1432843200-1432854000@www.bcmagazine.net
SUMMARY:Brigitte
DESCRIPTION:Brigitte\nDate: 8pm 23 May\, 2015\nVenue: The Hong Kong Jockey Club Amphitheatre\, HKAPA\nTickets: $380\, $280\, $180\, $100 from HKTicketing
URL:https://www.bcmagazine.net/event/brigitte/
LOCATION:HKAPA: Jockey Club Amphitheatre\, 1 Gloucester Road\, Wanchai\, Hong Kong
CATEGORIES:2015,Concert,concert,Music,Performing Arts
GEO:22.2801854;114.1695054
X-APPLE-STRUCTURED-LOCATION;VALUE=URI;X-ADDRESS=HKAPA: Jockey Club Amphitheatre 1 Gloucester Road Wanchai Hong Kong;X-APPLE-RADIUS=500;X-TITLE=1 Gloucester Road:geo:114.1695054,22.2801854
END:VEVENT
END:VCALENDAR