BEGIN:VCALENDAR
VERSION:2.0
PRODID:-//bc magazine - ECPv6.15.20//NONSGML v1.0//EN
CALSCALE:GREGORIAN
METHOD:PUBLISH
X-WR-CALNAME:bc magazine
X-ORIGINAL-URL:https://www.bcmagazine.net
X-WR-CALDESC:Events for bc magazine
REFRESH-INTERVAL;VALUE=DURATION:PT1H
X-Robots-Tag:noindex
X-PUBLISHED-TTL:PT1H
BEGIN:VTIMEZONE
TZID:Asia/Hong_Kong
BEGIN:STANDARD
TZOFFSETFROM:+0800
TZOFFSETTO:+0800
TZNAME:HKT
DTSTART:20140101T000000
END:STANDARD
END:VTIMEZONE
BEGIN:VEVENT
DTSTART;VALUE=DATE:20150626
DTEND;VALUE=DATE:20150907
DTSTAMP:20260420T051808
CREATED:20150601T044539Z
LAST-MODIFIED:20150810T054010Z
UID:10005938-1435276800-1441583999@www.bcmagazine.net
SUMMARY:Lai Yuen Carnival
DESCRIPTION:Lai Yuen Carnival\nDate: 11am-11pm\, 26 June – September\, 2015\nVenue: Central Harbourfront\nTickets: Free entry
URL:https://www.bcmagazine.net/event/lai-yuen-amusement-park/
LOCATION:Central Harbourfront\,  9 Lung Wo Road\, Central\, Hong Kong
CATEGORIES:2015,Free
GEO:22.2826223;114.164346
X-APPLE-STRUCTURED-LOCATION;VALUE=URI;X-ADDRESS=Central Harbourfront  9 Lung Wo Road Central Hong Kong;X-APPLE-RADIUS=500;X-TITLE=9 Lung Wo Road:geo:114.164346,22.2826223
END:VEVENT
BEGIN:VEVENT
DTSTART;VALUE=DATE:20150903
DTEND;VALUE=DATE:20150907
DTSTAMP:20260420T051808
CREATED:20150209T042302Z
LAST-MODIFIED:20150809T042941Z
UID:10005583-1441238400-1441583999@www.bcmagazine.net
SUMMARY:The Love Story of Gentlemen Street
DESCRIPTION:The Love Story of Gentlemen Street\nLive Theatre\nWhen: 3-6 September\, 2015\nWhere: HK Cultural Centre\, Studio Theatre\nTickets: $280\, $260\, $240\, $220 from Urbtix\nMore info:\n3-5 September – 8pm\n5-6 September – 3pm
URL:https://www.bcmagazine.net/event/the-love-story-of-gentlemen-street/
LOCATION:HK Cultural Centre\, Studio Theatre\, 10 Salisbury Road\, Tsim Sha Tsui\, Hong Kong
CATEGORIES:2015,Performing Arts,Theatre,Theatre
END:VEVENT
BEGIN:VEVENT
DTSTART;VALUE=DATE:20150904
DTEND;VALUE=DATE:20150907
DTSTAMP:20260420T051808
CREATED:20150507T155003Z
LAST-MODIFIED:20150511T161554Z
UID:10004780-1441324800-1441583999@www.bcmagazine.net
SUMMARY:Globe to Globe: Hamlet
DESCRIPTION:Globe to Globe: Hamlet\nShakespeare’s Globe\nDate: 4-6 September\, 2015\nVenue: HKAPA\, Lyric Theatre\nTickets: $795\, $595\, $495\nMore info:\n4 September 2015 (Fri) at 7:30pm\n5 September 2015 (Sat) at 2:30pm & 7:30pm\n6 September 2015 (Sun) at 2:30pm & 7:30pm
URL:https://www.bcmagazine.net/event/globe-to-globe-hamlet/
LOCATION:HKAPA: Lyric Theatre\, 1 Gloucester Road\, Wanchai\, Hong Kong
CATEGORIES:2015,Performing Arts,Theatre
GEO:22.2801854;114.1695054
X-APPLE-STRUCTURED-LOCATION;VALUE=URI;X-ADDRESS=HKAPA: Lyric Theatre 1 Gloucester Road Wanchai Hong Kong;X-APPLE-RADIUS=500;X-TITLE=1 Gloucester Road:geo:114.1695054,22.2801854
END:VEVENT
BEGIN:VEVENT
DTSTART;VALUE=DATE:20150904
DTEND;VALUE=DATE:20150907
DTSTAMP:20260420T051808
CREATED:20150608T092237Z
LAST-MODIFIED:20150808T093101Z
UID:10005960-1441324800-1441583999@www.bcmagazine.net
SUMMARY:101010101010......
DESCRIPTION:101010101010……\nTroupe of Chance\nWhen: 4-6 September\, 2015\nWhere: Kwai Tsing Theatre\, Black Box Theatre\nTickets: $150 from Urbtix\nMore info:\n4-5 September – 8pm\n6 September- 3pm
URL:https://www.bcmagazine.net/event/101010101010/
LOCATION:Kwai Tsing Theatre\, Black Box Theatre\, 12 Hing Ning Road\, Kwai Chung\, Hong Kong
CATEGORIES:2015,Performing Arts,Theatre
GEO:22.3568224;114.126199
X-APPLE-STRUCTURED-LOCATION;VALUE=URI;X-ADDRESS=Kwai Tsing Theatre Black Box Theatre 12 Hing Ning Road Kwai Chung Hong Kong;X-APPLE-RADIUS=500;X-TITLE=12 Hing Ning Road:geo:114.126199,22.3568224
END:VEVENT
BEGIN:VEVENT
DTSTART;VALUE=DATE:20150904
DTEND;VALUE=DATE:20150907
DTSTAMP:20260420T051808
CREATED:20150609T030110Z
LAST-MODIFIED:20150809T030526Z
UID:10006002-1441324800-1441583999@www.bcmagazine.net
SUMMARY:Titus Andronicus 2.0
DESCRIPTION:Titus Andronicus 2.0\nTang Shu-wing Theatre Studio\nWhen: 4-6 September\, 2015\nWhere: HK City Hall\, Theatre\nTickets: $240\, $160 from Urbtix\nMore info:\n4-5 September – 8pm\n5 September – 3pm\n6 September – 5pm\nIn Cantonese
URL:https://www.bcmagazine.net/event/titus-andronicus-2-0/
LOCATION:HK City Hall\, Theatre\, 5 Edinburgh Place\, Central\, Hong Kong
CATEGORIES:2015,Performing Arts,Theatre
GEO:22.2822646;114.1615275
X-APPLE-STRUCTURED-LOCATION;VALUE=URI;X-ADDRESS=HK City Hall Theatre 5 Edinburgh Place Central Hong Kong;X-APPLE-RADIUS=500;X-TITLE=5 Edinburgh Place:geo:114.1615275,22.2822646
END:VEVENT
BEGIN:VEVENT
DTSTART;VALUE=DATE:20150904
DTEND;VALUE=DATE:20150907
DTSTAMP:20260420T051808
CREATED:20150609T044747Z
LAST-MODIFIED:20160911T084844Z
UID:10006007-1441324800-1441583999@www.bcmagazine.net
SUMMARY:Pinocchio
DESCRIPTION:Pinocchio\nHK Ballet\nWhen: 28-30 August\, 4-6 September 2015\nWhere: HK Cultural Centre\, Grand Theatre\nTickets: $1\,000\, $680\, $480\, $280\, $140 from Urbtix\nMore info:\n28-29 August – 7:30pm\n29 August – 2:30pm\n30 August – 1:30pm\n30 August – 6:30pm\n4-5 September – 7:30pm\n5 September – 2:30pm\n6 September – 1:30pm\n6 September – 6:30pm
URL:https://www.bcmagazine.net/event/pinocchio-2015/
LOCATION:HK Cultural Centre\, Grand Theatre\,\, 10 Salisbury Road\, Tsim Sha Tsui\, Hong Kong
CATEGORIES:2015,Dance,Performing Arts,Theatre
GEO:22.294318;114.171708
X-APPLE-STRUCTURED-LOCATION;VALUE=URI;X-ADDRESS=HK Cultural Centre Grand Theatre 10 Salisbury Road Tsim Sha Tsui Hong Kong;X-APPLE-RADIUS=500;X-TITLE=10 Salisbury Road:geo:114.171708,22.294318
END:VEVENT
BEGIN:VEVENT
DTSTART;TZID=Asia/Hong_Kong:20150906T150000
DTEND;TZID=Asia/Hong_Kong:20150906T170000
DTSTAMP:20260420T051808
CREATED:19150901T001747Z
LAST-MODIFIED:20150901T002031Z
UID:10000281-1441551600-1441558800@www.bcmagazine.net
SUMMARY:The Bassoonion
DESCRIPTION:The Bassoonion 10th Anniversary Concert\nDate: 3pm\, 6 September\, 2015\nVenue: HKAPA\, Concert Hall\nTickets: $180 from HKTicketing
URL:https://www.bcmagazine.net/event/the-bassoonion/
LOCATION:HKAPA\, Concert Hall\, 1 Gloucester Road\, Wanchai\, Hong Kong
CATEGORIES:2015,Concert,Music
GEO:22.2801854;114.1695054
X-APPLE-STRUCTURED-LOCATION;VALUE=URI;X-ADDRESS=HKAPA Concert Hall 1 Gloucester Road Wanchai Hong Kong;X-APPLE-RADIUS=500;X-TITLE=1 Gloucester Road:geo:114.1695054,22.2801854
END:VEVENT
BEGIN:VEVENT
DTSTART;TZID=Asia/Hong_Kong:20150906T193000
DTEND;TZID=Asia/Hong_Kong:20150906T220000
DTSTAMP:20260420T051808
CREATED:20150509T055702Z
LAST-MODIFIED:20150809T055955Z
UID:10004807-1441567800-1441576800@www.bcmagazine.net
SUMMARY:Voyage
DESCRIPTION:Voyage\nPonte Singers\nWhen: 6 September\, 2015\nWhere: HK City Hall\, Concert Hall\nTickets: $250\, $180\, $120 from Urbtix
URL:https://www.bcmagazine.net/event/voyage/
LOCATION:HK City Hall\, Concert Hall\,  5 Edinburgh Place\, Central\, Hong Kong
CATEGORIES:2015,Concert,Music
END:VEVENT
BEGIN:VEVENT
DTSTART;TZID=Asia/Hong_Kong:20150906T200000
DTEND;TZID=Asia/Hong_Kong:20150906T220000
DTSTAMP:20260420T051808
CREATED:20150608T110342Z
LAST-MODIFIED:20150808T110656Z
UID:10005971-1441569600-1441576800@www.bcmagazine.net
SUMMARY:Matthew Chin Violin Recital
DESCRIPTION:Matthew Chin Violin Recital\nHong Kong Virtuosos Music Association\nWhen: 8pm\, 6 September\, 2015\nWhere: Shatin Town Hall\, Cultural Activities Hall\nTickets: $180\, $120 from Urbtix
URL:https://www.bcmagazine.net/event/matthew-chin-violin-recital/
LOCATION:Shatin Town Hall\, Cultural Activities Hall\, 1 Yuen Wo Road\, Sha Tin\, Hong Kong
CATEGORIES:2015,Concert,Music
GEO:22.381264;114.189895
X-APPLE-STRUCTURED-LOCATION;VALUE=URI;X-ADDRESS=Shatin Town Hall Cultural Activities Hall 1 Yuen Wo Road Sha Tin Hong Kong;X-APPLE-RADIUS=500;X-TITLE=1 Yuen Wo Road:geo:114.189895,22.381264
END:VEVENT
END:VCALENDAR