BEGIN:VCALENDAR
VERSION:2.0
PRODID:-//bc magazine - ECPv6.15.20//NONSGML v1.0//EN
CALSCALE:GREGORIAN
METHOD:PUBLISH
X-WR-CALNAME:bc magazine
X-ORIGINAL-URL:https://www.bcmagazine.net
X-WR-CALDESC:Events for bc magazine
REFRESH-INTERVAL;VALUE=DURATION:PT1H
X-Robots-Tag:noindex
X-PUBLISHED-TTL:PT1H
BEGIN:VTIMEZONE
TZID:Asia/Hong_Kong
BEGIN:STANDARD
TZOFFSETFROM:+0800
TZOFFSETTO:+0800
TZNAME:HKT
DTSTART:20140101T000000
END:STANDARD
END:VTIMEZONE
BEGIN:VEVENT
DTSTART;VALUE=DATE:20150908
DTEND;VALUE=DATE:20150912
DTSTAMP:20260420T051833
CREATED:20150708T055631Z
LAST-MODIFIED:20150808T055925Z
UID:10006050-1441670400-1442015999@www.bcmagazine.net
SUMMARY:Classic Hong Kong
DESCRIPTION:Classic Hong Kong\nDate: 8:15pm\, 8-11 September\, 2015\nVenue: Queen Elizabeth Stadium\, Arena\nTickets: $380\, $200 from Urbtix
URL:https://www.bcmagazine.net/event/classic-hong-kong/
LOCATION:Queen Elizabeth Stadium\, 18 Oi Kwan Road\, Wanchai\, Hong Kong
CATEGORIES:2015,Concert,Music
GEO:22.2751271;114.1789682
X-APPLE-STRUCTURED-LOCATION;VALUE=URI;X-ADDRESS=Queen Elizabeth Stadium 18 Oi Kwan Road Wanchai Hong Kong;X-APPLE-RADIUS=500;X-TITLE=18 Oi Kwan Road:geo:114.1789682,22.2751271
END:VEVENT
BEGIN:VEVENT
DTSTART;TZID=Asia/Hong_Kong:20150908T190000
DTEND;TZID=Asia/Hong_Kong:20150908T230000
DTSTAMP:20260420T051833
CREATED:19990825T072613Z
LAST-MODIFIED:20150825T073029Z
UID:10005352-1441738800-1441753200@www.bcmagazine.net
SUMMARY:Tracing Roots
DESCRIPTION:Good Music @ The Fringe: Tracing Roots\nHK Sinfonietta\nWhen: 7pm\, 8 September\, 2015\nWhere: Fringe Dairy\, Fringe Club\nTickets: $150
URL:https://www.bcmagazine.net/event/tracing-roots/
LOCATION:Fringe Club\, Fringe Dairy\, Central\, Hong Kong
CATEGORIES:2015,concert,Music,Performing Arts
END:VEVENT
BEGIN:VEVENT
DTSTART;TZID=Asia/Hong_Kong:20150908T200000
DTEND;TZID=Asia/Hong_Kong:20150908T220000
DTSTAMP:20260420T051833
CREATED:20150608T103731Z
LAST-MODIFIED:20150808T105123Z
UID:10005969-1441742400-1441749600@www.bcmagazine.net
SUMMARY:Cellistra with Colin Carr
DESCRIPTION:Cellistra with Colin Carr\nHong Kong International Cello Association\nWhen: 8pm\, 8 September\, 2015\nWhere: Sha Tin Town Hall\, Auditorium\nTickets: $250\, $180\, $120 from Urbtix
URL:https://www.bcmagazine.net/event/cellistra-with-colin-carr/
LOCATION:Shatin Town Hall\, Auditorium\, Shatin\, Hong Kong
CATEGORIES:2015,Concert,Music
END:VEVENT
BEGIN:VEVENT
DTSTART;TZID=Asia/Hong_Kong:20150908T200000
DTEND;TZID=Asia/Hong_Kong:20150908T230000
DTSTAMP:20260420T051833
CREATED:20150209T042026Z
LAST-MODIFIED:20150809T042246Z
UID:10005582-1441742400-1441753200@www.bcmagazine.net
SUMMARY:Nelson Freire
DESCRIPTION:Encore Series: Piano Recital by Nelson Freire\nWhen: 8pm\, 8 September\, 2015\nWhere: HK Cultural Centre\, Concert Hall\nTickets: $420\, $320\, $220\, $150 from Urbtix
URL:https://www.bcmagazine.net/event/nelson-freire/
LOCATION:HK Cultural Centre\, Concert Hall\, 10 Salisbury Road\, Tsim Sha Tsui\, Hong Kong
CATEGORIES:2015,Concert,concert,Music,Performing Arts
GEO:22.294318;114.171708
X-APPLE-STRUCTURED-LOCATION;VALUE=URI;X-ADDRESS=HK Cultural Centre Concert Hall 10 Salisbury Road Tsim Sha Tsui Hong Kong;X-APPLE-RADIUS=500;X-TITLE=10 Salisbury Road:geo:114.171708,22.294318
END:VEVENT
BEGIN:VEVENT
DTSTART;TZID=Asia/Hong_Kong:20150908T200000
DTEND;TZID=Asia/Hong_Kong:20150908T230000
DTSTAMP:20260420T051833
CREATED:20150609T025847Z
LAST-MODIFIED:20150809T030049Z
UID:10006001-1441742400-1441753200@www.bcmagazine.net
SUMMARY:Donald Cheung
DESCRIPTION:Donald Cheung\nCultural Stage Creation Centre\nWhen: 8pm\, 8 September\, 2015\nWhere: HK City Hall\, Concert Hall\nTickets: $380\, $280\, $180 from Urbtix
URL:https://www.bcmagazine.net/event/donald-cheung-2/
LOCATION:HK City Hall\, Concert Hall\,  5 Edinburgh Place\, Central\, Hong Kong
CATEGORIES:2015,concert,Performing Arts
END:VEVENT
BEGIN:VEVENT
DTSTART;TZID=Asia/Hong_Kong:20150908T200000
DTEND;TZID=Asia/Hong_Kong:20150908T230000
DTSTAMP:20260420T051833
CREATED:20150624T101617Z
LAST-MODIFIED:20150625T015236Z
UID:10006031-1441742400-1441753200@www.bcmagazine.net
SUMMARY:Hong Kong v Qatar
DESCRIPTION:http://bcmagazine.smugmug.com/Bcene-photos/2015/Hong-Kong-v-Bhutan-Mongkok2015/49874690_PTCPpt#!i=4124735254&k=4BkR6xF \nTickets for the third home game in Hong Kong’s World Cup qualification campaign against Qatar at Mongkok Stadium on the 8 September go on sale on the 3 July from Cityline price $130. \nThere are currently no ticket details for the Hong Kong v China game on 17 November – although it expected that the game will take place at the HK Stadium\, subject to LCSD approval. \n \nHong Kong v Qatar\nWorld Cup Qualifier\nDate: 8pm\, 8 September\, 2015\nVenue: Mongkok Stadium\nTickets: $130 – on sale 3 July from Cityline
URL:https://www.bcmagazine.net/event/hong-kong-v-qatar/
LOCATION:Mongkok Stadium\, 37 Flower Street\, Yau Ma Tai\, Prince Edward (Exit A)\, United States
CATEGORIES:2015,Football,Sport
END:VEVENT
END:VCALENDAR