BEGIN:VCALENDAR
VERSION:2.0
PRODID:-//bc magazine - ECPv6.15.20//NONSGML v1.0//EN
CALSCALE:GREGORIAN
METHOD:PUBLISH
X-WR-CALNAME:bc magazine
X-ORIGINAL-URL:https://www.bcmagazine.net
X-WR-CALDESC:Events for bc magazine
REFRESH-INTERVAL;VALUE=DURATION:PT1H
X-Robots-Tag:noindex
X-PUBLISHED-TTL:PT1H
BEGIN:VTIMEZONE
TZID:Asia/Hong_Kong
BEGIN:STANDARD
TZOFFSETFROM:+0800
TZOFFSETTO:+0800
TZNAME:HKT
DTSTART:20140101T000000
END:STANDARD
END:VTIMEZONE
BEGIN:VEVENT
DTSTART;VALUE=DATE:20150908
DTEND;VALUE=DATE:20150912
DTSTAMP:20260420T115228
CREATED:20150708T055631Z
LAST-MODIFIED:20150808T055925Z
UID:10006050-1441670400-1442015999@www.bcmagazine.net
SUMMARY:Classic Hong Kong
DESCRIPTION:Classic Hong Kong\nDate: 8:15pm\, 8-11 September\, 2015\nVenue: Queen Elizabeth Stadium\, Arena\nTickets: $380\, $200 from Urbtix
URL:https://www.bcmagazine.net/event/classic-hong-kong/
LOCATION:Queen Elizabeth Stadium\, 18 Oi Kwan Road\, Wanchai\, Hong Kong
CATEGORIES:2015,Concert,Music
GEO:22.2751271;114.1789682
X-APPLE-STRUCTURED-LOCATION;VALUE=URI;X-ADDRESS=Queen Elizabeth Stadium 18 Oi Kwan Road Wanchai Hong Kong;X-APPLE-RADIUS=500;X-TITLE=18 Oi Kwan Road:geo:114.1789682,22.2751271
END:VEVENT
BEGIN:VEVENT
DTSTART;VALUE=DATE:20150910
DTEND;VALUE=DATE:20150912
DTSTAMP:20260420T115228
CREATED:20150609T041646Z
LAST-MODIFIED:20150809T042014Z
UID:10006005-1441843200-1442015999@www.bcmagazine.net
SUMMARY:Jingkun Opera
DESCRIPTION:Jingkun Opera\nShanghai Opera Association (Hong Kong)\nWhen: 7:30pm\, 10-11 September\, 2015\nWhere: HK Cultural Centre\, Grand Theatre\nTickets: $320\, $220\, $120 from Urbtix
URL:https://www.bcmagazine.net/event/jingkun-opera/
LOCATION:HK Cultural Centre\, Grand Theatre\,\, 10 Salisbury Road\, Tsim Sha Tsui\, Hong Kong
CATEGORIES:2015,Cantonese Opera,Music,Performing Arts
GEO:22.294318;114.171708
X-APPLE-STRUCTURED-LOCATION;VALUE=URI;X-ADDRESS=HK Cultural Centre Grand Theatre 10 Salisbury Road Tsim Sha Tsui Hong Kong;X-APPLE-RADIUS=500;X-TITLE=10 Salisbury Road:geo:114.171708,22.294318
END:VEVENT
BEGIN:VEVENT
DTSTART;VALUE=DATE:20150911
DTEND;VALUE=DATE:20150913
DTSTAMP:20260420T115228
CREATED:20150707T034605Z
LAST-MODIFIED:20150807T035012Z
UID:10005040-1441929600-1442102399@www.bcmagazine.net
SUMMARY:Jokes From A Small Island
DESCRIPTION:Jokes From A Small Island\nNick Milnes\nDate: 8pm\, 11-12 September\, 2015\nVenue: Fringe Club\, Fringe Upstairs\nTickets: $150 from HKTicketing
URL:https://www.bcmagazine.net/event/jokes-from-a-small-island/
LOCATION:Fringe Club\, Fringe Upstairs\, Central\, Hong Kong
CATEGORIES:2015,Comedy,Performing Arts
END:VEVENT
BEGIN:VEVENT
DTSTART;VALUE=DATE:20150911
DTEND;VALUE=DATE:20150914
DTSTAMP:20260420T115228
CREATED:20150708T091518Z
LAST-MODIFIED:20150808T092541Z
UID:10005037-1441929600-1442188799@www.bcmagazine.net
SUMMARY:Fei Sheung Lan Kek
DESCRIPTION:Fei Sheung Lan Kek (Re-Run)\nDramaddict\nWhen: 11-13 September\nWhere: Kwai Tsing Theatre\, Black Box Theatre\nTickets: $180 from Urbtix\nMore info:\n11-12 September – 8pm\n12-13 September- 3pm
URL:https://www.bcmagazine.net/event/fei-sheung-lan-kek/
LOCATION:Kwai Tsing Theatre\, Black Box Theatre\, 12 Hing Ning Road\, Kwai Chung\, Hong Kong
CATEGORIES:2015,Performing Arts,Theatre
GEO:22.3568224;114.126199
X-APPLE-STRUCTURED-LOCATION;VALUE=URI;X-ADDRESS=Kwai Tsing Theatre Black Box Theatre 12 Hing Ning Road Kwai Chung Hong Kong;X-APPLE-RADIUS=500;X-TITLE=12 Hing Ning Road:geo:114.126199,22.3568224
END:VEVENT
BEGIN:VEVENT
DTSTART;VALUE=DATE:20150911
DTEND;VALUE=DATE:20150923
DTSTAMP:20260420T115228
CREATED:20150804T062356Z
LAST-MODIFIED:20150808T063638Z
UID:10006063-1441929600-1442966399@www.bcmagazine.net
SUMMARY:Hacken Lee & Joey Yung
DESCRIPTION:Hacken Lee & Joey Yung\nDate:  8:15pm\, 11-22 September\, 2015\nVenue: HK Coliseum\nTickets: $780\, $480\, $280 from Urbtix\nMore info: extra dates announced
URL:https://www.bcmagazine.net/event/780-480-280/
LOCATION:Hong Kong
CATEGORIES:2015,Concert,Music
END:VEVENT
END:VCALENDAR