BEGIN:VCALENDAR
VERSION:2.0
PRODID:-//bc magazine - ECPv6.15.20//NONSGML v1.0//EN
CALSCALE:GREGORIAN
METHOD:PUBLISH
X-WR-CALNAME:bc magazine
X-ORIGINAL-URL:https://www.bcmagazine.net
X-WR-CALDESC:Events for bc magazine
REFRESH-INTERVAL;VALUE=DURATION:PT1H
X-Robots-Tag:noindex
X-PUBLISHED-TTL:PT1H
BEGIN:VTIMEZONE
TZID:Asia/Hong_Kong
BEGIN:STANDARD
TZOFFSETFROM:+0800
TZOFFSETTO:+0800
TZNAME:HKT
DTSTART:20140101T000000
END:STANDARD
END:VTIMEZONE
BEGIN:VEVENT
DTSTART;VALUE=DATE:20150918
DTEND;VALUE=DATE:20150927
DTSTAMP:20260420T052739
CREATED:20150807T030822Z
LAST-MODIFIED:20150807T041553Z
UID:10006066-1442534400-1443311999@www.bcmagazine.net
SUMMARY:HK Tap Festival 2015
DESCRIPTION:Hong Kong Tap Festival 2015\n18-26 September 2015\nHonorary Advisor: Mandy Petty \nRONxll (Hisao Ogatsu)\, who is regarded as one of the greatest tappers in Japan\, is the Hong Kong Tap festival’s featured guest tapper. RONxll style is characterised by his great skill and dexterity. He has performed on many stages and in various movies\, including his role as the choreographer and dancer in Zatoichi\, directed by the well-known Japanese director Takeshi Kitano. In the movie RONxll astonishes the audience with a unique style of tap dancing wearing traditional Japanese wooden clogs. He’s also performed and participated in numerous tap shows and tap festivals\, including Noise & Funk\, a Broadway musical directed and choreographed by the tap master Savion Glover; Human Rhythm Project of Chicago Tap Festival; REVO TRAP Live at Hyogo Performing Arts Center; Tap Together of Taipei Tap Festival. \nThe Hong Kong Tap Festival 2015 (HKTF 2015) also presents guest workshop for tap dance lovers to join. There will be 15 classes in 3 consecutive days at CCDC Dance Centre\, taught by three Japanese tap masters. Students can learn from the Festival’s featured guests\, taking glimpses into their dancing and teaching. Aspire to enhance your understanding and knowledge of the global trend in tap dance? It’s something you shouldn’t miss! \nGala Performances: Beat Me Tap\nVenue: Sai Wan Ho Civic Centre Theatre\nDate and time:\n25/09/2015 (Fri五) 8pm#\n26/09//2015 (Sat六) 3pm\n26/09/2015 (Sat六) 8pm\nTicket Price : $180\, $140* \n#Meet-the-artist session on 25 Sept.\n*Discount tickets available for senior citizens aged 60 or above\, people with disabilities and the minder and full-time students. \nGuest Tappers/Choreographers:\nRONxII (Hisao Ogatsu) (JP)\nPORI (Yuta Hori) (JP)\nton (Tomomi Kodota) (JP)\nDance Works (TW)\nHou-jiung “Little Eyes” Chen (TW) \nLocal Tappers/Choreographers:\nKen Kwok\, Eve Leung\, Tan- ki Wong\, Calvin Tang\, Marix Ho\, To Chan\, Rex Chiu\, The Autistic Genius\, Ani Wan\, Vanessa Lee \nPresented by: R&T (Rhythm & Tempo)\nArtistic Director: Ken Kwok\nProducer: Chi-wing Wong\nLive Band: Patrick Lui\nTechnical Director: Benny Shaw\nDeputy Stage Manager: Adonic Lo\nAssistant Stage Manager: Gary Cheung\nSound Designer: CanDog\nLighting Designer: Adonic Lo\nGraphic Designer: Wing-suet Lo\nVideo: C.PRODUCTION HOUSE\nTicketing: Man-yan Ho \nTickets are NOW available at URBTIX\nProgramme Enquiries: 6804 6297\nTicketing Enquiries: 3761 6661 (10am-8pm Daily)\nCredit Card Telephone Booking: 2111 5999\nInternet Booking: www.urbtix.hk\nMobile Ticketing App Booking: My URBTIX(Android and iPhone/iPad Versions) \n*Participants of age 6 or above are welcome.\n*The presenter reserves the right to substitute artists and change the programme should unavoidable circumstances make it necessary.\n*For information of other HKTF 2015 events including guest workshops\, sharing session and Fun Tap Jam\, please check out our other promotional materials.\nwww.facebook.com/HKTAPFEST \nwww.RNTTAP.com \n香港踢躂節2015\n18-26/09/2015\n榮譽顧問：敏迪貝蒂 \n大匯演＜拍・我・踢躂＞\n地點： 西灣河文娛中心劇院\n日期及時間:\n25/09/2015 (Fri) 8pm#\n26/09//2015 (Sat) 3pm\n26/09/2015 (Sat) 8pm\n票價： $180\, $140* \n#9月25日演出後設有演後藝人談。\n*設有六十歲或以上高齡人士、殘疾人士及看護人、全日制學生票半價優惠。\n \n嘉賓舞者： \nRONxII (小勝久生 Hisao Ogatsu) (日本)\nPORI (堀雄太 Yuta Hori) (日本)\nton (門田巴魅Tomomi Kodota) (日本)\n舞工廠舞團 (台灣)\n陳厚均（小眼睛） (台灣)\n本地編創舞者：\n郭偉傑、梁美嘉、王丹琦、鄧偉豐、何威智、陳濤、趙浩然、結界達人、尹巧茵、李佳齡 \n主辦: R&T (Rhythm & Tempo)\n藝術總監：郭偉傑\n監製: 黃志榮\n現場音樂：雷柏熹\n技術總監：邵少威\n執行舞台監督：羅兆鏵\n助理舞台監督：張繼業\n音響：夏恩蓓\n燈光設計：羅兆鏵\n平面設計：羅永雪\n錄像： C.PRODUCTION HOUSE\n票務： 賀文欣 \n門票現正在城市售票網發售。\n節目查詢： 6804 6297\n票務查詢： 3761 6661 (10am-8pm每日Daily)\n信用卡電話購票： 2111 5999\n網上購票： www.urbtix.hk\n流動購票應用程式購票： My URBTIX(Android and iPhone/iPad Versions) \n*適合6歲或以上人士參與。\n*如遇特殊情況，主辦機構保留更換節目及表演者的權利。\n*其他有關香港踢躂節2015的活動如大師工作坊、分享會及即興踢躂匯，請留意我們其他的宣傳刊物。\nwww.facebook.com/HKTAPFEST \nwww.RNTTAP.com \nHK Tap Festival 2015 Gala Performances\nDate: 25-26 September\, 2015\nVenue: Sai Wan Ho Civic Centre\, Theatre\nTickets: $180 from Urbtix\nMore info:\n25.09.2015 (Fri) 8pm\n26.09.2015 (Sat) 8pm\, 3pm
URL:https://www.bcmagazine.net/event/hk-tap-festival-2015/
LOCATION:Sai Wan Ho Civic Centre\, Theatre\, 111 Shau Kei Wan Road\, Sai Wan Ho\, Hong Kong
CATEGORIES:2015,Cultural Festival,Dance,Performing Arts
GEO:22.282055;114.222378
X-APPLE-STRUCTURED-LOCATION;VALUE=URI;X-ADDRESS=Sai Wan Ho Civic Centre Theatre 111 Shau Kei Wan Road Sai Wan Ho Hong Kong;X-APPLE-RADIUS=500;X-TITLE=111 Shau Kei Wan Road:geo:114.222378,22.282055
END:VEVENT
BEGIN:VEVENT
DTSTART;VALUE=DATE:20150919
DTEND;VALUE=DATE:20151011
DTSTAMP:20260420T052739
CREATED:20150914T034205Z
LAST-MODIFIED:20191021T154126Z
UID:10005064-1442620800-1444521599@www.bcmagazine.net
SUMMARY:HK Lesbian & Gay Film Festival
DESCRIPTION:Now in it’s 26 year the Hong Kong Lesbian & Gay Film Festival (HKLGFF) continues to bring a wide range of LGBT films to local audiences. This year’s festival features 59 films and runs for three weeks this year from 19 September to 10 October 2015. \nOpening Film + Gala Party\nFront Cover is the tale of a gay Chinese-American fashion stylist\, who despises his ethnic heritage\, yet is given an important assignment to style a patriotic actor from Beijing. After a rocky start\, a friendship develops leading them to examine their beliefs and identities. Starring Jake Choi\, James Chen and directed by Ray Yeung\, Front Cover is a bittersweet dramatic comedy\, which looks at the Asian-American experience with humour\, irony and insight. \nhttps://www.youtube.com/watch?v=nMs_rE1_ln4Video can’t be loaded because JavaScript is disabled: HKLGFF 2015: Front Cover Trailer 《封面裡的羅生門》預告 (https://www.youtube.com/watch?v=nMs_rE1_ln4)\nIn Yes or No 2.5 Love You Baby\, starring Sunanta Yoonniyom\, Pimpakan Bangchawong and Chansakorn Kittiwattanakorn\, Wine\, a photographer\, and Pii\, a chef\, are roommates and best friends. They share their lives together but things start to change when two girls Pim and Fah move in next door. Pim coincidently is Wine’s first love\, whom she still hasn’t forgotten but Pim now has a boyfriend. Things get complicated when Fah develops feelings for Pii. Director Kirati Nak-intanon and the cast will attend the screening. \nThe Opening Gala Party is at Zafran\, 10:30pm 19 September\, 2015. Bring your opening movie ticket stub for free admission and one complimentary drink. \nClosing Films + Party\nIn Baby Steps\, a Taiwanese-American man Danny\, and his boyfriend\, long to have a baby\, but the journey becomes increasingly complicated by Danny’s well-intentioned but meddlesome mother who wants to control every aspect of the process from Taipei. Produced by Oscar winning producer Li-Kong Hsu (Crouching Tiger\, Hidden Dragon\, The Wedding Banquet\, Eat Drink Man Woman)\, and legendary Taiwan actress Grace Guei who also stars in the film as Danny’s mother. Director/ male lead Barney Cheng will be present at the screening to greet the audience. \nFreeheld\, starring Oscar winner Julianne Moore and Ellen Page\, is based on a true story that took place from 2002 – 2006. New Jersey Detective Lieutenant Laurel Hester (Moore) is diagnosed with terminal cancer. She shares her life with her loving partner Stacie (Page) a car mechanic who is much younger than her. Laurel fearing for Stacie’s future sought to leave all her benefits to her\, only to be blocked by the county’s governing body of Freeholders. With the help of an LGBT activist Steven (Carell) together they fight to have Laurel’s pension benefits passed on to Stacie. A love story about a loving partnership that in the eyes of law isn’t seen as equals. \nhttps://www.youtube.com/watch?v=blk27Jj9UE8Video can’t be loaded because JavaScript is disabled: Freeheld Official Trailer #1 (2015) Ellen Page\, Julianne Moore Drama Movie HD (https://www.youtube.com/watch?v=blk27Jj9UE8)\nThe Closing Party is at Kee Club: 10pm\, 10 October\, 2015. Bring your closing movie ticket stub for free admission and one complimentary drink. \nHighlights\nI am Michael starring James Franco\, Zachary Quinto\, and produced by Gus Van Sant is based on Benoit Denizet-Lewis’ New York Times Magazine article “My Ex-Gay Friend”. It is a controversial true story of a gay activist Michael Glatze in 2007 shocked his friends and followers when he publicly renounced his homosexuality and becomes a Christian pastor. What could have led to such an extreme change of belief? \nWonderful World End\, starring Ai Hashimoto and Jun Anonami\, is about two girls whose relationship surpasses everything like age and sex. This romantic fantastical music film is lighthearted but the feelings and young talents are genuine together. “Guys can’t save us. Only a girl can save a girl.” \nIn the documentary My Fair Wedding\, Kim Gwang-soo\, an openly gay film-maker announces his intention to marry Dave Kim\, his partner of 9 years who is 19 years his junior. On 7th September\, 2013\, the couple tie the knot in the heart of downtown Seoul\, challenging the tradition-abiding and conservative Korean sensibility through this event which became the first gay marriage in Korean history. However\, everything around them is inculcated with a culture of homophobia. As the big day approaches\, they grow more and more nervous\, wondering what will happen on their wedding day. Kim Gwang-soo and Dave Kim will be present at the screenings to share their stories with audience. \nhttps://youtu.be/6jfem2CO-vkVideo can’t be loaded because JavaScript is disabled: ｛醉‧生夢死 ｝"Thanatos\, Drunk" 國際香港電影節2分鐘預告 Official Trailer (https://youtu.be/6jfem2CO-vk)\nTaiwanese auteur Chang Tso-chi latest work is Thanatos Drunk. Rat works at a market stall but his alcoholic mother constantly nags him to get a proper job and stop hanging out with Shuo\, an underworld gigolo whom he looks up to and shares a flat with. Rat’s older brother\, Shang-ho\, used to live in at the US but returns after losing his boyfriend there. Shang-ho gradually falls for Shuo until Shuo’s past catches up on him… \nHong Kong Lesbian & Gay Film Festival\nDate: 19 September – 10 October\, 2015\nVenue: AMC Festival Walk ($90)\, AMC Pacific Place ($95)\, The ONE ($80) & Broadway Cinematheque ($80)\nTickets: various\nMore info: www.hklgff.hk
URL:https://www.bcmagazine.net/event/hk-lesbian-gay-film-festival-2015/
CATEGORIES:2015,Cultural Festival,Film,LGBT
END:VEVENT
BEGIN:VEVENT
DTSTART;VALUE=DATE:20150922
DTEND;VALUE=DATE:20150925
DTSTAMP:20260420T052739
CREATED:20150609T025125Z
LAST-MODIFIED:20160307T123425Z
UID:10005999-1442880000-1443139199@www.bcmagazine.net
SUMMARY:Marriage
DESCRIPTION:Marriage\nHong Kong Repertory Theatre\nDate: 12-13\, 15-20\, 22-24\, 26 September\, 2015\nVenue: HK City Hall\, Theatre\nTickets: $280\, $240\, $180 from Urbtix\nMore info:\n12\, 15-19\, 22-24\, 26 September – 7:45pm\n13\, 19-20\, 26  September – 2:45pm\nFri – Sun: $280\, $240\, $180\nTue – Thur: $260\, $220\, $160\nPresented in Cantonese with Chinese & English surtitles
URL:https://www.bcmagazine.net/event/marriage-3/
LOCATION:HK City Hall\, Theatre\, 5 Edinburgh Place\, Central\, Hong Kong
CATEGORIES:2015,Performing Arts,Theatre,Theatre
GEO:22.2822646;114.1615275
X-APPLE-STRUCTURED-LOCATION;VALUE=URI;X-ADDRESS=HK City Hall Theatre 5 Edinburgh Place Central Hong Kong;X-APPLE-RADIUS=500;X-TITLE=5 Edinburgh Place:geo:114.1615275,22.2822646
END:VEVENT
BEGIN:VEVENT
DTSTART;VALUE=DATE:20150922
DTEND;VALUE=DATE:20150928
DTSTAMP:20260420T052739
CREATED:20150901T110525Z
LAST-MODIFIED:20150901T135330Z
UID:10006073-1442880000-1443398399@www.bcmagazine.net
SUMMARY:The Waste Land
DESCRIPTION:T.S. Eliot’s seminal poem\, The Waste Land\, comes to life in this new\, dramatic adaptation. \nInternationally renowned cellist David Pereira teams up with actor and Chinese University of Hong Kong professor Julian Lamb to bring you a fusion of music and spoken word which will appeal to aficionados of The Waste Land as well as those who have never encountered it. \nT.S. Eliot’s haunting vision of a spiritually barren post-war Europe is brought to life in a performance which draws out the poem’s vast array of characters as well as its rich lyrical language. Dramatic presentations of The Waste Land are rare since it is often regarded as too difficult to perform. A performance of The Waste Land with live musical accompaniment is almost unprecedented. \nThe Waste Land is the most influential poem of the twentieth century. It is written in short\, interconnected fragments\, each one offering a glimpse of humans coming to terms with a world which they find increasingly confusing. For nearly a century\, readers have been haunted by its images\, amused by its comedy\, and absorbed by its vast array of characters. \nThe music will feature passages of improvisation\, original composition\, and direct quotation from the work of some of the most important composers of the twentieth century\, including Sibelius\, Shostakovich\, and Schoenberg. \n“Julian Lamb and David Pereira bring clarity to ‘The Waste Land’\,” Canberra Times \n“An utterly inspiring performance\,” The RiotAct\, Canberra \nThe Waste Land \nShadow Players\nWhen: 22-27 September\nWhere: Kwai Tsing Theatre\, Black Box Theatre\nTickets: $230 ($170 Seniors\, Students) from Urbtix\nMore info:\n22-26 September – 8pm\n26\, 27 September – 4pm\nFree Seating\nFor each purchase of 5-10 standard tickets 10% off\, 11-15 standard tickets 15% off\, 16+ standard tckets 20% off
URL:https://www.bcmagazine.net/event/the-waste-land/
LOCATION:Kwai Tsing Theatre\, Black Box Theatre\, 12 Hing Ning Road\, Kwai Chung\, Hong Kong
CATEGORIES:2015,Music,Performing Arts,Theatre
GEO:22.3568224;114.126199
X-APPLE-STRUCTURED-LOCATION;VALUE=URI;X-ADDRESS=Kwai Tsing Theatre Black Box Theatre 12 Hing Ning Road Kwai Chung Hong Kong;X-APPLE-RADIUS=500;X-TITLE=12 Hing Ning Road:geo:114.126199,22.3568224
END:VEVENT
BEGIN:VEVENT
DTSTART;VALUE=DATE:20150924
DTEND;VALUE=DATE:20150928
DTSTAMP:20260420T052739
CREATED:20150510T052818Z
LAST-MODIFIED:20150810T053205Z
UID:10005864-1443052800-1443398399@www.bcmagazine.net
SUMMARY:Sundance Film Festival:HK
DESCRIPTION:The Hong Kong Sundance Film Festival takes place from the 17-27 September\, 2015. Covering Thursday\, Friday\, Saturday and Sunday for two consecutive weekends the festival will screen 10 films featured in the 2015 Sundance Film Festival USA. There will also be workshops for young filmmakers and film composers plus a variety of cultural events that will “manifest the independent spirit across art forms”. \nThe festival screenings will be at The Metroplex in Kowloon Bay and the full schedule of films and times will be available soon at the festival website http://hk.sundance.org/ \nSundance Film Festival: Hong Kong\nDate: 17-27 September\, 2015\nVenue: The Metroplex\nTickets: tbc
URL:https://www.bcmagazine.net/event/sundance-film-festivalhk/
LOCATION:The Metroplex\, Kowloon Bay\, Hong Kong
CATEGORIES:2015,Film
ATTACH;FMTTYPE=image/jpeg:https://www.bcmagazine.net/wp-content/uploads/2015/08/sundance.jpg
END:VEVENT
END:VCALENDAR