BEGIN:VCALENDAR
VERSION:2.0
PRODID:-//bc magazine - ECPv6.15.20//NONSGML v1.0//EN
CALSCALE:GREGORIAN
METHOD:PUBLISH
X-WR-CALNAME:bc magazine
X-ORIGINAL-URL:https://www.bcmagazine.net
X-WR-CALDESC:Events for bc magazine
REFRESH-INTERVAL;VALUE=DURATION:PT1H
X-Robots-Tag:noindex
X-PUBLISHED-TTL:PT1H
BEGIN:VTIMEZONE
TZID:Asia/Hong_Kong
BEGIN:STANDARD
TZOFFSETFROM:+0800
TZOFFSETTO:+0800
TZNAME:HKT
DTSTART:20140101T000000
END:STANDARD
END:VTIMEZONE
BEGIN:VEVENT
DTSTART;VALUE=DATE:20151020
DTEND;VALUE=DATE:20151026
DTSTAMP:20260420T051741
CREATED:20150508T083229Z
LAST-MODIFIED:20150808T084146Z
UID:10004805-1445299200-1445817599@www.bcmagazine.net
SUMMARY:Tuesdays with Morrie
DESCRIPTION:Tuesdays with Morrie (19th-run)\nChung Ying Theatre Company\nWhen: 15-18\, 20-25 October\nWhere: Kwai Tsing Theatre\, Auditorium\nTickets: $340\, $260\, $180 from Urbtix\nMore info:\n15-17 October – 8pm\n18 October – 3pm\n20-24 October – 8pm\n25 October – 3pm
URL:https://www.bcmagazine.net/event/5386/
LOCATION:Kwai Tsing Theatre\, Auditorium\, 12 Hing Ning Road\, Kwai Chung\, Hong Kong
CATEGORIES:2015,Performing Arts,Theatre,Theatre
GEO:22.3568224;114.126199
X-APPLE-STRUCTURED-LOCATION;VALUE=URI;X-ADDRESS=Kwai Tsing Theatre Auditorium 12 Hing Ning Road Kwai Chung Hong Kong;X-APPLE-RADIUS=500;X-TITLE=12 Hing Ning Road:geo:114.126199,22.3568224
END:VEVENT
BEGIN:VEVENT
DTSTART;VALUE=DATE:20151022
DTEND;VALUE=DATE:20151026
DTSTAMP:20260420T051741
CREATED:19151006T142442Z
LAST-MODIFIED:20151006T143228Z
UID:10000098-1445472000-1445817599@www.bcmagazine.net
SUMMARY:Of Mice and Men
DESCRIPTION:Of Mice and Men\nDate: 8pm\, 22-25 October\, 2015\nVenue: Yuen Long Theatre\nTickets: $220\, $180 from Urbtix
URL:https://www.bcmagazine.net/event/of-mice-and-men-2015/
LOCATION:Yuen Long Theatre\, Auditorium\, 9 Yuen Long Tai Yuk Road\, Yuen Long\, Hong Kong
CATEGORIES:2015,Performing Arts,Theatre
GEO:22.4414579;114.0229698
X-APPLE-STRUCTURED-LOCATION;VALUE=URI;X-ADDRESS=Yuen Long Theatre Auditorium 9 Yuen Long Tai Yuk Road Yuen Long Hong Kong;X-APPLE-RADIUS=500;X-TITLE=9 Yuen Long Tai Yuk Road:geo:114.0229698,22.4414579
END:VEVENT
BEGIN:VEVENT
DTSTART;VALUE=DATE:20151022
DTEND;VALUE=DATE:20151026
DTSTAMP:20260420T051741
CREATED:19151023T025538Z
LAST-MODIFIED:20151023T025741Z
UID:10000562-1445472000-1445817599@www.bcmagazine.net
SUMMARY:Wine & Dine Festival 2015
DESCRIPTION:Wine & Dine Festival 2015\nDate: 22-25 October\, 2015\nVenue: Central Harbourfront\nTickets: $30\nMore info:\n22 October – 8-11:30pm\n23-24 October – 12-11:30pm\n25 October – 12-10pm
URL:https://www.bcmagazine.net/event/wine-dine-festival-2015/
LOCATION:Central Harbourfront\,  9 Lung Wo Road\, Central\, Hong Kong
CATEGORIES:2015,Cultural Festival,Food,Music,Nightlife
GEO:22.2826223;114.164346
X-APPLE-STRUCTURED-LOCATION;VALUE=URI;X-ADDRESS=Central Harbourfront  9 Lung Wo Road Central Hong Kong;X-APPLE-RADIUS=500;X-TITLE=9 Lung Wo Road:geo:114.164346,22.2826223
END:VEVENT
BEGIN:VEVENT
DTSTART;VALUE=DATE:20151022
DTEND;VALUE=DATE:20151026
DTSTAMP:20260420T051741
CREATED:20150228T041438Z
LAST-MODIFIED:20191120T133437Z
UID:10005614-1445472000-1445817599@www.bcmagazine.net
SUMMARY:Hong Kong Golf Open
DESCRIPTION:Hong Kong Golf Open\nWhen: 22-25 October\, 2015\nWhere: Hong Kong Golf Club\nTickets: tbc
URL:https://www.bcmagazine.net/event/hong-kong-golf-open-2015/
LOCATION:Hong Kong
CATEGORIES:2015,Sport
END:VEVENT
BEGIN:VEVENT
DTSTART;VALUE=DATE:20151023
DTEND;VALUE=DATE:20151026
DTSTAMP:20260420T051741
CREATED:20150524T054740Z
LAST-MODIFIED:20150824T054958Z
UID:10005906-1445558400-1445817599@www.bcmagazine.net
SUMMARY:Motorcycle & International Racing Car Expo 2015
DESCRIPTION:Motorcycle & International Racing Car Expo 2015\nDate: 23-25 October\, 2015\nVenue: KITEC\, Rotunda 2\nTickets: tbc
URL:https://www.bcmagazine.net/event/motorcycle-international-racing-car-expo-2015/
LOCATION:Hong Kong
CATEGORIES:2015,Exhibition
END:VEVENT
BEGIN:VEVENT
DTSTART;VALUE=DATE:20151023
DTEND;VALUE=DATE:20151026
DTSTAMP:20260420T051741
CREATED:20150524T055303Z
LAST-MODIFIED:20150824T055617Z
UID:10005907-1445558400-1445817599@www.bcmagazine.net
SUMMARY:2015 Car Technology of Equipment & Accessories Expo
DESCRIPTION:2015 Car Technology of Equipment & Accessories Expo\nDate: 23-25 October\, 2015\nVenue: KITEC\, Rotunda 1\nTickets: tbc
URL:https://www.bcmagazine.net/event/2015-car-technology-of-equipment-accessories-expo/
LOCATION:KITEC (Kowloon Bay International Trade & Exhibition Centre)\, 1 Trademart Drive\, Kowloon Bay\, Hong Kong
CATEGORIES:2015,Exhibition
GEO:22.3239575;114.2037608
X-APPLE-STRUCTURED-LOCATION;VALUE=URI;X-ADDRESS=KITEC (Kowloon Bay International Trade & Exhibition Centre) 1 Trademart Drive Kowloon Bay Hong Kong;X-APPLE-RADIUS=500;X-TITLE=1 Trademart Drive:geo:114.2037608,22.3239575
END:VEVENT
BEGIN:VEVENT
DTSTART;TZID=Asia/Hong_Kong:20151025T090000
DTEND;TZID=Asia/Hong_Kong:20151025T130000
DTSTAMP:20260420T051741
CREATED:20150517T030355Z
LAST-MODIFIED:20150617T034201Z
UID:10005874-1445763600-1445778000@www.bcmagazine.net
SUMMARY:10th Anniversary Central Rat Race
DESCRIPTION:After debuting in 2006\, the Central Rat Race has attracted thousands of runners and raised over $21million for charity.The featured charity for the 10th Anniversary race is Mindset. The Rat Race symbolizes the challenges one may face in the business world of the urban jungle where nothing is as easy as it seems. \nFour races will be held on the day. The main Central Rat Race\, is an 8 rat team relay event where team members carry a briefcase baton across the challenging obstacles of the business world to success. The Big Rat Race\, is for individuals to ‘big’ to work in a team. An NGO Rat Race is for NGO staff and guests while the Junior Rat Race which is a series of activities designed for children aged five to ten. \n \nCentral Rat Race\nDate: 9am\, 25 October\, 2015\nVenue: Central\nTickets: Free to watch\, entry $60\,000\, $20\,000\nMore info: Entry registration is open now www.centralratrace.com
URL:https://www.bcmagazine.net/event/10th-anniversary-central-rat-race/
LOCATION:Hong Kong
CATEGORIES:2015,Sport
END:VEVENT
BEGIN:VEVENT
DTSTART;TZID=Asia/Hong_Kong:20151025T100000
DTEND;TZID=Asia/Hong_Kong:20151025T113000
DTSTAMP:20260420T051741
CREATED:20150603T021602Z
LAST-MODIFIED:20150703T022026Z
UID:10005941-1445767200-1445772600@www.bcmagazine.net
SUMMARY:The 2015 Sedan Chair Race
DESCRIPTION:The 2015 Sedan Chair Race\nDate: 10am\, 25 October\, 2015\nVenue: The Matilda International Hospital\, Mount Kellett Road\, The Peak\nTickets: Free to watch
URL:https://www.bcmagazine.net/event/the-2015-sedan-chair-race/
LOCATION:The Matilda International Hospital\, The Peak\, Hong Kong
CATEGORIES:2015,Free,Sport
END:VEVENT
BEGIN:VEVENT
DTSTART;TZID=Asia/Hong_Kong:20151025T150000
DTEND;TZID=Asia/Hong_Kong:20151025T170000
DTSTAMP:20260420T051741
CREATED:20150508T151322Z
LAST-MODIFIED:20150808T151650Z
UID:10004779-1445785200-1445792400@www.bcmagazine.net
SUMMARY:Chinese Language Arts & Culture Academy's 4th Anniversary & Arts Festival
DESCRIPTION:Chinese Language Arts & Culture Academy’s 4th Anniversary & Arts Festival\nDate: 3pm\, 25 October\, 2015\nVenue: HK City Hall\, Theatre\nTickets: $320\, $290\, $250\, $230 from Urbtix
URL:https://www.bcmagazine.net/event/chinese-language-arts-culture-academys/
LOCATION:HK City Hall\, Theatre\, 5 Edinburgh Place\, Central\, Hong Kong
CATEGORIES:2015,Concert,Music,Performing Arts
GEO:22.2822646;114.1615275
X-APPLE-STRUCTURED-LOCATION;VALUE=URI;X-ADDRESS=HK City Hall Theatre 5 Edinburgh Place Central Hong Kong;X-APPLE-RADIUS=500;X-TITLE=5 Edinburgh Place:geo:114.1615275,22.2822646
END:VEVENT
BEGIN:VEVENT
DTSTART;TZID=Asia/Hong_Kong:20151025T193000
DTEND;TZID=Asia/Hong_Kong:20151025T193000
DTSTAMP:20260420T051741
CREATED:19151024T134821Z
LAST-MODIFIED:20151024T135053Z
UID:10000140-1445801400-1445801400@www.bcmagazine.net
SUMMARY:Cantopera
DESCRIPTION:Excerpts of Cantopera\nArt of Cantonese Opera Association\nDate: 7:30pm\, 25 October\, 2015\nVenue: HK Cultural Centre\, Grand Theatre\nTickets: $380\, $280\, $220\, $160\, $100 from Urbtix
URL:https://www.bcmagazine.net/event/cantopera/
LOCATION:HK Cultural Centre\, Grand Theatre\,\, 10 Salisbury Road\, Tsim Sha Tsui\, Hong Kong
CATEGORIES:2015,Cantonese Opera,Music,Performing Arts
GEO:22.294318;114.171708
X-APPLE-STRUCTURED-LOCATION;VALUE=URI;X-ADDRESS=HK Cultural Centre Grand Theatre 10 Salisbury Road Tsim Sha Tsui Hong Kong;X-APPLE-RADIUS=500;X-TITLE=10 Salisbury Road:geo:114.171708,22.294318
END:VEVENT
BEGIN:VEVENT
DTSTART;TZID=Asia/Hong_Kong:20151025T200000
DTEND;TZID=Asia/Hong_Kong:20151025T200000
DTSTAMP:20260420T051741
CREATED:19151024T005617Z
LAST-MODIFIED:20151024T010020Z
UID:10000127-1445803200-1445803200@www.bcmagazine.net
SUMMARY:Eir Aoi
DESCRIPTION:Eir Aoi – Rock the World!\nDate: 8pm\, 25 October\, 2015\nVenue: MacPherson Stadium\nTickets: $680\, $480\, $380 from Cityline
URL:https://www.bcmagazine.net/event/eir-aoi-2015/
LOCATION:MacPherson Stadium\, 38 Nelson Street\, Mongkok\, Hong Kong
CATEGORIES:2015,Concert,Music
GEO:22.3188457;114.1728403
X-APPLE-STRUCTURED-LOCATION;VALUE=URI;X-ADDRESS=MacPherson Stadium 38 Nelson Street Mongkok Hong Kong;X-APPLE-RADIUS=500;X-TITLE=38 Nelson Street:geo:114.1728403,22.3188457
END:VEVENT
BEGIN:VEVENT
DTSTART;TZID=Asia/Hong_Kong:20151025T200000
DTEND;TZID=Asia/Hong_Kong:20151025T230000
DTSTAMP:20260420T051741
CREATED:20150508T150627Z
LAST-MODIFIED:20150808T151309Z
UID:10005861-1445803200-1445814000@www.bcmagazine.net
SUMMARY:Ian Bostridge and Xuefei Yang
DESCRIPTION:Ian Bostridge (Tenor) and Xuefei Yang (Guitar)\nDate: 8pm\, 25 October\, 2015\nVenue: HK City Hall\, Concert Hall\nTickets: $320\, $260\, $200\, $150 from Urbtix
URL:https://www.bcmagazine.net/event/ian-bostridge-and-xuefei-yang/
LOCATION:HK City Hall\, Concert Hall\,  5 Edinburgh Place\, Central\, Hong Kong
CATEGORIES:2015,Concert,concert,Music,Performing Arts
END:VEVENT
BEGIN:VEVENT
DTSTART;TZID=Asia/Hong_Kong:20151025T201500
DTEND;TZID=Asia/Hong_Kong:20151025T230000
DTSTAMP:20260420T051741
CREATED:20150923T030333Z
LAST-MODIFIED:20150923T034019Z
UID:10006077-1445804100-1445814000@www.bcmagazine.net
SUMMARY:Lilith Ferreira
DESCRIPTION:Lilith Ferreira Live\nWhen: 8:15pm\, 25 October\, 2015\nWhere: MusicZone@E-Max\nTickets: $680\, $480\, $280 from Cityline
URL:https://www.bcmagazine.net/event/lilith-ferreira-2015/
LOCATION:KITEC\, Music Zone@E-Max\, KITEC\,‎ 1 Trademart Drive\, Kowloon Bay\, Hong Kong
CATEGORIES:2015,Concert,Music
GEO:22.3239575;114.2037608
X-APPLE-STRUCTURED-LOCATION;VALUE=URI;X-ADDRESS=KITEC Music Zone@E-Max KITEC‎ 1 Trademart Drive Kowloon Bay Hong Kong;X-APPLE-RADIUS=500;X-TITLE=KITEC\,‎ 1 Trademart Drive:geo:114.2037608,22.3239575
END:VEVENT
END:VCALENDAR