BEGIN:VCALENDAR
VERSION:2.0
PRODID:-//bc magazine - ECPv6.15.20//NONSGML v1.0//EN
CALSCALE:GREGORIAN
METHOD:PUBLISH
X-WR-CALNAME:bc magazine
X-ORIGINAL-URL:https://www.bcmagazine.net
X-WR-CALDESC:Events for bc magazine
REFRESH-INTERVAL;VALUE=DURATION:PT1H
X-Robots-Tag:noindex
X-PUBLISHED-TTL:PT1H
BEGIN:VTIMEZONE
TZID:Asia/Hong_Kong
BEGIN:STANDARD
TZOFFSETFROM:+0800
TZOFFSETTO:+0800
TZNAME:HKT
DTSTART:20140101T000000
END:STANDARD
END:VTIMEZONE
BEGIN:VEVENT
DTSTART;VALUE=DATE:20151031
DTEND;VALUE=DATE:20151109
DTSTAMP:20260421T035147
CREATED:20150915T025116Z
LAST-MODIFIED:20150915T025116Z
UID:10005073-1446249600-1447027199@www.bcmagazine.net
SUMMARY:HK International Literary Festival
DESCRIPTION:The Fifteenth Hong Kong International Literary Festival takes place from 31 October to 8 November with audiences invited to immerse themselves in a series of solo talks\, dynamic panel discussions\, readings\, lectures\, book signings\, interactive workshops and Q&A sessions. \nChristine Van\, Co-Chair of the Board of Directors says\, “We are thrilled to present a diverse line-up of authors this year\, paying special focus to short works and the themes of identity\, immigration\, and sexuality. We continue to celebrate Hong Kong’s literary talent and provide platforms for local writers to share their work whilst connecting with international authors.” \n“The Festival’s mission is to provide our community with the opportunity to enjoy and engage with world-class literature”\, explains Programme Manager Phillipa Milne. “We are proud to offer a truly international line-up this year\, that not only invites festival-goers to connect with the roots of Hong Kong\, but also to explore further afield.” \nHighlights of the 2015 programme include: \n\nAn Evening with Dame Margaret Drabble – An opportunity to spend an evening with one of the world’s best-known writers. Enjoy a fine dinner with wine and hear Dame Margaret talk about a career that has spanned over five decades.\nA. C. Grayling on Happiness – Inimitable philosopher A. C. Grayling will join the Festival for a number of events\, including a lecture on how\, why and where we seek happiness.\nCooking with Ken Hom – Culinary legend Ken Hom will whip up a feast in a pre-Festival exclusive event where\, in an open kitchen\, he will give the audience the unique opportunity to learn more about his extensive career as a chef\, TV presenter and author.\nMagic with Lev Grossman – Author of the fantasy trilogy The Magicians\, will help you escape from the real world as he talks about his “Harry Potter for grown-ups” series.\nGaysia with Benjamin Law – Australian writer Benjamin Law explores the LGBT scene in Asia.\nShort Works\, Big Ideas – Zambian writer and Caine Prize winner Namwali Serpell talks about short fiction and offers advice to budding writers. Local writers Tammy Ho and Collier Nogues unite with British poet Luke Kennard in a lively panel discussion to explore the future of short works.\nWomen in Writing – International female authors\, including Susan Choi\, PP Wong\, Anna Smaill and Monica Cantieni will converge with Hong Kong-based female writers\, including Leta Hong Fincher\, Dorothy Tse\, Sonia Wong and Shannon Young in a wide range of events throughout the Festival period.\nImmigration & Identity – American writer and critic Jabari Asim exploresl narratives in black culture in “Black Voices Matter” and PP Wong talks about race relations and her debut novel The Life of a Banana.\nLocal writers – Showcases Hong Kong writers and looks to promote their work. Events that will do this include:\n\nOur Future Voices -an opportunity to hear students from local universities share their creative writing.\nFour Poets – Hong Kong-based poets Nicholas Wong\, James Shea\, Collier Nogues and Tammy Ho come together to discuss a new wave of poetry that has emerged following the Umbrella Movement.\n\n\n\nList of Visiting Authors\nJabari Asim\, Adrien Bosc\, Susan Blumberg-Kason\, Monica Cantieni\, Susan Choi\, Dame Margaret Drabble\, A. C. Grayling\, Lev Grossman\, Ken Hom\, Luke Kennard\, Benjamin Law\, Mike Meyer\, Namwali Serpell\, Haresh Sharma\, Anna Smaill\, Rebecca Swift\, Elsie Sze\, Jeffrey Wasserstrom\, PP Wong\, Xu Zechen \nList of Local Authors\nDavid Bandurski\, Doug Clark\, Graham Earnshaw\, Elizabeth Ho\, Leta Hong Fincher\, Ray Hecht\, Tammy Ho\, Polly Ho\, Sreedhevi Iyer\, Linda Kennedy\, Elbert Lee\, Marshall Moore\, Jason Ng\, Collier Nogues\, David Nunan\, Mishi Saran\, James Shea\, Elizabeth Sinn\, Nick Thorpe\, Dorothy Tse\, Sebastian Veg\, Phil Whelan\, Nicholas Wong\, Sonia Wong\, Shannon Young\, Xu Xi \nHong Kong International Literary Festival\nDate: 31 October – 8 November\nVenue: various\nTickets: various\nMore info:\nfor the the full festival schedule www.festival.org.hk/programmes/
URL:https://www.bcmagazine.net/event/hk-international-literary-festival/
CATEGORIES:2015,Cultural Festival,Performing Arts
END:VEVENT
BEGIN:VEVENT
DTSTART;VALUE=DATE:20151102
DTEND;VALUE=DATE:20151105
DTSTAMP:20260421T035147
CREATED:19151019T044555Z
LAST-MODIFIED:20151019T045220Z
UID:10000509-1446422400-1446681599@www.bcmagazine.net
SUMMARY:Best of British Cinema
DESCRIPTION:Best of British Cinema\nBest of British\nDate: 6pm\, 2-4 November\, 2015\nVenue: Tamar Park\nTickets: Free with registration
URL:https://www.bcmagazine.net/event/best-of-british-cinema-2015/
LOCATION:Tamar Park\, Harcourt Road\, Admiralty\, Hong Kong
CATEGORIES:2015,Cultural Festival,Film,Free,Nightlife
GEO:22.2797904;114.1649412
X-APPLE-STRUCTURED-LOCATION;VALUE=URI;X-ADDRESS=Tamar Park Harcourt Road Admiralty Hong Kong;X-APPLE-RADIUS=500;X-TITLE=Harcourt Road:geo:114.1649412,22.2797904
END:VEVENT
BEGIN:VEVENT
DTSTART;VALUE=DATE:20151104
DTEND;VALUE=DATE:20151108
DTSTAMP:20260421T035147
CREATED:19151011T151718Z
LAST-MODIFIED:20151011T155025Z
UID:10000103-1446595200-1446940799@www.bcmagazine.net
SUMMARY:Vincent
DESCRIPTION:Vincent\nDate: 8pm\, 4-7 November\, 2015\nVenue: HK Arts Centre\, McAuley Studio Theatre\nTickets: $200 from Urbtix
URL:https://www.bcmagazine.net/event/vincent-2015/
CATEGORIES:2015,Performing Arts,Theatre,Theatre
END:VEVENT
BEGIN:VEVENT
DTSTART;TZID=Asia/Hong_Kong:20151104T200000
DTEND;TZID=Asia/Hong_Kong:20151104T230000
DTSTAMP:20260421T035147
CREATED:19150907T100829Z
LAST-MODIFIED:20150907T101025Z
UID:10000049-1446667200-1446678000@www.bcmagazine.net
SUMMARY:An Evening of Concerti
DESCRIPTION:An Evening of Concerti – Hong Kong Symphonia Concert\nDate: 8pm\, 4 November\, 2015\nVenue: HK City Hall\, Concert Hall\nTickets: $980\, $680\, $480\, $230\, $160 from Urbtix
URL:https://www.bcmagazine.net/event/an-evening-of-concerti/
LOCATION:HK City Hall\, Concert Hall\,  5 Edinburgh Place\, Central\, Hong Kong
CATEGORIES:2015,Concert,Music,Performing Arts
END:VEVENT
END:VCALENDAR