BEGIN:VCALENDAR
VERSION:2.0
PRODID:-//bc magazine - ECPv6.15.20//NONSGML v1.0//EN
CALSCALE:GREGORIAN
METHOD:PUBLISH
X-WR-CALNAME:bc magazine
X-ORIGINAL-URL:https://www.bcmagazine.net
X-WR-CALDESC:Events for bc magazine
REFRESH-INTERVAL;VALUE=DURATION:PT1H
X-Robots-Tag:noindex
X-PUBLISHED-TTL:PT1H
BEGIN:VTIMEZONE
TZID:Asia/Hong_Kong
BEGIN:STANDARD
TZOFFSETFROM:+0800
TZOFFSETTO:+0800
TZNAME:HKT
DTSTART:20140101T000000
END:STANDARD
END:VTIMEZONE
BEGIN:VEVENT
DTSTART;VALUE=DATE:20151107
DTEND;VALUE=DATE:20151116
DTSTAMP:20260420T051900
CREATED:19151101T185956Z
LAST-MODIFIED:20151101T190627Z
UID:10000655-1446854400-1447631999@www.bcmagazine.net
SUMMARY:HK International Bowls Classic
DESCRIPTION:HK International Bowls Classic\nDate: 7-15 November\, 2015\nVenue: Kowloon Bowling Green Club (KBGC)\, Club de Recreio (CdeR)\, Kowloon Cricket Club (KCC)\nTickets: Free entry
URL:https://www.bcmagazine.net/event/hk-international-bowls-classic-2015/
CATEGORIES:2015,Sport
END:VEVENT
BEGIN:VEVENT
DTSTART;VALUE=DATE:20151109
DTEND;VALUE=DATE:20151115
DTSTAMP:20260420T051900
CREATED:19151019T044838Z
LAST-MODIFIED:20151019T045913Z
UID:10000513-1447027200-1447545599@www.bcmagazine.net
SUMMARY:A Slice of London
DESCRIPTION:A Slice of London\nBest of British\nDate: 11am-10pm\, 9-14 November\, 2015\nVenue: Chater Garden\nTickets: Free
URL:https://www.bcmagazine.net/event/a-slice-of-london-2015/
LOCATION:Chater Garden\, Central\, Hong Kong
CATEGORIES:2015,Cultural Festival,Free,Nightlife
END:VEVENT
BEGIN:VEVENT
DTSTART;VALUE=DATE:20151113
DTEND;VALUE=DATE:20151114
DTSTAMP:20260420T051900
CREATED:20150507T071353Z
LAST-MODIFIED:20150707T072105Z
UID:10005857-1447372800-1447459199@www.bcmagazine.net
SUMMARY:Hong Kong Cup of Nations
DESCRIPTION:The Hong Kong Cup of Nations features the national teams of Portugal\, Russia\, Zimbabwe and Hong Kong who will play for a round-robin competition featuring six matches played over three match days. \nHong Kong Cup of Nations\nDate: 13. 17\, 21 November\, 2015\nVenue: tbc\nTickets: tbc
URL:https://www.bcmagazine.net/event/hong-kong-cup-of-nations-3/
CATEGORIES:2015,Rugby,Sport
END:VEVENT
BEGIN:VEVENT
DTSTART;VALUE=DATE:20151113
DTEND;VALUE=DATE:20151116
DTSTAMP:20260420T051900
CREATED:20150625T063825Z
LAST-MODIFIED:20150825T065645Z
UID:10006033-1447372800-1447631999@www.bcmagazine.net
SUMMARY:East Wing West Wing 12
DESCRIPTION:East Wing West Wing 12 — Let It Be One Country Two Systems\nZuni Icosahedron\nWhen: 13-29 November\, 2015\nWhere: HK Cultural Centre\, Studio Theatre\nTickets: $280\, $190 from Urbtix\nMore info:\n13-14 November – 8pm\n15 November – 3pm\n17-21 November – 8pm\n22 November – 3pm\n25-28 November – 8pm\n28\, 29 November – 3pm
URL:https://www.bcmagazine.net/event/east-wing-west-wing-12-let-it-be-one-country-two-systems/
LOCATION:HK Cultural Centre\, Studio Theatre\, 10 Salisbury Road\, Tsim Sha Tsui\, Hong Kong
CATEGORIES:2015,Dance,Performing Arts
END:VEVENT
BEGIN:VEVENT
DTSTART;TZID=Asia/Hong_Kong:20151113T193000
DTEND;TZID=Asia/Hong_Kong:20151113T220000
DTSTAMP:20260420T051900
CREATED:19150916T035606Z
LAST-MODIFIED:20150916T035811Z
UID:10000065-1447443000-1447452000@www.bcmagazine.net
SUMMARY:Butterfly Lovers
DESCRIPTION:Butterfly Lovers\nWorld Cultures Festival\, Shanghai Yue Opera House\nDate: 7:30pm\, 13 November\, 2015\nVenue: HK Cultural Centre\, Grand Theatre\nTickets: $420\, $320\, $220\, $120 from Urbtix
URL:https://www.bcmagazine.net/event/butterfly-lovers/
LOCATION:HK Cultural Centre\, Grand Theatre\,\, 10 Salisbury Road\, Tsim Sha Tsui\, Hong Kong
CATEGORIES:2015,Cantonese Opera,Cultural Festival,Performing Arts
GEO:22.294318;114.171708
X-APPLE-STRUCTURED-LOCATION;VALUE=URI;X-ADDRESS=HK Cultural Centre Grand Theatre 10 Salisbury Road Tsim Sha Tsui Hong Kong;X-APPLE-RADIUS=500;X-TITLE=10 Salisbury Road:geo:114.171708,22.294318
END:VEVENT
BEGIN:VEVENT
DTSTART;TZID=Asia/Hong_Kong:20151113T193000
DTEND;TZID=Asia/Hong_Kong:20151113T230000
DTSTAMP:20260420T051900
CREATED:20151111T030418Z
LAST-MODIFIED:20151111T030418Z
UID:10005069-1447443000-1447455600@www.bcmagazine.net
SUMMARY:Where Were You?
DESCRIPTION:Many years ago\, Matt Friedman\, a prominent human trafficking activist decided he was going to write a book that would help readers to understand the horrors of sex trafficking. Many of Friedman’s interviews took place at shelters in Nepal that provided rehabilitation services to survivors who had escaped from India’s sex trade. While most girls agreed to tell Friedman their stories\, there was one young woman\, Gita\, who repeatedly declined his request for an interview. Every time he saw her\, she appeared angry and completely withdrawn. But during all of the other interviews\, she sat off to one side and listened to everything that was being said. On the last day of Friedman’s visit to her shelter\, Gita came up to him and said she had changed her mind – she would give an interview. Everyone was surprised. \nOver the next three hours\, Gita described one of the most horrific experiences Friedman had heard to date. As part of Gita’s trafficking experience\, she had been tricked\, deceived\, betrayed\, raped\, tortured\, abused\, and diseased. It seemed to Friedman she had suffered the worst of everything. At the end of the interview\, he sat there speechless\, not sure how to respond. Finally\, he thanked her for sharing her story. There was another long pause. Her eyes were dark and deep with fury. Not knowing what else to say\, Freedman said to her\, “You must be so mad at the traffickers for what they did to you.” \nShe looked at him and the others in the room. Her eyes suddenly lit with fire. “I am not angry at the traffickers. They did what traffickers do. I am angry at you!” she shouted\, pointing her finger at Friedman and the others. “Where were you when I was in that brothel?” she kept pointing at Friedman and the others and asked. “Where were you and everyone else when I needed you?” She paused and took a few deep breaths. \n“Why are you here doing this project? Why are you not down there helping my sisters now? They are in the same situation I was in. Everyone knows what is going on. Everyone knows it is wrong. Why is no one helping them? How can such terrible things happen without anyone doing anything? I am not angry with the bad people\, I am angry with the good people. Where were you? Where was everyone? Why did no one help?” \nThat day\, a survivor spoke for herself and for so many others. She “called us all out\,” asking a fundamental question: “Why doesn’t the world care enough to stop this crime against humanity?” It was a good question\, and still is. That moment was an epiphany that helped Friedman understand that the world – collectively and individually – has a responsibility to address this problem. Whether the victims of human trafficking and forced prostitution are in India\, Nepal\, China\, Africa\, Latin America\, the United States\, or anywhere\, human trafficking shreds the fabric of all that is good and decent in this world. It is not someone else’s problem. It belongs to us all. \nTo raise awareness on modern day slavery\, ten local bands composed original songs inspired by theme “Where Were You?” Written to sensitize people about the horrors of human trafficking through music. The bands first competed in the battle of the bands\, an original song contest in a live show format\, on 6 June\, 2015. \nHong Kong’s first ever Anti-Human Trafficking themed CD is released at a concert where four of the bands featured on the cd will perform. 100% of ticket and merchandise sales will go to NGOs that work together in fighting human slavery. \nBands featured on the CD: Meraki\, Zino Chan\, Sparklez\, Spam\, Same\, Arsonist\, RF2\, Sparklez\, Unity Band\, Oikos and J3MI. \nWhere Were You\n852 Freedom Campaign\nDate: 7:30pm\, 13 November\, 2015\nVenue: Island ECC\, 2/F 633 King’s Road\, Quarry Bay\nTickets: $20
URL:https://www.bcmagazine.net/event/where-were-you/
LOCATION:Island ECC\, 2/F 633 King's Road\, Quarry Bay\, Hong Kong
CATEGORIES:2015,Charity,Concert,Music,Performing Arts
GEO:22.2789148;114.1924213
X-APPLE-STRUCTURED-LOCATION;VALUE=URI;X-ADDRESS=Island ECC 2/F 633 King's Road Quarry Bay Hong Kong;X-APPLE-RADIUS=500;X-TITLE=2/F 633 King's Road:geo:114.1924213,22.2789148
END:VEVENT
BEGIN:VEVENT
DTSTART;TZID=Asia/Hong_Kong:20151113T200000
DTEND;TZID=Asia/Hong_Kong:20151113T200000
DTSTAMP:20260420T051900
CREATED:19151024T003718Z
LAST-MODIFIED:20151024T004113Z
UID:10000595-1447444800-1447444800@www.bcmagazine.net
SUMMARY:Ricky Hsiao
DESCRIPTION:Ricky Hsiao\nDate: 8pm\, 13 November\, 2015\nVenue: KITEC\, Star Hall\nTickets: $680\, $480\, $280 from HKTicketing
URL:https://www.bcmagazine.net/event/ricky-hsiao-2015/
LOCATION:KITEC\, Star Hall\, KITEC\, 1 Trademart Drive\, Kowloon Bay\, Hong Kong
CATEGORIES:2015,Concert,Music
GEO:22.3239575;114.2037608
X-APPLE-STRUCTURED-LOCATION;VALUE=URI;X-ADDRESS=KITEC Star Hall KITEC 1 Trademart Drive Kowloon Bay Hong Kong;X-APPLE-RADIUS=500;X-TITLE=KITEC\, 1 Trademart Drive:geo:114.2037608,22.3239575
END:VEVENT
BEGIN:VEVENT
DTSTART;TZID=Asia/Hong_Kong:20151113T200000
DTEND;TZID=Asia/Hong_Kong:20151113T230000
DTSTAMP:20260420T051900
CREATED:19150907T094905Z
LAST-MODIFIED:20150907T095917Z
UID:10000047-1447444800-1447455600@www.bcmagazine.net
SUMMARY:The Chieftains
DESCRIPTION:The Chieftains\nWorld Cultures Festival 2015 – A Decade of Exquisite Arts\nDate: 8pm\, 13 November\, 2015\nVenue: HK City Hall\, Concert Hall\nTickets: $450\, $350\, $250\, $150 from Urbtix
URL:https://www.bcmagazine.net/event/the-chieftains/
LOCATION:HK City Hall\, Concert Hall\,  5 Edinburgh Place\, Central\, Hong Kong
CATEGORIES:2015,Concert,Cultural Festival,Music
END:VEVENT
BEGIN:VEVENT
DTSTART;TZID=Asia/Hong_Kong:20151113T200000
DTEND;TZID=Asia/Hong_Kong:20151113T230000
DTSTAMP:20260420T051900
CREATED:19151003T071700Z
LAST-MODIFIED:20151003T072620Z
UID:10000481-1447444800-1447455600@www.bcmagazine.net
SUMMARY:Hakan Hardenberger
DESCRIPTION:Hakan Hardenberger & Hong Kong Sinfonietta Experience\nDate: 8pm\, 13\, November\, 2015\nVenue: HKAPA\, Jockey Club Amphitheatre\nTickets: $480\, $320\, $180 from HKTicketing
URL:https://www.bcmagazine.net/event/hakan-hardenberger/
LOCATION:HKAPA: Jockey Club Amphitheatre\, 1 Gloucester Road\, Wanchai\, Hong Kong
CATEGORIES:2015,Concert,Music
GEO:22.2801854;114.1695054
X-APPLE-STRUCTURED-LOCATION;VALUE=URI;X-ADDRESS=HKAPA: Jockey Club Amphitheatre 1 Gloucester Road Wanchai Hong Kong;X-APPLE-RADIUS=500;X-TITLE=1 Gloucester Road:geo:114.1695054,22.2801854
END:VEVENT
END:VCALENDAR