BEGIN:VCALENDAR
VERSION:2.0
PRODID:-//bc magazine - ECPv6.15.20//NONSGML v1.0//EN
CALSCALE:GREGORIAN
METHOD:PUBLISH
X-WR-CALNAME:bc magazine
X-ORIGINAL-URL:https://www.bcmagazine.net
X-WR-CALDESC:Events for bc magazine
REFRESH-INTERVAL;VALUE=DURATION:PT1H
X-Robots-Tag:noindex
X-PUBLISHED-TTL:PT1H
BEGIN:VTIMEZONE
TZID:Asia/Hong_Kong
BEGIN:STANDARD
TZOFFSETFROM:+0800
TZOFFSETTO:+0800
TZNAME:HKT
DTSTART:20140101T000000
END:STANDARD
END:VTIMEZONE
BEGIN:VEVENT
DTSTART;VALUE=DATE:20151218
DTEND;VALUE=DATE:20151221
DTSTAMP:20260420T071058
CREATED:19151024T000113Z
LAST-MODIFIED:20151024T000431Z
UID:10000571-1450396800-1450655999@www.bcmagazine.net
SUMMARY:Toy Soul
DESCRIPTION:Toy Soul\nDate: 18-20 December\, 2015\nVenue: KITEC\, Star Hall\nTickets: tbc
URL:https://www.bcmagazine.net/event/toy-soul/
LOCATION:KITEC\, Star Hall\, KITEC\, 1 Trademart Drive\, Kowloon Bay\, Hong Kong
CATEGORIES:2015,Exhibition
GEO:22.3239575;114.2037608
X-APPLE-STRUCTURED-LOCATION;VALUE=URI;X-ADDRESS=KITEC Star Hall KITEC 1 Trademart Drive Kowloon Bay Hong Kong;X-APPLE-RADIUS=500;X-TITLE=KITEC\, 1 Trademart Drive:geo:114.2037608,22.3239575
END:VEVENT
BEGIN:VEVENT
DTSTART;VALUE=DATE:20151218
DTEND;VALUE=DATE:20151221
DTSTAMP:20260420T071058
CREATED:19151121T035044Z
LAST-MODIFIED:20151121T035325Z
UID:10000706-1450396800-1450655999@www.bcmagazine.net
SUMMARY:The Plan
DESCRIPTION:The Plan\nHong Kong Christian Youth Theatre\nDate: 18-20 December\, 2015\nVenue: HK Cultural Centre\, Studio Theatre\nTickets: $220\, $200 from Urbtix\nMore info:\n18-20 December – 7:45pm\n19-20 December – 2:45pm
URL:https://www.bcmagazine.net/event/the-plan/
LOCATION:HK Cultural Centre\, Studio Theatre\, 10 Salisbury Road\, Tsim Sha Tsui\, Hong Kong
CATEGORIES:2015,Performing Arts,Theatre
END:VEVENT
BEGIN:VEVENT
DTSTART;VALUE=DATE:20151218
DTEND;VALUE=DATE:20151227
DTSTAMP:20260420T071058
CREATED:19151020T090958Z
LAST-MODIFIED:20151020T091847Z
UID:10000525-1450396800-1451174399@www.bcmagazine.net
SUMMARY:Kelly
DESCRIPTION:Kelly – Let’s Celebrate!\nDate: 8:15pm\, 18-26 December\, 2015\nVenue: HK Coliseum\nTickets: $680\, $480\, $280 from Urbtix
URL:https://www.bcmagazine.net/event/kelly-lets-celebrate/
LOCATION:HK Coliseum\, 9 Cheong Wan Road\, Hung Hom\, Hong Kong
CATEGORIES:2015,Concert,Music
GEO:22.3014169;114.1820305
X-APPLE-STRUCTURED-LOCATION;VALUE=URI;X-ADDRESS=HK Coliseum 9 Cheong Wan Road Hung Hom Hong Kong;X-APPLE-RADIUS=500;X-TITLE=9 Cheong Wan Road:geo:114.1820305,22.3014169
END:VEVENT
BEGIN:VEVENT
DTSTART;VALUE=DATE:20151218
DTEND;VALUE=DATE:20151228
DTSTAMP:20260420T071058
CREATED:19151024T130927Z
LAST-MODIFIED:20160911T084624Z
UID:10000635-1450396800-1451260799@www.bcmagazine.net
SUMMARY:The Nutcracker
DESCRIPTION:The Nutcracker\nHK Ballet\nDate: 18-27 December\, 2015\nVenue: HK Cultural Centre\, Grand Theatre\nTickets: $1\,000\, $680\, $520\, $320\, $180 from Urbtix\nMore info:\n18-20\, 22-26 December – 7:30pm\n19-20\, 25-27 December – 2:30pm
URL:https://www.bcmagazine.net/event/the-nutcracker/
LOCATION:HK Cultural Centre\, Grand Theatre\,\, 10 Salisbury Road\, Tsim Sha Tsui\, Hong Kong
CATEGORIES:2015,Dance,Performing Arts
GEO:22.294318;114.171708
X-APPLE-STRUCTURED-LOCATION;VALUE=URI;X-ADDRESS=HK Cultural Centre Grand Theatre 10 Salisbury Road Tsim Sha Tsui Hong Kong;X-APPLE-RADIUS=500;X-TITLE=10 Salisbury Road:geo:114.171708,22.294318
END:VEVENT
BEGIN:VEVENT
DTSTART;VALUE=DATE:20151219
DTEND;VALUE=DATE:20151221
DTSTAMP:20260420T071058
CREATED:19151126T160930Z
LAST-MODIFIED:20151212T161024Z
UID:10000814-1450483200-1450655999@www.bcmagazine.net
SUMMARY:Angelina Ballerina
DESCRIPTION:Angelina Ballerina\nUdderbelly Festival\nDate: 19 December\, 2015 – 20 December\, 2016\nVenue: Udderbelly\nTickets: $523\, $435\, $385 from HKTicketing\nMore info: \n19 Dec 2015 (Sat) 10am\, 12noon\, 2pm & 4pm\n20 Dec 2015 (Sun) 10am\, 12noon\, 2pm & 4pm
URL:https://www.bcmagazine.net/event/angelina-ballerina-2015/
LOCATION:Udderbelly\, Central Harbourfront\, 9 Lung Wo Road\, Central\, Hong Kong
CATEGORIES:2015,Cultural Festival,Dance,Music,Performing Arts,Theatre
GEO:22.2826223;114.164346
X-APPLE-STRUCTURED-LOCATION;VALUE=URI;X-ADDRESS=Udderbelly Central Harbourfront 9 Lung Wo Road Central Hong Kong;X-APPLE-RADIUS=500;X-TITLE=Central Harbourfront\, 9 Lung Wo Road:geo:114.164346,22.2826223
END:VEVENT
BEGIN:VEVENT
DTSTART;TZID=Asia/Hong_Kong:20151219T230000
DTEND;TZID=Asia/Hong_Kong:20151220T060000
DTSTAMP:20260420T071058
CREATED:19151212T144051Z
LAST-MODIFIED:20151212T150148Z
UID:10000201-1450566000-1450591200@www.bcmagazine.net
SUMMARY:I Am Hardwell
DESCRIPTION:I Am Hardwell – United We Are\nDate: 19 December\, 2015\nVenue: CotaiArena\nTickets: $1\,180\, $760 from HKTicketing
URL:https://www.bcmagazine.net/event/i-am-hardwell/
LOCATION:CotaiArena\, Venetian Macao\, Taipa\, Macau
CATEGORIES:2015,DJ,Macau,Music
GEO:22.1483528;113.5602019
X-APPLE-STRUCTURED-LOCATION;VALUE=URI;X-ADDRESS=CotaiArena Venetian Macao Taipa Macau;X-APPLE-RADIUS=500;X-TITLE=Venetian Macao:geo:113.5602019,22.1483528
END:VEVENT
BEGIN:VEVENT
DTSTART;TZID=Asia/Hong_Kong:20151220T201500
DTEND;TZID=Asia/Hong_Kong:20151220T201500
DTSTAMP:20260420T071058
CREATED:19151126T164809Z
LAST-MODIFIED:20151126T165211Z
UID:10000828-1450642500-1450642500@www.bcmagazine.net
SUMMARY:Bianca Wu
DESCRIPTION:Body and Soul\nBianca Wu\nDate: 8:15pm\, 18-20 December\, 2015\nVenue: HKAPA\, lyric Theatre\nTickets: $980\, $880\, $680\, $280\, $180 from HKTicketing
URL:https://www.bcmagazine.net/event/bianca-wu-2015/2015-12-20/
LOCATION:HKAPA: Lyric Theatre\, 1 Gloucester Road\, Wanchai\, Hong Kong
CATEGORIES:2015,Concert,Music
GEO:22.2801854;114.1695054
X-APPLE-STRUCTURED-LOCATION;VALUE=URI;X-ADDRESS=HKAPA: Lyric Theatre 1 Gloucester Road Wanchai Hong Kong;X-APPLE-RADIUS=500;X-TITLE=1 Gloucester Road:geo:114.1695054,22.2801854
END:VEVENT
END:VCALENDAR