BEGIN:VCALENDAR
VERSION:2.0
PRODID:-//bc magazine - ECPv6.15.20//NONSGML v1.0//EN
CALSCALE:GREGORIAN
METHOD:PUBLISH
X-WR-CALNAME:bc magazine
X-ORIGINAL-URL:https://www.bcmagazine.net
X-WR-CALDESC:Events for bc magazine
REFRESH-INTERVAL;VALUE=DURATION:PT1H
X-Robots-Tag:noindex
X-PUBLISHED-TTL:PT1H
BEGIN:VTIMEZONE
TZID:Asia/Hong_Kong
BEGIN:STANDARD
TZOFFSETFROM:+0800
TZOFFSETTO:+0800
TZNAME:HKT
DTSTART:20140101T000000
END:STANDARD
END:VTIMEZONE
BEGIN:VEVENT
DTSTART;VALUE=DATE:20151218
DTEND;VALUE=DATE:20151227
DTSTAMP:20260420T232640
CREATED:19151020T090958Z
LAST-MODIFIED:20151020T091847Z
UID:10000525-1450396800-1451174399@www.bcmagazine.net
SUMMARY:Kelly
DESCRIPTION:Kelly – Let’s Celebrate!\nDate: 8:15pm\, 18-26 December\, 2015\nVenue: HK Coliseum\nTickets: $680\, $480\, $280 from Urbtix
URL:https://www.bcmagazine.net/event/kelly-lets-celebrate/
LOCATION:HK Coliseum\, 9 Cheong Wan Road\, Hung Hom\, Hong Kong
CATEGORIES:2015,Concert,Music
GEO:22.3014169;114.1820305
X-APPLE-STRUCTURED-LOCATION;VALUE=URI;X-ADDRESS=HK Coliseum 9 Cheong Wan Road Hung Hom Hong Kong;X-APPLE-RADIUS=500;X-TITLE=9 Cheong Wan Road:geo:114.1820305,22.3014169
END:VEVENT
BEGIN:VEVENT
DTSTART;VALUE=DATE:20151218
DTEND;VALUE=DATE:20151228
DTSTAMP:20260420T232640
CREATED:19151024T130927Z
LAST-MODIFIED:20160911T084624Z
UID:10000635-1450396800-1451260799@www.bcmagazine.net
SUMMARY:The Nutcracker
DESCRIPTION:The Nutcracker\nHK Ballet\nDate: 18-27 December\, 2015\nVenue: HK Cultural Centre\, Grand Theatre\nTickets: $1\,000\, $680\, $520\, $320\, $180 from Urbtix\nMore info:\n18-20\, 22-26 December – 7:30pm\n19-20\, 25-27 December – 2:30pm
URL:https://www.bcmagazine.net/event/the-nutcracker/
LOCATION:HK Cultural Centre\, Grand Theatre\,\, 10 Salisbury Road\, Tsim Sha Tsui\, Hong Kong
CATEGORIES:2015,Dance,Performing Arts
GEO:22.294318;114.171708
X-APPLE-STRUCTURED-LOCATION;VALUE=URI;X-ADDRESS=HK Cultural Centre Grand Theatre 10 Salisbury Road Tsim Sha Tsui Hong Kong;X-APPLE-RADIUS=500;X-TITLE=10 Salisbury Road:geo:114.171708,22.294318
END:VEVENT
BEGIN:VEVENT
DTSTART;VALUE=DATE:20151223
DTEND;VALUE=DATE:20160329
DTSTAMP:20260420T232640
CREATED:20151205T153540Z
LAST-MODIFIED:20160105T154954Z
UID:10005084-1450828800-1459209599@www.bcmagazine.net
SUMMARY:Tung Wah Charity Carnival
DESCRIPTION:Tung Wah Charity Carnival\nDate: 23 December 2015 – 28 March 2016\nVenue: Kai Tak Runway\nTickets: $180\nMore info:\nWeekdays: 3-11pm\nFriday\, Saturday: 11am-11pm\nwww.twcarnival.hk
URL:https://www.bcmagazine.net/event/tung-wah-charity-carnival-2016/
LOCATION:Kai Tak Runway\, Kai Tak\, Kowloon City\, Hong Kong
CATEGORIES:2015,2016,Nightlife
GEO:22.3246084;114.1990482
X-APPLE-STRUCTURED-LOCATION;VALUE=URI;X-ADDRESS=Kai Tak Runway Kai Tak Kowloon City Hong Kong;X-APPLE-RADIUS=500;X-TITLE=Kai Tak:geo:114.1990482,22.3246084
END:VEVENT
BEGIN:VEVENT
DTSTART;VALUE=DATE:20151224
DTEND;VALUE=DATE:20151228
DTSTAMP:20260420T232640
CREATED:19151002T033447Z
LAST-MODIFIED:20151002T033945Z
UID:10000087-1450915200-1451260799@www.bcmagazine.net
SUMMARY:Christmas with Thomas and Friends
DESCRIPTION:Christmas with Thomas and Friends\nUdderbelly Festival\nDate: 24-27 December\, 2015\nVenue: Udderbelly\nTickets: $523\, $435\, $385 from HKTicketing\nMore info:\n24 Dec 2015 (Thu) at 12noon & 2pm\n25 Dec 2015 (Fri) at 12noon\, 2pm & 4pm\n26 Dec 2015 (Sat) at 2pm & 4pm\n27 Dec 2015 (Sun) at 12noon & 2pm \n 
URL:https://www.bcmagazine.net/event/christmas-with-thomas-and-friends-2015/
LOCATION:Udderbelly\, Central Harbourfront\, 9 Lung Wo Road\, Central\, Hong Kong
CATEGORIES:2015,Cultural Festival,Performing Arts,Theatre
GEO:22.2826223;114.164346
X-APPLE-STRUCTURED-LOCATION;VALUE=URI;X-ADDRESS=Udderbelly Central Harbourfront 9 Lung Wo Road Central Hong Kong;X-APPLE-RADIUS=500;X-TITLE=Central Harbourfront\, 9 Lung Wo Road:geo:114.164346,22.2826223
END:VEVENT
BEGIN:VEVENT
DTSTART;VALUE=DATE:20151224
DTEND;VALUE=DATE:20151228
DTSTAMP:20260420T232640
CREATED:19151121T025949Z
LAST-MODIFIED:20151121T030332Z
UID:10000693-1450915200-1451260799@www.bcmagazine.net
SUMMARY:Inflatable Carnival
DESCRIPTION:Inflatable Carnival 2015\nDate: 9am-2pm; 3pm-8pm\, 24-27 December\, 2015\nVenue: Star Hall\nTickets: $190\, $160\, $60 from HKTicketing
URL:https://www.bcmagazine.net/event/inflatable-carnival/
LOCATION:KITEC\, Star Hall\, KITEC\, 1 Trademart Drive\, Kowloon Bay\, Hong Kong
CATEGORIES:2015,Sport
GEO:22.3239575;114.2037608
X-APPLE-STRUCTURED-LOCATION;VALUE=URI;X-ADDRESS=KITEC Star Hall KITEC 1 Trademart Drive Kowloon Bay Hong Kong;X-APPLE-RADIUS=500;X-TITLE=KITEC\, 1 Trademart Drive:geo:114.2037608,22.3239575
END:VEVENT
BEGIN:VEVENT
DTSTART;VALUE=DATE:20151224
DTEND;VALUE=DATE:20151229
DTSTAMP:20260420T232640
CREATED:19151212T142856Z
LAST-MODIFIED:20191015T034632Z
UID:10000205-1450915200-1451347199@www.bcmagazine.net
SUMMARY:HK Food Festival
DESCRIPTION:Hong Kong Mega Showcase\nDate: 24-28 December\, 2015\nVenue: HK Convention & Exhibition Centre\nTickets: $20
URL:https://www.bcmagazine.net/event/hk-food-festival-2015/
LOCATION:HK Convention and Exhibition Centre\, 1 Expo Drive\, Wanchai\, Hong Kong
CATEGORIES:2015,Exhibition,Food
END:VEVENT
BEGIN:VEVENT
DTSTART;VALUE=DATE:20151225
DTEND;VALUE=DATE:20151228
DTSTAMP:20260420T232640
CREATED:19151024T145425Z
LAST-MODIFIED:20151024T160134Z
UID:10000146-1451001600-1451260799@www.bcmagazine.net
SUMMARY:Love to Forget
DESCRIPTION:Love to Forget\nClass 7a\nDate: 2:45pm\, 7:45pm\, 25-27 December\, 2015\nVenue: HK Cultural Centre\, Studio Theatre\nTickets: $260\, $180 from Urbtix\nMore info:\nIn Cantonese\n25-27 December – 2:45pm\, 7:45pm
URL:https://www.bcmagazine.net/event/love-to-forget/
LOCATION:HK Cultural Centre\, Studio Theatre\, 10 Salisbury Road\, Tsim Sha Tsui\, Hong Kong
CATEGORIES:2015,Musical,Performing Arts,Theatre
END:VEVENT
BEGIN:VEVENT
DTSTART;TZID=Asia/Hong_Kong:20151225T193000
DTEND;TZID=Asia/Hong_Kong:20151225T193000
DTSTAMP:20260420T232640
CREATED:20151021T221705Z
LAST-MODIFIED:20151213T125335Z
UID:10005085-1451071800-1451071800@www.bcmagazine.net
SUMMARY:Art School Musical
DESCRIPTION:Edward Lam Dance Theatre is returning to Macao with Art School Musical\, a thought provoking reflection about love and art. The Hong Kong director and playwright reinvents The Butterfly Lovers’ legend\, a classic Chinese work frequently adapted into a diversity of performing expressions. Premiered last May\, the piece is Lam’s vibrant\, humorous and personal vision tackling a variety of themes\, from gender issues to the essence of ingenuity. \nFeaturing Macao’s rising star Jordan Cheng\, the cast for this new interpretation includes 18 actors\, mostly from Taiwan and Hong Kong\, in a wonderfully scored version that resets the classic tale into a contemporary school of arts. Providing thoughtful answers to some of life’s big questions\, the story develops from a triangular relationship between students\, two boys and a girl\, all struggling with their own reality. \nArt School Musical\nEdward Lam Dance Theatre\nDate: 25-27 December\, 2015\nVenue: Macao Cultural Centre\, Grand Auditorium\nTickets: MOP$300\, $250\, $200\, $150 from MacauTicket\nMore info:\n25-26 December- 7:30pm\n27 December – 2:30pm
URL:https://www.bcmagazine.net/event/art-school-musical-2015-2/2015-12-25/
LOCATION:Macao Cultural Centre\, Grand Auditorium\, Avenida Xian Xing Hai\, Macau\, Macau
CATEGORIES:2015,Dance,Musical,Performing Arts
END:VEVENT
BEGIN:VEVENT
DTSTART;TZID=Asia/Hong_Kong:20151225T194500
DTEND;TZID=Asia/Hong_Kong:20151225T224500
DTSTAMP:20260420T232640
CREATED:19151126T154143Z
LAST-MODIFIED:20151202T001243Z
UID:10000159-1451072700-1451083500@www.bcmagazine.net
SUMMARY:Cantonese Opera
DESCRIPTION:Cantonese Opera\nDate: 7:45pm\,  23 December – 9 January\, 2016\nVenue: HKAPA\, Lyric Theatre\nTickets: $880\, $680\, $480\, $280 from HKTicketing
URL:https://www.bcmagazine.net/event/cantonese-opera-2/2015-12-25/
LOCATION:HKAPA: Lyric Theatre\, 1 Gloucester Road\, Wanchai\, Hong Kong
CATEGORIES:2015,2016,Cantonese Opera,Music,Performing Arts
GEO:22.2801854;114.1695054
X-APPLE-STRUCTURED-LOCATION;VALUE=URI;X-ADDRESS=HKAPA: Lyric Theatre 1 Gloucester Road Wanchai Hong Kong;X-APPLE-RADIUS=500;X-TITLE=1 Gloucester Road:geo:114.1695054,22.2801854
END:VEVENT
BEGIN:VEVENT
DTSTART;TZID=Asia/Hong_Kong:20151225T200000
DTEND;TZID=Asia/Hong_Kong:20151225T230000
DTSTAMP:20260420T232640
CREATED:19151024T033735Z
LAST-MODIFIED:20151024T034346Z
UID:10000604-1451073600-1451084400@www.bcmagazine.net
SUMMARY:Pro Arte Christmas Concert
DESCRIPTION:Pro Arte Christmas Concert\nPro Arte Orchestra\nDate: 8pm\, 25 December\, 2015\nVenue: HK Cultural Centre\, Concert Hall\nTickets: $250\, $180\, $100 from Urbtix
URL:https://www.bcmagazine.net/event/pro-arte-christmas-concert-2015/
LOCATION:HK Cultural Centre\, Concert Hall\, 10 Salisbury Road\, Tsim Sha Tsui\, Hong Kong
CATEGORIES:2015,Concert,Music,Performing Arts
GEO:22.294318;114.171708
X-APPLE-STRUCTURED-LOCATION;VALUE=URI;X-ADDRESS=HK Cultural Centre Concert Hall 10 Salisbury Road Tsim Sha Tsui Hong Kong;X-APPLE-RADIUS=500;X-TITLE=10 Salisbury Road:geo:114.171708,22.294318
END:VEVENT
BEGIN:VEVENT
DTSTART;TZID=Asia/Hong_Kong:20151225T201500
DTEND;TZID=Asia/Hong_Kong:20151225T201500
DTSTAMP:20260420T232640
CREATED:19151212T140012Z
LAST-MODIFIED:20151212T140555Z
UID:10000876-1451074500-1451074500@www.bcmagazine.net
SUMMARY:HOCC
DESCRIPTION:HOCC Reimagine Live in Macpherson Woods\nDate: 8:15pm\, 25-27 December\, 2015\nVenue: Macpherson Woods\nTickets: $580\, $420 from Cityline
URL:https://www.bcmagazine.net/event/hocc-2015/2015-12-25/
LOCATION:MacPherson Stadium\, 38 Nelson Street\, Mongkok\, Hong Kong
CATEGORIES:2015,Concert,Music
GEO:22.3188457;114.1728403
X-APPLE-STRUCTURED-LOCATION;VALUE=URI;X-ADDRESS=MacPherson Stadium 38 Nelson Street Mongkok Hong Kong;X-APPLE-RADIUS=500;X-TITLE=38 Nelson Street:geo:114.1728403,22.3188457
END:VEVENT
BEGIN:VEVENT
DTSTART;TZID=Asia/Hong_Kong:20151225T223000
DTEND;TZID=Asia/Hong_Kong:20151225T223000
DTSTAMP:20260420T232640
CREATED:19151126T151732Z
LAST-MODIFIED:20151126T170216Z
UID:10000175-1451082600-1451082600@www.bcmagazine.net
SUMMARY:Eman Lam
DESCRIPTION:Eman Lam\nUdderbelly Festival\nDate: 25-27 December\, 2015\nVenue: Udderbelly Central\nTickets: $488\, $400 from HKTicketing
URL:https://www.bcmagazine.net/event/eman-lam/2015-12-25/
LOCATION:Udderbelly\, Central Harbourfront\, 9 Lung Wo Road\, Central\, Hong Kong
CATEGORIES:2015,Concert,Cultural Festival,Music,Performing Arts
GEO:22.2826223;114.164346
X-APPLE-STRUCTURED-LOCATION;VALUE=URI;X-ADDRESS=Udderbelly Central Harbourfront 9 Lung Wo Road Central Hong Kong;X-APPLE-RADIUS=500;X-TITLE=Central Harbourfront\, 9 Lung Wo Road:geo:114.164346,22.2826223
END:VEVENT
END:VCALENDAR