BEGIN:VCALENDAR
VERSION:2.0
PRODID:-//bc magazine - ECPv6.15.20//NONSGML v1.0//EN
CALSCALE:GREGORIAN
METHOD:PUBLISH
X-WR-CALNAME:bc magazine
X-ORIGINAL-URL:https://www.bcmagazine.net
X-WR-CALDESC:Events for bc magazine
REFRESH-INTERVAL;VALUE=DURATION:PT1H
X-Robots-Tag:noindex
X-PUBLISHED-TTL:PT1H
BEGIN:VTIMEZONE
TZID:Asia/Hong_Kong
BEGIN:STANDARD
TZOFFSETFROM:+0800
TZOFFSETTO:+0800
TZNAME:HKT
DTSTART:20140101T000000
END:STANDARD
END:VTIMEZONE
BEGIN:VEVENT
DTSTART;VALUE=DATE:20151223
DTEND;VALUE=DATE:20160329
DTSTAMP:20260420T051734
CREATED:20151205T153540Z
LAST-MODIFIED:20160105T154954Z
UID:10005084-1450828800-1459209599@www.bcmagazine.net
SUMMARY:Tung Wah Charity Carnival
DESCRIPTION:Tung Wah Charity Carnival\nDate: 23 December 2015 – 28 March 2016\nVenue: Kai Tak Runway\nTickets: $180\nMore info:\nWeekdays: 3-11pm\nFriday\, Saturday: 11am-11pm\nwww.twcarnival.hk
URL:https://www.bcmagazine.net/event/tung-wah-charity-carnival-2016/
LOCATION:Kai Tak Runway\, Kai Tak\, Kowloon City\, Hong Kong
CATEGORIES:2015,2016,Nightlife
GEO:22.3246084;114.1990482
X-APPLE-STRUCTURED-LOCATION;VALUE=URI;X-ADDRESS=Kai Tak Runway Kai Tak Kowloon City Hong Kong;X-APPLE-RADIUS=500;X-TITLE=Kai Tak:geo:114.1990482,22.3246084
END:VEVENT
BEGIN:VEVENT
DTSTART;VALUE=DATE:20151224
DTEND;VALUE=DATE:20151229
DTSTAMP:20260420T051734
CREATED:19151212T142856Z
LAST-MODIFIED:20191015T034632Z
UID:10000205-1450915200-1451347199@www.bcmagazine.net
SUMMARY:HK Food Festival
DESCRIPTION:Hong Kong Mega Showcase\nDate: 24-28 December\, 2015\nVenue: HK Convention & Exhibition Centre\nTickets: $20
URL:https://www.bcmagazine.net/event/hk-food-festival-2015/
LOCATION:HK Convention and Exhibition Centre\, 1 Expo Drive\, Wanchai\, Hong Kong
CATEGORIES:2015,Exhibition,Food
END:VEVENT
BEGIN:VEVENT
DTSTART;TZID=Asia/Hong_Kong:20151228T160000
DTEND;TZID=Asia/Hong_Kong:20151228T160000
DTSTAMP:20260420T051734
CREATED:19151221T132324Z
LAST-MODIFIED:20151221T132606Z
UID:10000994-1451318400-1451318400@www.bcmagazine.net
SUMMARY:Marching Band Festival
DESCRIPTION:Marching Band Festival\nHong Kong Marching Band Association\nDate: 4pm\, 28 December\, 2015\nVenue: Queen Elizabeth Stadium\nTickets: $20 from Urbtix
URL:https://www.bcmagazine.net/event/marching-band-festival/
LOCATION:Queen Elizabeth Stadium\, 18 Oi Kwan Road\, Wanchai\, Hong Kong
CATEGORIES:2015,Concert,Music
GEO:22.2751271;114.1789682
X-APPLE-STRUCTURED-LOCATION;VALUE=URI;X-ADDRESS=Queen Elizabeth Stadium 18 Oi Kwan Road Wanchai Hong Kong;X-APPLE-RADIUS=500;X-TITLE=18 Oi Kwan Road:geo:114.1789682,22.2751271
END:VEVENT
BEGIN:VEVENT
DTSTART;TZID=Asia/Hong_Kong:20151228T194500
DTEND;TZID=Asia/Hong_Kong:20151228T224500
DTSTAMP:20260420T051734
CREATED:19151126T154143Z
LAST-MODIFIED:20151202T001243Z
UID:10000162-1451331900-1451342700@www.bcmagazine.net
SUMMARY:Cantonese Opera
DESCRIPTION:Cantonese Opera\nDate: 7:45pm\,  23 December – 9 January\, 2016\nVenue: HKAPA\, Lyric Theatre\nTickets: $880\, $680\, $480\, $280 from HKTicketing
URL:https://www.bcmagazine.net/event/cantonese-opera-2/2015-12-28/
LOCATION:HKAPA: Lyric Theatre\, 1 Gloucester Road\, Wanchai\, Hong Kong
CATEGORIES:2015,2016,Cantonese Opera,Music,Performing Arts
GEO:22.2801854;114.1695054
X-APPLE-STRUCTURED-LOCATION;VALUE=URI;X-ADDRESS=HKAPA: Lyric Theatre 1 Gloucester Road Wanchai Hong Kong;X-APPLE-RADIUS=500;X-TITLE=1 Gloucester Road:geo:114.1695054,22.2801854
END:VEVENT
END:VCALENDAR