BEGIN:VCALENDAR
VERSION:2.0
PRODID:-//bc magazine - ECPv6.15.20//NONSGML v1.0//EN
CALSCALE:GREGORIAN
METHOD:PUBLISH
X-WR-CALNAME:bc magazine
X-ORIGINAL-URL:https://www.bcmagazine.net
X-WR-CALDESC:Events for bc magazine
REFRESH-INTERVAL;VALUE=DURATION:PT1H
X-Robots-Tag:noindex
X-PUBLISHED-TTL:PT1H
BEGIN:VTIMEZONE
TZID:Asia/Hong_Kong
BEGIN:STANDARD
TZOFFSETFROM:+0800
TZOFFSETTO:+0800
TZNAME:HKT
DTSTART:20150101T000000
END:STANDARD
END:VTIMEZONE
BEGIN:VEVENT
DTSTART;VALUE=DATE:20160402
DTEND;VALUE=DATE:20160403
DTSTAMP:20260420T010917
CREATED:19160212T083632Z
LAST-MODIFIED:20160319T091210Z
UID:10000317-1459555200-1459641599@www.bcmagazine.net
SUMMARY:Beach 5s [CANCELLED]
DESCRIPTION:The Hong Kong Beach 5s [CANCELLED]\nWhen: 2-3 April\, 2016\nWhere: Repulse Bay Beach\nHow much: Free
URL:https://www.bcmagazine.net/event/beach-5s-2016/2016-04-02/
LOCATION:Repulse Bay Beach\, Repulse Bay\, Hong Kong
CATEGORIES:2016,Football,Rugby,Sport
GEO:22.2371597;114.1971229
X-APPLE-STRUCTURED-LOCATION;VALUE=URI;X-ADDRESS=Repulse Bay Beach Repulse Bay Hong Kong;X-APPLE-RADIUS=500;X-TITLE=Repulse Bay:geo:114.1971229,22.2371597
END:VEVENT
BEGIN:VEVENT
DTSTART;VALUE=DATE:20160402
DTEND;VALUE=DATE:20160414
DTSTAMP:20260420T010917
CREATED:19160307T035428Z
LAST-MODIFIED:20220923T202528Z
UID:10000375-1459555200-1460591999@www.bcmagazine.net
SUMMARY:Footprints in the Snow
DESCRIPTION:Footprints in the Snow\nHong Kong Repertory Theatre\,10th Chinese Drama Festival\nDate: 2-13 April\, 2016\nVenue: HK City Hall\, Theatre\nTickets: $300\, $250\, $180 from Urbtix\nMore info:\n2\, 3\, 5-6\, 7\, 8-9\,11-13 April – 7:45pm\n3 April – 2:45pm
URL:https://www.bcmagazine.net/event/footprints-in-the-snow-2016/
LOCATION:HK City Hall\, Theatre\, 5 Edinburgh Place\, Central\, Hong Kong
CATEGORIES:2016,Cultural Festival,Performing Arts,Theatre,Theatre
GEO:22.2822646;114.1615275
X-APPLE-STRUCTURED-LOCATION;VALUE=URI;X-ADDRESS=HK City Hall Theatre 5 Edinburgh Place Central Hong Kong;X-APPLE-RADIUS=500;X-TITLE=5 Edinburgh Place:geo:114.1615275,22.2822646
END:VEVENT
BEGIN:VEVENT
DTSTART;TZID=Asia/Hong_Kong:20160402T170000
DTEND;TZID=Asia/Hong_Kong:20160402T170000
DTSTAMP:20260420T010917
CREATED:20160329T003507Z
LAST-MODIFIED:20160329T003900Z
UID:10006104-1459616400-1459616400@www.bcmagazine.net
SUMMARY:Pillow Fight
DESCRIPTION:Bring your own pillow and join in the fun! \nInternational Pillow Fight Day\nDate: 5pm\, 2 April\, 2016\nVenue: Chater Garden\nTickets: Free
URL:https://www.bcmagazine.net/event/pillow-fight-2016/
LOCATION:Chater Garden\, Central\, Hong Kong
CATEGORIES:2016,Cultural Festival,Free,Nightlife,Other
END:VEVENT
BEGIN:VEVENT
DTSTART;TZID=Asia/Hong_Kong:20160402T193000
DTEND;TZID=Asia/Hong_Kong:20160402T193000
DTSTAMP:20260420T010917
CREATED:19160329T053127Z
LAST-MODIFIED:20160329T053714Z
UID:10001531-1459625400-1459625400@www.bcmagazine.net
SUMMARY:Orgasmo - Erotic Art
DESCRIPTION:Orgasmo\nDate: 7:30pm\, 2 April\, 2016\nVenue: Secret Academy\nTickets: $200
URL:https://www.bcmagazine.net/event/orgasmo-erotic-art/
LOCATION:The Secret Academy\, Hong Kong
CATEGORIES:2016,Nightlife,Other
GEO:22.396428;114.109497
END:VEVENT
BEGIN:VEVENT
DTSTART;TZID=Asia/Hong_Kong:20160402T200000
DTEND;TZID=Asia/Hong_Kong:20160402T200000
DTSTAMP:20260420T010917
CREATED:19160221T072449Z
LAST-MODIFIED:20160829T025551Z
UID:10001400-1459627200-1459627200@www.bcmagazine.net
SUMMARY:Hong Kong Stories
DESCRIPTION:Hong Kong Stories\nDate: 8pm\, 2 March\, 2016\nVenue: Fringe Club\, Fringe Upstairs\nTickets: $120 from HKTicketing\nMore info:\nEvery last Wednesday of the month
URL:https://www.bcmagazine.net/event/hong-kong-stories-2016/2016-04-02/
LOCATION:Fringe Club\, Fringe Upstairs\, Central\, Hong Kong
CATEGORIES:2016,Performing Arts,Theatre
END:VEVENT
BEGIN:VEVENT
DTSTART;TZID=Asia/Hong_Kong:20160402T200000
DTEND;TZID=Asia/Hong_Kong:20160402T200000
DTSTAMP:20260420T010917
CREATED:19160331T063400Z
LAST-MODIFIED:20190924T041549Z
UID:10000459-1459627200-1459627200@www.bcmagazine.net
SUMMARY:China Hong Kong Youth Symphony Orchestra
DESCRIPTION:Fairy Tale Series: Nutcracker·Swan Lake\n\nChina Hong Kong Youth Symphony Orchestra\nDate: 8pm\, 2 April\, 2016\nVenue: HK City Hall\, Concert Hall\nTickets: $120 from Urbtix
URL:https://www.bcmagazine.net/event/china-hong-kong-youth-symphony-orchestra-swan-lake-2016/
LOCATION:HK City Hall\, Concert Hall\,  5 Edinburgh Place\, Central\, Hong Kong
CATEGORIES:2016,Concert,Music,Performing Arts
END:VEVENT
BEGIN:VEVENT
DTSTART;TZID=Asia/Hong_Kong:20160402T201500
DTEND;TZID=Asia/Hong_Kong:20160402T201500
DTSTAMP:20260420T010917
CREATED:19160306T103728Z
LAST-MODIFIED:20160306T104020Z
UID:10001424-1459628100-1459628100@www.bcmagazine.net
SUMMARY:Anthony Wong
DESCRIPTION:Anthony Wong\nDate: 8:15pm\, 1-3 April\, 2016\nVenue: MacPherson Stadium\nTickets: $580\, $420 from Cityline
URL:https://www.bcmagazine.net/event/anthony-wong/2016-04-02/
LOCATION:MacPherson Stadium\, 38 Nelson Street\, Mongkok\, Hong Kong
CATEGORIES:2016,Concert,Music
GEO:22.3188457;114.1728403
X-APPLE-STRUCTURED-LOCATION;VALUE=URI;X-ADDRESS=MacPherson Stadium 38 Nelson Street Mongkok Hong Kong;X-APPLE-RADIUS=500;X-TITLE=38 Nelson Street:geo:114.1728403,22.3188457
END:VEVENT
BEGIN:VEVENT
DTSTART;TZID=Asia/Hong_Kong:20160402T203000
DTEND;TZID=Asia/Hong_Kong:20160402T203000
DTSTAMP:20260420T010917
CREATED:19160221T071825Z
LAST-MODIFIED:20160221T072435Z
UID:10001395-1459629000-1459629000@www.bcmagazine.net
SUMMARY:Magic at the Fringe
DESCRIPTION:Magic at the Fringe\nHarry Wong\nDate: 8:30pm 2 March\, 2016\nVenue: Fringe Club\, Fringe Dairy\nTickets: $230 from HKTicketing\nMore info:\nFirst Wednesday of each month
URL:https://www.bcmagazine.net/event/magic-at-the-fringe-2016/2016-04-02/
LOCATION:Fringe Club\, Fringe Dairy\, Central\, Hong Kong
CATEGORIES:2016,Performing Arts
END:VEVENT
END:VCALENDAR