BEGIN:VCALENDAR
VERSION:2.0
PRODID:-//bc magazine - ECPv6.15.20//NONSGML v1.0//EN
CALSCALE:GREGORIAN
METHOD:PUBLISH
X-WR-CALNAME:bc magazine
X-ORIGINAL-URL:https://www.bcmagazine.net
X-WR-CALDESC:Events for bc magazine
REFRESH-INTERVAL;VALUE=DURATION:PT1H
X-Robots-Tag:noindex
X-PUBLISHED-TTL:PT1H
BEGIN:VTIMEZONE
TZID:Asia/Hong_Kong
BEGIN:STANDARD
TZOFFSETFROM:+0800
TZOFFSETTO:+0800
TZNAME:HKT
DTSTART:20150101T000000
END:STANDARD
END:VTIMEZONE
BEGIN:VEVENT
DTSTART;VALUE=DATE:20160907
DTEND;VALUE=DATE:20160911
DTSTAMP:20260420T053540
CREATED:19160829T172813Z
LAST-MODIFIED:20160911T075315Z
UID:10002067-1473206400-1473551999@www.bcmagazine.net
SUMMARY:Centrestage
DESCRIPTION:Centrestage\nDate: 7-10 September\, 2016\nVenue: HKCEC\nTickets: by invitation\, free\nMore info:\n7-9 Sept – Centrestage\, trade only\n10 Sept – Openstage\, public event
URL:https://www.bcmagazine.net/event/centrestage-hktdc-2016/
LOCATION:HK Convention and Exhibition Centre\, 1 Expo Drive\, Wanchai\, Hong Kong
CATEGORIES:2016,Exhibition,Fashion,Free
END:VEVENT
BEGIN:VEVENT
DTSTART;VALUE=DATE:20160909
DTEND;VALUE=DATE:20161017
DTSTAMP:20260420T053540
CREATED:19160725T052105Z
LAST-MODIFIED:20160725T052258Z
UID:10001919-1473379200-1476662399@www.bcmagazine.net
SUMMARY:Chinese Documentary Festival 2016
DESCRIPTION:Chinese Documentary Festival 2016\nDate: 9 September – 16 October\, 2016\nVenue:\nHong Kong Space Museum (10 Salisbury Road\, TST)\nHong Kong Science Museum (2 Observatory Road\, TST)\nThe Grand Cinema (2/F\, Elements\, 1 Austin Road West\, TST)\nTickets: $85\, $70\nMore info: www.visiblerecord.com
URL:https://www.bcmagazine.net/event/chinese-documentary-festival-2016/
CATEGORIES:2016,Cultural Festival,Film
END:VEVENT
BEGIN:VEVENT
DTSTART;TZID=Asia/Hong_Kong:20160909T190000
DTEND;TZID=Asia/Hong_Kong:20160909T190000
DTSTAMP:20260420T053540
CREATED:19160526T144557Z
LAST-MODIFIED:20160823T174613Z
UID:10001648-1473447600-1473447600@www.bcmagazine.net
SUMMARY:Jimmy Carr
DESCRIPTION:Jimmy Carr Funny Business\nDate: 8-9 September\, 2016\nVenue: KG V\nTickets: $888\, $688\, $588\, $488 from HKTicketing\nMore info:\nOriginal August dates rescheduled to September\n24 Aug at 7pm  /  8 Sept at 7pm\n24 Aug at 9pm  /  8 Sept at 9.15pm\n25 Aug at 8pm  /  9 Sept at 8pm
URL:https://www.bcmagazine.net/event/jimmy-carr-2016/2016-09-09/
LOCATION:KGV\, 2 Tin Kwong Road\, Ho Man Tin\, Hong Kong
CATEGORIES:2016,Comedy,Performing Arts
GEO:22.32173;114.183056
X-APPLE-STRUCTURED-LOCATION;VALUE=URI;X-ADDRESS=KGV 2 Tin Kwong Road Ho Man Tin Hong Kong;X-APPLE-RADIUS=500;X-TITLE=2 Tin Kwong Road:geo:114.183056,22.32173
END:VEVENT
BEGIN:VEVENT
DTSTART;TZID=Asia/Hong_Kong:20160909T193000
DTEND;TZID=Asia/Hong_Kong:20160909T193000
DTSTAMP:20260420T053540
CREATED:19160829T024657Z
LAST-MODIFIED:20160829T025313Z
UID:10001989-1473449400-1473449400@www.bcmagazine.net
SUMMARY:Vinalon
DESCRIPTION:Vinalon\nDate: 7:30pm\, 7-10 September\, 2016\nVenue: Fringe Club\, Fringe Upstairs\nTickets: $200 from HKTicketing
URL:https://www.bcmagazine.net/event/vinalon-2016/2016-09-09/
LOCATION:Fringe Club\, Fringe Upstairs\, Central\, Hong Kong
CATEGORIES:2016,Performing Arts,Theatre
END:VEVENT
BEGIN:VEVENT
DTSTART;TZID=Asia/Hong_Kong:20160909T194500
DTEND;TZID=Asia/Hong_Kong:20160909T194500
DTSTAMP:20260420T053540
CREATED:19160306T104539Z
LAST-MODIFIED:20160306T105623Z
UID:10001428-1473450300-1473450300@www.bcmagazine.net
SUMMARY:The Merchant of Venice
DESCRIPTION:The Merchant of Venice\nShakespeare’s Globe\nDate: 7-11 September\, 2016\nVenue: HKAPA\, Lyric Theatre\nTickets: $795\, $595\, $495 from HKTicketing\nMore info:\n7 Sep 2016 (Wed) at 7:45pm\n8 Sep 2016 (Thu) at 7:45pm\n9 Sep 2016 (Fri) at 7:45pm\n10 Sep 2016 (Sat) at 2:30pm & 7:45pm\n11 Sep 2016 (Sun) at 2:30pm
URL:https://www.bcmagazine.net/event/shakespeares-globe-the-merchant-of-venice-2016/2016-09-09/
LOCATION:HKAPA: Lyric Theatre\, 1 Gloucester Road\, Wanchai\, Hong Kong
CATEGORIES:2016,Performing Arts,Theatre
GEO:22.2801854;114.1695054
X-APPLE-STRUCTURED-LOCATION;VALUE=URI;X-ADDRESS=HKAPA: Lyric Theatre 1 Gloucester Road Wanchai Hong Kong;X-APPLE-RADIUS=500;X-TITLE=1 Gloucester Road:geo:114.1695054,22.2801854
END:VEVENT
BEGIN:VEVENT
DTSTART;TZID=Asia/Hong_Kong:20160909T200000
DTEND;TZID=Asia/Hong_Kong:20160909T200000
DTSTAMP:20260420T053540
CREATED:20160728T015325Z
LAST-MODIFIED:20160728T015325Z
UID:10006123-1473451200-1473451200@www.bcmagazine.net
SUMMARY:Elvis Costello Live in Macau
DESCRIPTION:Elvis Costello Live in Macau\nDate: 8pm\, 9 September\, 2016\nVenue: Macau Cultural Centre\, Grand Auditorium\nTickets: $580\, $380 from MacauTicket (On sale 31 July)
URL:https://www.bcmagazine.net/event/elvis-costello-live-in-macau-2016/
LOCATION:Macao Cultural Centre\, Grand Auditorium\, Avenida Xian Xing Hai\, Macau\, Macau
CATEGORIES:2016,Concert,Macau,Music
END:VEVENT
END:VCALENDAR