BEGIN:VCALENDAR
VERSION:2.0
PRODID:-//bc magazine - ECPv6.15.20//NONSGML v1.0//EN
CALSCALE:GREGORIAN
METHOD:PUBLISH
X-WR-CALNAME:bc magazine
X-ORIGINAL-URL:https://www.bcmagazine.net
X-WR-CALDESC:Events for bc magazine
REFRESH-INTERVAL;VALUE=DURATION:PT1H
X-Robots-Tag:noindex
X-PUBLISHED-TTL:PT1H
BEGIN:VTIMEZONE
TZID:Asia/Hong_Kong
BEGIN:STANDARD
TZOFFSETFROM:+0800
TZOFFSETTO:+0800
TZNAME:HKT
DTSTART:20160101T000000
END:STANDARD
END:VTIMEZONE
BEGIN:VEVENT
DTSTART;VALUE=DATE:20170228
DTEND;VALUE=DATE:20170327
DTSTAMP:20260420T050026
CREATED:19170208T135429Z
LAST-MODIFIED:20220925T110250Z
UID:10002445-1488240000-1490572799@www.bcmagazine.net
SUMMARY:Three Phantoms
DESCRIPTION:Three Phantoms\nDate: 28 February – 26 March\, 2017\nVenue: The Parisian Theatre\, The Parisian Macao\nTickets: $480\, $280\, $180 from HKTicketing
URL:https://www.bcmagazine.net/event/three-phantoms-macau-2017/
LOCATION:The Parisian Theatre\, The Parisian Macao\, Macau
CATEGORIES:2017,Concert,Macau,Music
GEO:22.1905958;113.5518856
X-APPLE-STRUCTURED-LOCATION;VALUE=URI;X-ADDRESS=The Parisian Theatre The Parisian Macao Macau;X-APPLE-RADIUS=500;X-TITLE=The Parisian Macao:geo:113.5518856,22.1905958
END:VEVENT
BEGIN:VEVENT
DTSTART;TZID=Asia/Hong_Kong:20170302T193000
DTEND;TZID=Asia/Hong_Kong:20170302T193000
DTSTAMP:20260420T050026
CREATED:19170131T022434Z
LAST-MODIFIED:20170131T031425Z
UID:10001078-1488483000-1488483000@www.bcmagazine.net
SUMMARY:I Hate Hamlet!
DESCRIPTION:To be or not to be – that is the question facing celebrity TV actor Andrew Rally (Hamish Campbell). To be Hamlet in a prestigious production in New York’s Central Park\, or not to be Hamlet and stick to what he knows best – phone-it-in acting on a cheesy but popular TV show. \nHis girlfriend (Kate Mulligan) and his agent (Kath O’Connor) want him to take the role; his Hollywood buddy (Mike Pizzuto) and real-estate agent (Jane Archibald) do not. As for Andrew\, he’s just not sure he’s capable of the Bard. Plus he’s seriously worried about the slings and arrows of outraged critics! \nEnter the ghost of John Barrymore (Neville Sarony)\, dressed in high Shakespearean garb and determined to help Andrew fulfill his actor’s destiny. What a piece of work is Barrymore! Noble in reason and infinite in faculty\, and yet Andrew remains suspicious that Barrymore may smile and smile and be a villain. \nPlaywright Paul Rudnick had the idea for this award-winning comedy when he lived in John Barrymore’s apartment in New York in the late 1980s. \nSo\, what’s a man to do? It’s said that all the world’s a stage and each must play his part… the question is\, which part? \n \nCast\nAndrew Rally – Hamish Campbell\nJohn Barrymore – Neville Sarony\nDeirdre McDavey – Kate Mulligan\nLillian Troy – Kath O’Connor\nFelicia Dantine – Jane Archibald\nGary Lefkowitz – Mike Pizzuto \nDirector: Jodi Gilchrist\nAssistant Director: Sarah Kidd \nI Hate Hamlet!\nHong Kong Players\nDate: 1-4 March\, 2017\nVenue: Fringe Club\, Fringe Underground\nTickets: $280 from www.art-mate.net
URL:https://www.bcmagazine.net/event/i-hate-hamlet/2017-03-02/
LOCATION:Fringe Club: Fringe Underground\, Central\, Hong Kong
CATEGORIES:2017,Performing Arts,Theatre
END:VEVENT
END:VCALENDAR