BEGIN:VCALENDAR
VERSION:2.0
PRODID:-//bc magazine - ECPv6.15.20//NONSGML v1.0//EN
CALSCALE:GREGORIAN
METHOD:PUBLISH
X-WR-CALNAME:bc magazine
X-ORIGINAL-URL:https://www.bcmagazine.net
X-WR-CALDESC:Events for bc magazine
REFRESH-INTERVAL;VALUE=DURATION:PT1H
X-Robots-Tag:noindex
X-PUBLISHED-TTL:PT1H
BEGIN:VTIMEZONE
TZID:Asia/Hong_Kong
BEGIN:STANDARD
TZOFFSETFROM:+0800
TZOFFSETTO:+0800
TZNAME:HKT
DTSTART:20160101T000000
END:STANDARD
END:VTIMEZONE
BEGIN:VEVENT
DTSTART;VALUE=DATE:20171220
DTEND;VALUE=DATE:20180108
DTSTAMP:20260420T050039
CREATED:19171212T072433Z
LAST-MODIFIED:20171220T075901Z
UID:10003664-1513728000-1515369599@www.bcmagazine.net
SUMMARY:The Sound of Music
DESCRIPTION:The Sound of Music\nDate: 20 December\, 2017 – 7 January\, 2018\nVenue: The Venetian Macao\, Venetian Theatre\nTickets: $888\, $688\, $488\, $288 from HKTicketing\nMore info:\n20 Dec 2017 – 7 Jan 2018 – 7:30pm (No show on Tuesdays)\n24\, 25\, 27\, 30\, 31 Dec 2017 & 6\, 7  Jan 2018 – 2pm
URL:https://www.bcmagazine.net/event/the-sound-of-music-macau-2018/
LOCATION:The Venetian Theatre\, Venetian Macao\, Taipa\, Macau
CATEGORIES:2018,Macau,Musical,Performing Arts,Theatre
GEO:22.1483528;113.5602019
X-APPLE-STRUCTURED-LOCATION;VALUE=URI;X-ADDRESS=The Venetian Theatre Venetian Macao Taipa Macau;X-APPLE-RADIUS=500;X-TITLE=Venetian Macao:geo:113.5602019,22.1483528
END:VEVENT
BEGIN:VEVENT
DTSTART;VALUE=DATE:20171221
DTEND;VALUE=DATE:20180226
DTSTAMP:20260420T050039
CREATED:19171212T072433Z
LAST-MODIFIED:20180123T125159Z
UID:10003654-1513814400-1519603199@www.bcmagazine.net
SUMMARY:AIA The Great European Carnival
DESCRIPTION:AIA The Great European Carnival + The Great Circus of Europe\nDate: 21 December\, 2017 – 25 February\, 2018\nVenue: Central Harbourfront\nTickets: $130\, $40
URL:https://www.bcmagazine.net/event/the-great-european-carnival-2017-18/
LOCATION:Central Harbourfront\,  9 Lung Wo Road\, Central\, Hong Kong
CATEGORIES:2017,2018,Nightlife
ATTACH;FMTTYPE=image/jpeg:https://www.bcmagazine.net/wp-content/uploads/2018/01/TGEC-2018.jpg
GEO:22.2826223;114.164346
X-APPLE-STRUCTURED-LOCATION;VALUE=URI;X-ADDRESS=Central Harbourfront  9 Lung Wo Road Central Hong Kong;X-APPLE-RADIUS=500;X-TITLE=9 Lung Wo Road:geo:114.164346,22.2826223
END:VEVENT
BEGIN:VEVENT
DTSTART;TZID=Asia/Hong_Kong:20171221T193000
DTEND;TZID=Asia/Hong_Kong:20171221T201500
DTSTAMP:20260420T050039
CREATED:19170708T025200Z
LAST-MODIFIED:20170708T041813Z
UID:10002959-1513884600-1513887300@www.bcmagazine.net
SUMMARY:The Nutcracker
DESCRIPTION:The Nutcracker\nHK Ballet\nDate: 15-17\, 19-20\, 22-26 December\, 2017\nVenue: HK Cultural Centre\, Grand Theatre\nTickets: $1\,000\, $680\, $480\, $320\, $180 from Urbtix\nMore info:\n15-17\, 19-20\, 22-24 December – 7:30pm\n16-17\, 23-26 December – 2:30pm
URL:https://www.bcmagazine.net/event/the-nutcracker-2017/2017-12-21/
LOCATION:HK Cultural Centre\, Grand Theatre\,\, 10 Salisbury Road\, Tsim Sha Tsui\, Hong Kong
CATEGORIES:2017,Ballet,Dance,Performing Arts
GEO:22.294318;114.171708
X-APPLE-STRUCTURED-LOCATION;VALUE=URI;X-ADDRESS=HK Cultural Centre Grand Theatre 10 Salisbury Road Tsim Sha Tsui Hong Kong;X-APPLE-RADIUS=500;X-TITLE=10 Salisbury Road:geo:114.171708,22.294318
END:VEVENT
BEGIN:VEVENT
DTSTART;TZID=Asia/Hong_Kong:20171221T194500
DTEND;TZID=Asia/Hong_Kong:20171221T194500
DTSTAMP:20260420T050039
CREATED:19170520T100528Z
LAST-MODIFIED:20170520T114546Z
UID:10002751-1513885500-1513885500@www.bcmagazine.net
SUMMARY:Scrooge! – the Musical
DESCRIPTION:Scrooge! – the Musical\nHong Kong Repertory Theatre\nDate: 16-26 December\, 2017\nVenue: HKAPA\, Lyric Theatre\nTickets: $350\, $240\, $170 from Urbtix\nMore info:\nMusical in Cantonese with Chinese and English surtitles
URL:https://www.bcmagazine.net/event/scrooge-the-musical-hkrep-2017/2017-12-21/
LOCATION:HKAPA: Lyric Theatre\, 1 Gloucester Road\, Wanchai\, Hong Kong
CATEGORIES:2017,Musical,Performing Arts,Theatre
GEO:22.2801854;114.1695054
X-APPLE-STRUCTURED-LOCATION;VALUE=URI;X-ADDRESS=HKAPA: Lyric Theatre 1 Gloucester Road Wanchai Hong Kong;X-APPLE-RADIUS=500;X-TITLE=1 Gloucester Road:geo:114.1695054,22.2801854
END:VEVENT
BEGIN:VEVENT
DTSTART;TZID=Asia/Hong_Kong:20171221T200000
DTEND;TZID=Asia/Hong_Kong:20171221T200000
DTSTAMP:20260420T050039
CREATED:19171107T104126Z
LAST-MODIFIED:20171107T113243Z
UID:10003588-1513886400-1513886400@www.bcmagazine.net
SUMMARY:Candy Lo
DESCRIPTION:Candy Lo – Return\nDate: 8pm\, 21 December\, 2017\nVenue: MacPherson Stadium\nTickets: $680\, $380 from Cityline
URL:https://www.bcmagazine.net/event/candy-lo-21-12-2017/
LOCATION:MacPherson Stadium\, 38 Nelson Street\, Mongkok\, Hong Kong
CATEGORIES:2017,Cantopop,Concert,Music,Performing Arts
GEO:22.3188457;114.1728403
X-APPLE-STRUCTURED-LOCATION;VALUE=URI;X-ADDRESS=MacPherson Stadium 38 Nelson Street Mongkok Hong Kong;X-APPLE-RADIUS=500;X-TITLE=38 Nelson Street:geo:114.1728403,22.3188457
END:VEVENT
END:VCALENDAR