BEGIN:VCALENDAR
VERSION:2.0
PRODID:-//bc magazine - ECPv6.15.20//NONSGML v1.0//EN
CALSCALE:GREGORIAN
METHOD:PUBLISH
X-WR-CALNAME:bc magazine
X-ORIGINAL-URL:https://www.bcmagazine.net
X-WR-CALDESC:Events for bc magazine
REFRESH-INTERVAL;VALUE=DURATION:PT1H
X-Robots-Tag:noindex
X-PUBLISHED-TTL:PT1H
BEGIN:VTIMEZONE
TZID:Asia/Hong_Kong
BEGIN:STANDARD
TZOFFSETFROM:+0800
TZOFFSETTO:+0800
TZNAME:HKT
DTSTART:20170101T000000
END:STANDARD
END:VTIMEZONE
BEGIN:VEVENT
DTSTART;VALUE=DATE:20180209
DTEND;VALUE=DATE:20180507
DTSTAMP:20260420T052809
CREATED:20180208T065813Z
LAST-MODIFIED:20180228T071122Z
UID:10006477-1518134400-1525651199@www.bcmagazine.net
SUMMARY:Samson Young Songs for Disaster Relief World Tour
DESCRIPTION:Samson Young: Songs for Disaster Relief World Tour is the Hong Kong edition of the exhibition Songs for Disaster Relief conceived by multidisciplinary artist Samson Young for the 57th International Art Exhibition at the Venice Biennale 2017. \nIt features a series of sculptures\, objects\, videos\, sound installations and site-specific pieces\, the exhibition offers a unique audiovisual experience that re-examines the popularity of charity singles from the 1980s. Creatively repurposing and misreading iconic songs made by popular artists for charitable causes\, Young draws on seemingly unrelated past and current events to explore the social\, political\, and philosophical implications of charity singles in a cross-cultural context. \nThe exhibition is accompanied by a series of talks\, guided tours\, and live performances. \nSamson Young: Songs for Disaster Relief World Tour\nDate: 9 February – 6 May\, 2018\nVenue: M+ Pavilion\, West Kowloon Cultural District\nTickets: Free\nMore info:\n11am–6pm\nWednesday to Sunday and public holidays
URL:https://www.bcmagazine.net/event/samson-young-songs-for-disaster-relief-world-tour-2018/
LOCATION:West Kowloon Cultural District\, M+ Pavilion\, West Kowloon Cultural District\, West Kowloon\, Hong Kong
CATEGORIES:2018,Art Gallery,Exhibition,Free
ATTACH;FMTTYPE=image/jpeg:https://www.bcmagazine.net/wp-content/uploads/2018/02/Samson-Young-Songs-for-Disaster-Relief-World-Tour.jpg
GEO:22.2989668;114.1551898
X-APPLE-STRUCTURED-LOCATION;VALUE=URI;X-ADDRESS=West Kowloon Cultural District M+ Pavilion West Kowloon Cultural District West Kowloon Hong Kong;X-APPLE-RADIUS=500;X-TITLE=West Kowloon Cultural District:geo:114.1551898,22.2989668
END:VEVENT
BEGIN:VEVENT
DTSTART;VALUE=DATE:20180210
DTEND;VALUE=DATE:20180630
DTSTAMP:20260420T052809
CREATED:19180303T082231Z
LAST-MODIFIED:20180303T102023Z
UID:10003878-1518220800-1530316799@www.bcmagazine.net
SUMMARY:Monkey King
DESCRIPTION:Monkey King – China Show\nDate: until 29 June\, 2018\nVenue: Sands Cotai Theatre\nTickets: $1\,280\, $980\, $680\, $480\, $380 from CotaiTicketing\nMore info:\nNightly except Thursday\nIn Chinese with English subtitles
URL:https://www.bcmagazine.net/event/monkey-king-macau-2018/
LOCATION:Venetian Macau\, Sands Theatre\, Venetian Macau\, Macau
CATEGORIES:2018,Macau,Performing Arts
GEO:22.1483528;113.5602019
X-APPLE-STRUCTURED-LOCATION;VALUE=URI;X-ADDRESS=Venetian Macau Sands Theatre Venetian Macau Macau;X-APPLE-RADIUS=500;X-TITLE=Venetian Macau:geo:113.5602019,22.1483528
END:VEVENT
BEGIN:VEVENT
DTSTART;VALUE=DATE:20180301
DTEND;VALUE=DATE:20180319
DTSTAMP:20260420T052809
CREATED:19180208T065813Z
LAST-MODIFIED:20180228T082524Z
UID:10003766-1519862400-1521417599@www.bcmagazine.net
SUMMARY:European Union Film Festival 2018
DESCRIPTION:European Union Film Festival 2018\nDate: 1-18 March\, 2018\nVenues: Broadway Cinematheque\, AMC Pacific Place\nTickets: $ various\nMore info: https://issuu.com/broadwaycinematheque/docs/_issuu_20180206_booklet_euff2018
URL:https://www.bcmagazine.net/event/european-union-film-festival-2018/
CATEGORIES:2018,Cultural Festival,Film,Lifestyle,Performing Arts
ATTACH;FMTTYPE=image/jpeg:https://www.bcmagazine.net/wp-content/uploads/2018/02/European-Union-Film-Festival-EUFF-2018.jpg
END:VEVENT
BEGIN:VEVENT
DTSTART;VALUE=DATE:20180316
DTEND;VALUE=DATE:20180326
DTSTAMP:20260420T052809
CREATED:19180208T065813Z
LAST-MODIFIED:20180228T072842Z
UID:10003765-1521158400-1522022399@www.bcmagazine.net
SUMMARY:Hong Kong Flower Show 2018
DESCRIPTION:Hong Kong Flower Show 2018\n Date: 9am\, 16-15 March\, 2018\nVenue: Victoria Park\nTickets: $14
URL:https://www.bcmagazine.net/event/hong-kong-flower-show-2018/
LOCATION:Victoria Park\, Causeway Bay\, Hong Kong
CATEGORIES:2018,Exhibition,Lifestyle,Other
END:VEVENT
BEGIN:VEVENT
DTSTART;VALUE=DATE:20180316
DTEND;VALUE=DATE:20180618
DTSTAMP:20260420T052809
CREATED:19180303T082231Z
LAST-MODIFIED:20180303T104749Z
UID:10003882-1521158400-1529279999@www.bcmagazine.net
SUMMARY:La Parisienne
DESCRIPTION:La Parisienne – Cabaret Francaise\n Date: 16 March – 17  June\, 2018\nVenue: Parisian Theatre\nTickets: $488\, $388\, $188 from CotaiTicketing\nMore info:\nTue – Fri\, 8pm\,\nSat – 2pm & 8pm\nSun – 2pm & 5pm\n*Dark day on Monday
URL:https://www.bcmagazine.net/event/la-parisienne-macau-2018/
LOCATION:The Parisian Theatre\, The Parisian Macao\, Macau
CATEGORIES:2018,Macau,Performing Arts,Theatre
GEO:22.1905958;113.5518856
X-APPLE-STRUCTURED-LOCATION;VALUE=URI;X-ADDRESS=The Parisian Theatre The Parisian Macao Macau;X-APPLE-RADIUS=500;X-TITLE=The Parisian Macao:geo:113.5518856,22.1905958
END:VEVENT
BEGIN:VEVENT
DTSTART;VALUE=DATE:20180317
DTEND;VALUE=DATE:20180319
DTSTAMP:20260420T052809
CREATED:19180206T083632Z
LAST-MODIFIED:20180214T073235Z
UID:10003761-1521244800-1521417599@www.bcmagazine.net
SUMMARY:Hong Kong Beach 5s
DESCRIPTION:Hong Kong Beach 5s\nWhen: 17-18 March\, 2018\nWhere: Repulse Bay Beach\nHow much: Free
URL:https://www.bcmagazine.net/event/hong-kong-beach-5s-2018/
LOCATION:Repulse Bay Beach\, Repulse Bay\, Hong Kong
CATEGORIES:Beach Volleyball,Football,Rugby,Sport
GEO:22.2371597;114.1971229
X-APPLE-STRUCTURED-LOCATION;VALUE=URI;X-ADDRESS=Repulse Bay Beach Repulse Bay Hong Kong;X-APPLE-RADIUS=500;X-TITLE=Repulse Bay:geo:114.1971229,22.2371597
END:VEVENT
BEGIN:VEVENT
DTSTART;TZID=Asia/Hong_Kong:20180318T144500
DTEND;TZID=Asia/Hong_Kong:20180318T144500
DTSTAMP:20260420T052809
CREATED:20230114T134743Z
LAST-MODIFIED:20230114T134743Z
UID:10002743-1521384300-1521384300@www.bcmagazine.net
SUMMARY:Auspicious Day
DESCRIPTION:Auspicious Day\nHong Kong Repertory Theatre\nDate: 10-25 March\, 2018\nVenue: HK Arts Centre\, Shouson Theatre\nTickets: $300\, $250\, $230\, $180 from Urbtix\nMore info:\nDrama in Cantonese with Chinese and English surtitles\n10\, 13–17\, 20–24 March – 7:45pm\n11\, 17–18\, 24-25 March 2:45pm
URL:https://www.bcmagazine.net/event/auspicious-day-hkrep-2017/2018-03-18/
LOCATION:HK Arts Centre\, Shouson Theatre\, 2 Harbour Road\, Wanchai\, Hong Kong
CATEGORIES:2018,Performing Arts,Theatre
GEO:22.280173;114.1708144
X-APPLE-STRUCTURED-LOCATION;VALUE=URI;X-ADDRESS=HK Arts Centre Shouson Theatre 2 Harbour Road Wanchai Hong Kong;X-APPLE-RADIUS=500;X-TITLE=2 Harbour Road:geo:114.1708144,22.280173
END:VEVENT
BEGIN:VEVENT
DTSTART;TZID=Asia/Hong_Kong:20180318T150000
DTEND;TZID=Asia/Hong_Kong:20180318T150000
DTSTAMP:20260420T052809
CREATED:19180222T090237Z
LAST-MODIFIED:20180222T125419Z
UID:10003854-1521385200-1521385200@www.bcmagazine.net
SUMMARY:Doctrine of Happiness
DESCRIPTION:Doctrine of Happiness\nHK Arts Festival\nDate: 16-18\, 22-25 March\, 2018\nVenue: HK Cultural Centre\, Studio Theatre\nTickets: $260\, $160 from Urbtix\nMore info:\n16-17\, 22-24 March – 8:15pm\n18\, 24-25 March – 3pm\nIn Cantonese
URL:https://www.bcmagazine.net/event/doctrine-of-happiness-18-03-2018/
LOCATION:HK Cultural Centre\, Studio Theatre\, 10 Salisbury Road\, Tsim Sha Tsui\, Hong Kong
CATEGORIES:2018,Cantonese drama,Performing Arts,Theatre
END:VEVENT
BEGIN:VEVENT
DTSTART;TZID=Asia/Hong_Kong:20180318T153000
DTEND;TZID=Asia/Hong_Kong:20180318T153000
DTSTAMP:20260420T052809
CREATED:19180223T071624Z
LAST-MODIFIED:20180223T072133Z
UID:10003857-1521387000-1521387000@www.bcmagazine.net
SUMMARY:Alice in Wonderland
DESCRIPTION:Alice in Wonderland\nDate: 17-18 March\, 2018\nVenue: Youth Square\, Y Theatre\nTickets: $299\, $260 from Urbtix\nMore info:\n17-18 March – 3:30pm\n17 March – 7:30pm
URL:https://www.bcmagazine.net/event/alice-in-wonderland-18-03-2018/
LOCATION:Youth Square\, Y Theatre\, 238 Chai Wan Road\, Chai Wan\, Hong Kong
CATEGORIES:2018,Ballet,Dance,Performing Arts,Theatre
GEO:22.26301;114.2366034
X-APPLE-STRUCTURED-LOCATION;VALUE=URI;X-ADDRESS=Youth Square Y Theatre 238 Chai Wan Road Chai Wan Hong Kong;X-APPLE-RADIUS=500;X-TITLE=238 Chai Wan Road:geo:114.2366034,22.26301
END:VEVENT
BEGIN:VEVENT
DTSTART;TZID=Asia/Hong_Kong:20180318T190000
DTEND;TZID=Asia/Hong_Kong:20180318T190000
DTSTAMP:20260420T052809
CREATED:19180208T065813Z
LAST-MODIFIED:20180228T095956Z
UID:10003768-1521399600-1521399600@www.bcmagazine.net
SUMMARY:Synergy
DESCRIPTION:Synergy – Laika Album Release Show\nSupport: eli\, BlackWine\n Date: 7pm\, 18 March\, 2018\nVenue: This Town Needs (TTN)\nTickets: $250 (with CD)\, $180 from https://etickets.hk/project/synergy/laika
URL:https://www.bcmagazine.net/event/synergy-laika-2018/
LOCATION:This Town Needs (TTN)\, 1/F Ocean One\, 6 Shung Shun Street\, Yau Tong\, Hong Kong
CATEGORIES:2018,Concert,Music,Performing Arts
GEO:22.292861;114.23782
X-APPLE-STRUCTURED-LOCATION;VALUE=URI;X-ADDRESS=This Town Needs (TTN) 1/F Ocean One 6 Shung Shun Street Yau Tong Hong Kong;X-APPLE-RADIUS=500;X-TITLE=1/F Ocean One\, 6 Shung Shun Street:geo:114.23782,22.292861
END:VEVENT
BEGIN:VEVENT
DTSTART;TZID=Asia/Hong_Kong:20180318T200000
DTEND;TZID=Asia/Hong_Kong:20180318T200000
DTSTAMP:20260420T052809
CREATED:19180303T082231Z
LAST-MODIFIED:20180303T112751Z
UID:10003891-1521403200-1521403200@www.bcmagazine.net
SUMMARY:Bosch Dreams
DESCRIPTION:Bosch Dreams\n Date: 8pm\, 18 March\, 2018\nVenue: Macau Cultural Centre\, Grand Auditorium\nTickets: $250\, $200 from Macau Ticket
URL:https://www.bcmagazine.net/event/bosch-dreams-macau-2018/
LOCATION:Macao Cultural Centre\, Grand Auditorium\, Avenida Xian Xing Hai\, Macau\, Macau
CATEGORIES:2018,Macau,Performing Arts,Theatre
END:VEVENT
BEGIN:VEVENT
DTSTART;TZID=Asia/Hong_Kong:20180318T200000
DTEND;TZID=Asia/Hong_Kong:20180318T200000
DTSTAMP:20260420T052809
CREATED:19180303T082231Z
LAST-MODIFIED:20180303T114201Z
UID:10003897-1521403200-1521403200@www.bcmagazine.net
SUMMARY:Zhou Yunpeng
DESCRIPTION:Zhou Yunpeng – Poetic China\nThe Script Road Concert\n Date: 8pm\, 18 March\, 2018\nVenue: Dom Pedro V Theatre\nTickets: $120 from Macau Ticket
URL:https://www.bcmagazine.net/event/zhou-yunpeng-poetic-china-macau-2018/
LOCATION:Dom Pedro V Theatre\, Largo de Santo Agostinho\, Macau
CATEGORIES:2018,Concert,Macau,Music,Performing Arts
GEO:22.1922848;113.5380585
X-APPLE-STRUCTURED-LOCATION;VALUE=URI;X-ADDRESS=Dom Pedro V Theatre Largo de Santo Agostinho Macau;X-APPLE-RADIUS=500;X-TITLE=Largo de Santo Agostinho:geo:113.5380585,22.1922848
END:VEVENT
BEGIN:VEVENT
DTSTART;TZID=Asia/Hong_Kong:20180318T201500
DTEND;TZID=Asia/Hong_Kong:20180318T201500
DTSTAMP:20260420T052809
CREATED:19180221T080817Z
LAST-MODIFIED:20180221T123617Z
UID:10003797-1521404100-1521404100@www.bcmagazine.net
SUMMARY:Jay Chou
DESCRIPTION:Jay Chou – The Invincible Concert Tour 2\nDate: 8:15pm\, 15-19\, 21-25 March\, 2018\nVenue: HK Coliseum\nTickets: $1\,180\, $780\, $480 from Urbtix
URL:https://www.bcmagazine.net/event/jay-chou-18-03-2018/
LOCATION:HK Coliseum\, 9 Cheong Wan Road\, Hung Hom\, Hong Kong
CATEGORIES:2018,Concert,Music,Performing Arts
ATTACH;FMTTYPE=image/jpeg:https://www.bcmagazine.net/wp-content/uploads/2018/02/Miserable-Faith-@-This-Town-Needs-2018.jpg
GEO:22.3014169;114.1820305
X-APPLE-STRUCTURED-LOCATION;VALUE=URI;X-ADDRESS=HK Coliseum 9 Cheong Wan Road Hung Hom Hong Kong;X-APPLE-RADIUS=500;X-TITLE=9 Cheong Wan Road:geo:114.1820305,22.3014169
END:VEVENT
END:VCALENDAR