BEGIN:VCALENDAR
VERSION:2.0
PRODID:-//bc magazine - ECPv6.15.20//NONSGML v1.0//EN
CALSCALE:GREGORIAN
METHOD:PUBLISH
X-WR-CALNAME:bc magazine
X-ORIGINAL-URL:https://www.bcmagazine.net
X-WR-CALDESC:Events for bc magazine
REFRESH-INTERVAL;VALUE=DURATION:PT1H
X-Robots-Tag:noindex
X-PUBLISHED-TTL:PT1H
BEGIN:VTIMEZONE
TZID:Asia/Hong_Kong
BEGIN:STANDARD
TZOFFSETFROM:+0800
TZOFFSETTO:+0800
TZNAME:HKT
DTSTART:20170101T000000
END:STANDARD
END:VTIMEZONE
BEGIN:VEVENT
DTSTART;VALUE=DATE:20180210
DTEND;VALUE=DATE:20180630
DTSTAMP:20260420T051821
CREATED:19180303T082231Z
LAST-MODIFIED:20180303T102023Z
UID:10003878-1518220800-1530316799@www.bcmagazine.net
SUMMARY:Monkey King
DESCRIPTION:Monkey King – China Show\nDate: until 29 June\, 2018\nVenue: Sands Cotai Theatre\nTickets: $1\,280\, $980\, $680\, $480\, $380 from CotaiTicketing\nMore info:\nNightly except Thursday\nIn Chinese with English subtitles
URL:https://www.bcmagazine.net/event/monkey-king-macau-2018/
LOCATION:Venetian Macau\, Sands Theatre\, Venetian Macau\, Macau
CATEGORIES:2018,Macau,Performing Arts
GEO:22.1483528;113.5602019
X-APPLE-STRUCTURED-LOCATION;VALUE=URI;X-ADDRESS=Venetian Macau Sands Theatre Venetian Macau Macau;X-APPLE-RADIUS=500;X-TITLE=Venetian Macau:geo:113.5602019,22.1483528
END:VEVENT
BEGIN:VEVENT
DTSTART;VALUE=DATE:20180316
DTEND;VALUE=DATE:20180618
DTSTAMP:20260420T051821
CREATED:19180303T082231Z
LAST-MODIFIED:20180303T104749Z
UID:10003882-1521158400-1529279999@www.bcmagazine.net
SUMMARY:La Parisienne
DESCRIPTION:La Parisienne – Cabaret Francaise\n Date: 16 March – 17  June\, 2018\nVenue: Parisian Theatre\nTickets: $488\, $388\, $188 from CotaiTicketing\nMore info:\nTue – Fri\, 8pm\,\nSat – 2pm & 8pm\nSun – 2pm & 5pm\n*Dark day on Monday
URL:https://www.bcmagazine.net/event/la-parisienne-macau-2018/
LOCATION:The Parisian Theatre\, The Parisian Macao\, Macau
CATEGORIES:2018,Macau,Performing Arts,Theatre
GEO:22.1905958;113.5518856
X-APPLE-STRUCTURED-LOCATION;VALUE=URI;X-ADDRESS=The Parisian Theatre The Parisian Macao Macau;X-APPLE-RADIUS=500;X-TITLE=The Parisian Macao:geo:113.5518856,22.1905958
END:VEVENT
BEGIN:VEVENT
DTSTART;VALUE=DATE:20180419
DTEND;VALUE=DATE:20180604
DTSTAMP:20260420T051821
CREATED:20180214T102637Z
LAST-MODIFIED:20180214T104107Z
UID:10006479-1524096000-1528070399@www.bcmagazine.net
SUMMARY:Cirque du Soleil: Kooza
DESCRIPTION:Cirque du Soleil’s Kooza\n Date: 19 April – 3 June\, 2018\nVenue: Central Harbourfront\nTickets: $1\,888\, $1\,288\, $1\,088\, $888\, $688\, $488\nMore info:\nTuesdays              5pm* & 8pm\nWednesdays        8pm\nThursdays            8pm\nFridays                 4.30pm**\, 8pm\nSaturdays             4:30pm\, 8pm\nSundays               1:30pm & 5pm \n* Public holiday shows on May 1 & May 22.\n** Additional shows on 20 April 2018 and 11 May 2018
URL:https://www.bcmagazine.net/event/cirque-du-soleil-kooza-2018/
LOCATION:Central Harbourfront\,  9 Lung Wo Road\, Central\, Hong Kong
CATEGORIES:2018,Performing Arts
GEO:22.2826223;114.164346
X-APPLE-STRUCTURED-LOCATION;VALUE=URI;X-ADDRESS=Central Harbourfront  9 Lung Wo Road Central Hong Kong;X-APPLE-RADIUS=500;X-TITLE=9 Lung Wo Road:geo:114.164346,22.2826223
END:VEVENT
BEGIN:VEVENT
DTSTART;VALUE=DATE:20180511
DTEND;VALUE=DATE:20180604
DTSTAMP:20260420T051821
CREATED:20170724T031400Z
LAST-MODIFIED:20180111T064845Z
UID:10006409-1525996800-1528070399@www.bcmagazine.net
SUMMARY:Evita
DESCRIPTION:Evita\nDate: 11 May – 3 June\, 2018\nVenue: HKAPA\, Lyric Theatre\nTickets: $1\,250\, $1\,045\, $845\, $595\, $445 from HKTicketing\nMore info:\nMonday: OFF\nTue-Fri: 7:45pm\nSat: 2pm & 7:45pm\nSun: 1pm & 6pm
URL:https://www.bcmagazine.net/event/evita-2018/
LOCATION:HKAPA: Lyric Theatre\, 1 Gloucester Road\, Wanchai\, Hong Kong
CATEGORIES:2018,Musical,Performing Arts,Theatre
GEO:22.2801854;114.1695054
X-APPLE-STRUCTURED-LOCATION;VALUE=URI;X-ADDRESS=HKAPA: Lyric Theatre 1 Gloucester Road Wanchai Hong Kong;X-APPLE-RADIUS=500;X-TITLE=1 Gloucester Road:geo:114.1695054,22.2801854
END:VEVENT
BEGIN:VEVENT
DTSTART;TZID=Asia/Hong_Kong:20180513T080000
DTEND;TZID=Asia/Hong_Kong:20180513T170000
DTSTAMP:20260420T051821
CREATED:19180226T100054Z
LAST-MODIFIED:20180226T100341Z
UID:10003867-1526198400-1526230800@www.bcmagazine.net
SUMMARY:District Race
DESCRIPTION:District Race\nDate: 13 May\, 2018\nVeune: Central Harbourfront\nTickets: $500\, $450\, $350\, $300
URL:https://www.bcmagazine.net/event/district-race-2018/
LOCATION:Central Harbourfront\,  9 Lung Wo Road\, Central\, Hong Kong
CATEGORIES:2018,Sport
GEO:22.2826223;114.164346
X-APPLE-STRUCTURED-LOCATION;VALUE=URI;X-ADDRESS=Central Harbourfront  9 Lung Wo Road Central Hong Kong;X-APPLE-RADIUS=500;X-TITLE=9 Lung Wo Road:geo:114.164346,22.2826223
END:VEVENT
BEGIN:VEVENT
DTSTART;TZID=Asia/Hong_Kong:20180513T084500
DTEND;TZID=Asia/Hong_Kong:20180513T084500
DTSTAMP:20260420T051821
CREATED:19171217T075358Z
LAST-MODIFIED:20180214T105134Z
UID:10003693-1526201100-1526201100@www.bcmagazine.net
SUMMARY:SwimRun #3: Sai Kung
DESCRIPTION:SwimRun #3: Sai Kung\nDate: 8:45am\, 13 May\, 2018\nVenue: Sai Kung\nTickets: $280
URL:https://www.bcmagazine.net/event/swimrun-3-sai-kung-2018/
LOCATION:Sai Kung\, Sai Kung\, Hong Kong
CATEGORIES:2018,Lifestyle,Sport,Swimming
GEO:22.396428;114.109497
END:VEVENT
BEGIN:VEVENT
DTSTART;TZID=Asia/Hong_Kong:20180513T191500
DTEND;TZID=Asia/Hong_Kong:20180513T191500
DTSTAMP:20260420T051821
CREATED:19180505T081708Z
LAST-MODIFIED:20180505T084317Z
UID:10003997-1526238900-1526238900@www.bcmagazine.net
SUMMARY:Mayday
DESCRIPTION:Mayday Life Tour 2018\nDate: 7:15pm\, 4-6\, 11-13 May\, 2018\nVenue: HK Disneyland\nTickets: $1\,180\, $880\, $680\, $480 from Cityline
URL:https://www.bcmagazine.net/event/mayday-13-05-2018/
LOCATION:Disneyland Hong Kong\, Lantau\, Hong Kong
CATEGORIES:2018,Concert,Music,Performing Arts
GEO:22.2664984;113.941751
END:VEVENT
BEGIN:VEVENT
DTSTART;TZID=Asia/Hong_Kong:20180513T200000
DTEND;TZID=Asia/Hong_Kong:20180513T200000
DTSTAMP:20260420T051821
CREATED:20171013T084056Z
LAST-MODIFIED:20171019T113936Z
UID:10006451-1526241600-1526241600@www.bcmagazine.net
SUMMARY:Bruno Mars
DESCRIPTION:Bruno Mars 24K Magic World\nDate: 8pm\, 13 May\, 2018\nVenue: AsiaWorld-Expo\, Arena\nTickets: $788 from HKTicketing (from 19 Oct)
URL:https://www.bcmagazine.net/event/bruno-mars-13-05-2018/
LOCATION:AsiaWorld-Expo\, Arena\, Cheong Wing Road\, Chek Lap Kok\, Lantau\, Hong Kong
CATEGORIES:2018,Concert,Music,Performing Arts
GEO:22.3217383;113.9402012
X-APPLE-STRUCTURED-LOCATION;VALUE=URI;X-ADDRESS=AsiaWorld-Expo Arena Cheong Wing Road Chek Lap Kok Lantau Hong Kong;X-APPLE-RADIUS=500;X-TITLE=Cheong Wing Road\, Chek Lap Kok:geo:113.9402012,22.3217383
END:VEVENT
BEGIN:VEVENT
DTSTART;TZID=Asia/Hong_Kong:20180513T213000
DTEND;TZID=Asia/Hong_Kong:20180513T213000
DTSTAMP:20260420T051821
CREATED:19180427T132956Z
LAST-MODIFIED:20180430T134734Z
UID:10003976-1526247000-1526247000@www.bcmagazine.net
SUMMARY:The Birth
DESCRIPTION:The Birth\nKongo\, Chris Brien\, Noriko Watanabe\, Chris Polanco\nDate: 9:30pm\, 13 May\, 2018\nVenue: MOM Livehouse\nTickets: $280 (Door)\, $240\, $160(Advance)
URL:https://www.bcmagazine.net/event/the-birth-2018/
LOCATION:MOM Livehouse\, B39 Seven Seas Shopping Centre\, 117-121 Kings Road\, North Point\, Hong Kong
CATEGORIES:2018,Concert,Music,Performing Arts
ATTACH;FMTTYPE=image/jpeg:https://www.bcmagazine.net/wp-content/uploads/2018/04/the-birth-2018-small.jpg
GEO:22.2884683;114.192803
X-APPLE-STRUCTURED-LOCATION;VALUE=URI;X-ADDRESS=MOM Livehouse B39 Seven Seas Shopping Centre 117-121 Kings Road North Point Hong Kong;X-APPLE-RADIUS=500;X-TITLE=B39 Seven Seas Shopping Centre\, 117-121 Kings Road:geo:114.192803,22.2884683
END:VEVENT
END:VCALENDAR