BEGIN:VCALENDAR
VERSION:2.0
PRODID:-//bc magazine - ECPv6.15.20//NONSGML v1.0//EN
CALSCALE:GREGORIAN
METHOD:PUBLISH
X-WR-CALNAME:bc magazine
X-ORIGINAL-URL:https://www.bcmagazine.net
X-WR-CALDESC:Events for bc magazine
REFRESH-INTERVAL;VALUE=DURATION:PT1H
X-Robots-Tag:noindex
X-PUBLISHED-TTL:PT1H
BEGIN:VTIMEZONE
TZID:Asia/Hong_Kong
BEGIN:STANDARD
TZOFFSETFROM:+0800
TZOFFSETTO:+0800
TZNAME:HKT
DTSTART:20170101T000000
END:STANDARD
END:VTIMEZONE
BEGIN:VEVENT
DTSTART;VALUE=DATE:20180928
DTEND;VALUE=DATE:20190101
DTSTAMP:20260420T070931
CREATED:19181002T010042Z
LAST-MODIFIED:20181004T091604Z
UID:10004464-1538092800-1546300799@www.bcmagazine.net
SUMMARY:Keith Haring Maze Macao
DESCRIPTION:Keith Haring Maze Macao\nDate: 28 September – 31 December\, 2018\nVenues: Cotai Expo\nTickets: $100 from CotaiTicketing
URL:https://www.bcmagazine.net/event/keith-haring-maze-macao-2018/
LOCATION:Cotai Expo\, The Venetian\, Taipa\, Macau
CATEGORIES:2018,Exhibition,Macau,Other,Performing Arts
ATTACH;FMTTYPE=image/jpeg:https://www.bcmagazine.net/wp-content/uploads/1918/10/Keith-Haring-Maze-Macao-2018.jpg
END:VEVENT
BEGIN:VEVENT
DTSTART;VALUE=DATE:20180929
DTEND;VALUE=DATE:20181003
DTSTAMP:20260420T070931
CREATED:20180911T073419Z
LAST-MODIFIED:20180911T122144Z
UID:10006529-1538179200-1538524799@www.bcmagazine.net
SUMMARY:Macau Street Food Festival
DESCRIPTION:A selection of Asia’s best street food stalls will be showcasing their dishes at the second annual Michelin Guide Street Food Festival Macau from the 29 September – 2 October. Entry to the festival is free of charge and dishes are priced between MOP40-MOP60 via cash coupons. \nParticipating stalls include: Liao Fan Hawker Chan Soya Sauce Chicken Rice 油鸡饭; Keng Eng Kee Seafood; The Song of India; A Nan Sesame Chicken; Huen Lamphun (Suan Phak); Soul Food Mahanakorn. \nMacau Street Food Festival\nDate: 29 September – 2 October\, 2018\nVenue: Studio City Macau\nTickets: Free
URL:https://www.bcmagazine.net/event/macau-street-food-festival-2018/
LOCATION:Studio City\, Estrada do Istmo\, Cotai\, Macau
CATEGORIES:2018,Food,Lifestyle,Macau
ATTACH;FMTTYPE=image/jpeg:https://www.bcmagazine.net/wp-content/uploads/1917/08/Michelin-Guide-Street-Food-Festival-Macau-2018.jpg
GEO:22.1397693;113.5632663
X-APPLE-STRUCTURED-LOCATION;VALUE=URI;X-ADDRESS=Studio City Estrada do Istmo Cotai Macau;X-APPLE-RADIUS=500;X-TITLE=Estrada do Istmo:geo:113.5632663,22.1397693
END:VEVENT
BEGIN:VEVENT
DTSTART;TZID=Asia/Hong_Kong:20181001T180000
DTEND;TZID=Asia/Hong_Kong:20181001T180000
DTSTAMP:20260420T070931
CREATED:19180802T094055Z
LAST-MODIFIED:20190924T041153Z
UID:10004360-1538416800-1538416800@www.bcmagazine.net
SUMMARY:Stranded Whale
DESCRIPTION:Stranded Whale – The Revival Live\nDate: 6pm\, 1 October\, 2018\nVenue: Jao Tsung-I Academy\, Theatre\nTickets: $250\, $220
URL:https://www.bcmagazine.net/event/stranded-whale-01-10-2018/
LOCATION:Jao Tsung-I Academy Theatre\, 800 Castle Peak Road\, Kowloon\, Hong Kong
CATEGORIES:2018,Concert,Free,Music,Performing Arts
ATTACH;FMTTYPE=image/jpeg:https://www.bcmagazine.net/wp-content/uploads/1918/08/Stranded-whale-revival-live.jpg
GEO:22.338826;114.1423128
X-APPLE-STRUCTURED-LOCATION;VALUE=URI;X-ADDRESS=Jao Tsung-I Academy Theatre 800 Castle Peak Road Kowloon Hong Kong;X-APPLE-RADIUS=500;X-TITLE=800 Castle Peak Road:geo:114.1423128,22.338826
END:VEVENT
BEGIN:VEVENT
DTSTART;TZID=Asia/Hong_Kong:20181001T193000
DTEND;TZID=Asia/Hong_Kong:20181001T193000
DTSTAMP:20260420T070931
CREATED:19180528T020834Z
LAST-MODIFIED:20180728T174650Z
UID:10004160-1538422200-1538422200@www.bcmagazine.net
SUMMARY:"Annie" The Musical
DESCRIPTION:“Annie” The Musical\nHong Kong Chorus Society\nDate: 7:30pm\, 1 October\, 2018\nVenue: HK Cultural Centre\, Concert Hall\nTickets: $460\, $380\, $280\, $200 from Urbtix
URL:https://www.bcmagazine.net/event/annie-the-musical-hk-chorus-society-01-10-2018/
LOCATION:HK Cultural Centre\, Concert Hall\, 10 Salisbury Road\, Tsim Sha Tsui\, Hong Kong
CATEGORIES:2018,Concert,Music,Musical,Performing Arts
GEO:22.294318;114.171708
X-APPLE-STRUCTURED-LOCATION;VALUE=URI;X-ADDRESS=HK Cultural Centre Concert Hall 10 Salisbury Road Tsim Sha Tsui Hong Kong;X-APPLE-RADIUS=500;X-TITLE=10 Salisbury Road:geo:114.171708,22.294318
END:VEVENT
BEGIN:VEVENT
DTSTART;TZID=Asia/Hong_Kong:20181001T200000
DTEND;TZID=Asia/Hong_Kong:20181001T200000
DTSTAMP:20260420T070931
CREATED:19180608T094055Z
LAST-MODIFIED:20180728T033258Z
UID:10004208-1538424000-1538424000@www.bcmagazine.net
SUMMARY:My Little Airport
DESCRIPTION:My Little Airport Live 2018 – You Said We’d Meet Again\nDate: 8pm\, 30 September – 6 October\, 2018\nVenue: Kitec\, Music Zone@E-Max\nTickets: $480 from Cityline
URL:https://www.bcmagazine.net/event/my-little-airport-01-10-2018/
LOCATION:KITEC\, Music Zone@E-Max\, KITEC\,‎ 1 Trademart Drive\, Kowloon Bay\, Hong Kong
CATEGORIES:2018,Concert,Music,Performing Arts
GEO:22.3239575;114.2037608
X-APPLE-STRUCTURED-LOCATION;VALUE=URI;X-ADDRESS=KITEC Music Zone@E-Max KITEC‎ 1 Trademart Drive Kowloon Bay Hong Kong;X-APPLE-RADIUS=500;X-TITLE=KITEC\,‎ 1 Trademart Drive:geo:114.2037608,22.3239575
END:VEVENT
END:VCALENDAR