BEGIN:VCALENDAR
VERSION:2.0
PRODID:-//bc magazine - ECPv6.15.20//NONSGML v1.0//EN
CALSCALE:GREGORIAN
METHOD:PUBLISH
X-WR-CALNAME:bc magazine
X-ORIGINAL-URL:https://www.bcmagazine.net
X-WR-CALDESC:Events for bc magazine
REFRESH-INTERVAL;VALUE=DURATION:PT1H
X-Robots-Tag:noindex
X-PUBLISHED-TTL:PT1H
BEGIN:VTIMEZONE
TZID:Asia/Hong_Kong
BEGIN:STANDARD
TZOFFSETFROM:+0800
TZOFFSETTO:+0800
TZNAME:HKT
DTSTART:20170101T000000
END:STANDARD
END:VTIMEZONE
BEGIN:VEVENT
DTSTART;VALUE=DATE:20180928
DTEND;VALUE=DATE:20190101
DTSTAMP:20260420T070931
CREATED:19181002T010042Z
LAST-MODIFIED:20181004T091604Z
UID:10004464-1538092800-1546300799@www.bcmagazine.net
SUMMARY:Keith Haring Maze Macao
DESCRIPTION:Keith Haring Maze Macao\nDate: 28 September – 31 December\, 2018\nVenues: Cotai Expo\nTickets: $100 from CotaiTicketing
URL:https://www.bcmagazine.net/event/keith-haring-maze-macao-2018/
LOCATION:Cotai Expo\, The Venetian\, Taipa\, Macau
CATEGORIES:2018,Exhibition,Macau,Other,Performing Arts
ATTACH;FMTTYPE=image/jpeg:https://www.bcmagazine.net/wp-content/uploads/1918/10/Keith-Haring-Maze-Macao-2018.jpg
END:VEVENT
BEGIN:VEVENT
DTSTART;VALUE=DATE:20181102
DTEND;VALUE=DATE:20181112
DTSTAMP:20260420T070931
CREATED:20180801T091944Z
LAST-MODIFIED:20180801T095759Z
UID:10006519-1541116800-1541980799@www.bcmagazine.net
SUMMARY:Hong Kong International Literary Festival 2018
DESCRIPTION:Celebrated writers from a diverse range of literary corners\, including fiction\, history\, poetry\, fitness and science\, will come together this autumn at the The Hong Kong International Literary Festival 2018. \nThe festival takes places at Tai Kwun and this year’s programme will includes talks\, literary lunches\, readings\, panel discussions and spans ten days from 2 to 11 November. \nFull event schedule and tickets onsale soon. \nHong Kong International Literary Festival 2018\nDate: 2-11 November\, 2018\nVenue: Tai Kwun\nTickets: tbc\nMore info: www.festival.org.hk
URL:https://www.bcmagazine.net/event/hong-kong-international-literary-festival-2018/
LOCATION:Tai Kwun\, Central\, Hong Kong
CATEGORIES:2018,Cultural Festival,Performing Arts,Workshop
END:VEVENT
BEGIN:VEVENT
DTSTART;TZID=Asia/Hong_Kong:20181102T193000
DTEND;TZID=Asia/Hong_Kong:20181102T193000
DTSTAMP:20260420T070931
CREATED:19180528T020834Z
LAST-MODIFIED:20180725T123411Z
UID:10004043-1541187000-1541187000@www.bcmagazine.net
SUMMARY:HK Ballet
DESCRIPTION:HK Ballet – 1st Annual International Gala of Stars\nDate: 7:30pm\, 2 November\, 2018\nVenue: HK Cultural Centre\, Grand Theatre\nTickets: $1\,000\, $680\, $480\, $280\, $140 from Urbtix
URL:https://www.bcmagazine.net/event/hk-ballet-02-11-2018/
LOCATION:HK Cultural Centre\, Grand Theatre\,\, 10 Salisbury Road\, Tsim Sha Tsui\, Hong Kong
CATEGORIES:2018,Ballet,Dance,Performing Arts
GEO:22.294318;114.171708
X-APPLE-STRUCTURED-LOCATION;VALUE=URI;X-ADDRESS=HK Cultural Centre Grand Theatre 10 Salisbury Road Tsim Sha Tsui Hong Kong;X-APPLE-RADIUS=500;X-TITLE=10 Salisbury Road:geo:114.171708,22.294318
END:VEVENT
BEGIN:VEVENT
DTSTART;TZID=Asia/Hong_Kong:20181102T200000
DTEND;TZID=Asia/Hong_Kong:20181102T200000
DTSTAMP:20260420T070931
CREATED:19170811T054537Z
LAST-MODIFIED:20181004T135622Z
UID:10003253-1541188800-1541188800@www.bcmagazine.net
SUMMARY:Sinsaenum
DESCRIPTION:Sinsaenum\nDate: 8pm\, 2 November\, 2018\nVenue: TTN\nTickets: $580 (VIP)\, $480 (Door)\, $380 (Advance) from Ticketflap
URL:https://www.bcmagazine.net/event/sinsaenum/
LOCATION:This Town Needs (TTN)\, 1/F Ocean One\, 6 Shung Shun Street\, Yau Tong\, Hong Kong
CATEGORIES:2018,Concert,DJ,Music,Performing Arts
ATTACH;FMTTYPE=image/jpeg:https://www.bcmagazine.net/wp-content/uploads/1917/08/Sinsaenum-2018.jpg
GEO:22.292861;114.23782
X-APPLE-STRUCTURED-LOCATION;VALUE=URI;X-ADDRESS=This Town Needs (TTN) 1/F Ocean One 6 Shung Shun Street Yau Tong Hong Kong;X-APPLE-RADIUS=500;X-TITLE=1/F Ocean One\, 6 Shung Shun Street:geo:114.23782,22.292861
END:VEVENT
BEGIN:VEVENT
DTSTART;TZID=Asia/Hong_Kong:20181102T200000
DTEND;TZID=Asia/Hong_Kong:20181102T200000
DTSTAMP:20260420T070931
CREATED:19180528T020834Z
LAST-MODIFIED:20180727T071009Z
UID:10004089-1541188800-1541188800@www.bcmagazine.net
SUMMARY:Blind Musician Dou Wun
DESCRIPTION:Blind Musician Dou Wun\nZuni Icosahedron: Experiment Naamyam Hong Kong\nDate: 8pm\, 1-3 November\, 2018\nVenue: HK Cultural Centre\, Studio Theatre\nTickets: $200\, $100 from Urbtix
URL:https://www.bcmagazine.net/event/blind-musician-dou-wun-02-11-2018/
LOCATION:HK Cultural Centre\, Studio Theatre\, 10 Salisbury Road\, Tsim Sha Tsui\, Hong Kong
CATEGORIES:2018,Cantonese Opera,Music,Performing Arts,Theatre
END:VEVENT
BEGIN:VEVENT
DTSTART;TZID=Asia/Hong_Kong:20181102T200000
DTEND;TZID=Asia/Hong_Kong:20181102T200000
DTSTAMP:20260420T070931
CREATED:19181002T080042Z
LAST-MODIFIED:20181003T003838Z
UID:10004483-1541188800-1541188800@www.bcmagazine.net
SUMMARY:Michel Rolland
DESCRIPTION:Michel Rolland\nDate: 8pm\, 2 November\, 2018\nVenues: Fringe Club\, Fringe Dairy\nTickets: $180\, $150 (advance)
URL:https://www.bcmagazine.net/event/michel-rolland-2018/
LOCATION:Fringe Club\, Fringe Dairy\, Central\, Hong Kong
CATEGORIES:2018,Concert,Jazz,Music,Performing Arts
ATTACH;FMTTYPE=image/jpeg:https://www.bcmagazine.net/wp-content/uploads/1918/10/Michel-Rolland-2018.jpg
END:VEVENT
BEGIN:VEVENT
DTSTART;TZID=Asia/Hong_Kong:20181102T201500
DTEND;TZID=Asia/Hong_Kong:20181102T201500
DTSTAMP:20260420T070931
CREATED:19180716T124702Z
LAST-MODIFIED:20180724T161507Z
UID:10004278-1541189700-1541189700@www.bcmagazine.net
SUMMARY:Supper Moment
DESCRIPTION:Supper Moment\nDate: 8:15pm\, 1-3 November\, 2018\nVenue: HK Coliseum\nTickets: $780\, $480\, $280 from Urbtix
URL:https://www.bcmagazine.net/event/supper-moment-02-11-2018/
LOCATION:HK Coliseum\, 9 Cheong Wan Road\, Hung Hom\, Hong Kong
CATEGORIES:2018,Concert,Music,Performing Arts
ATTACH;FMTTYPE=image/jpeg:https://www.bcmagazine.net/wp-content/uploads/1918/07/Supper-Moment-2018.jpg
GEO:22.3014169;114.1820305
X-APPLE-STRUCTURED-LOCATION;VALUE=URI;X-ADDRESS=HK Coliseum 9 Cheong Wan Road Hung Hom Hong Kong;X-APPLE-RADIUS=500;X-TITLE=9 Cheong Wan Road:geo:114.1820305,22.3014169
END:VEVENT
END:VCALENDAR