BEGIN:VCALENDAR
VERSION:2.0
PRODID:-//bc magazine - ECPv6.15.20//NONSGML v1.0//EN
CALSCALE:GREGORIAN
METHOD:PUBLISH
X-WR-CALNAME:bc magazine
X-ORIGINAL-URL:https://www.bcmagazine.net
X-WR-CALDESC:Events for bc magazine
REFRESH-INTERVAL;VALUE=DURATION:PT1H
X-Robots-Tag:noindex
X-PUBLISHED-TTL:PT1H
BEGIN:VTIMEZONE
TZID:Asia/Hong_Kong
BEGIN:STANDARD
TZOFFSETFROM:+0800
TZOFFSETTO:+0800
TZNAME:HKT
DTSTART:20180101T000000
END:STANDARD
END:VTIMEZONE
BEGIN:VEVENT
DTSTART;VALUE=DATE:20190125
DTEND;VALUE=DATE:20190617
DTSTAMP:20260420T070932
CREATED:19181213T044512Z
LAST-MODIFIED:20190129T164442Z
UID:10004690-1548374400-1560729599@www.bcmagazine.net
SUMMARY:Under the Skin
DESCRIPTION:Ferrari\, Under the Skin\nDate: 25 January – 16 June\, 2019\nVenue: City of Dreams\, Macau\nTickets: $80
URL:https://www.bcmagazine.net/event/under-the-skin-macau-2019/
LOCATION:City of Dreams\, Macau
CATEGORIES:2019,Exhibition,Macau
ATTACH;FMTTYPE=image/jpeg:https://www.bcmagazine.net/wp-content/uploads/1918/12/under-the-skin-2019.jpg
END:VEVENT
BEGIN:VEVENT
DTSTART;VALUE=DATE:20190221
DTEND;VALUE=DATE:20190311
DTSTAMP:20260420T070932
CREATED:19180113T044512Z
LAST-MODIFIED:20190216T085907Z
UID:10003738-1550707200-1552262399@www.bcmagazine.net
SUMMARY:European Union Film Festival
DESCRIPTION:European Union Film Festival\nDate: 21 February – 10 March\, 2019\nVenue: Broadway Cinematheque; AMC Pacific Place\nTickets: $95\, $85
URL:https://www.bcmagazine.net/event/european-union-film-festival-2019/
LOCATION:Broadway Cinematheque\, Prosperous Garden\, 3 Public Square Street\, Yaumatei\, Hong Kong
CATEGORIES:2019,Film
ATTACH;FMTTYPE=image/jpeg:https://www.bcmagazine.net/wp-content/uploads/1918/01/EUFF2019_poster.jpg
END:VEVENT
BEGIN:VEVENT
DTSTART;VALUE=DATE:20190301
DTEND;VALUE=DATE:20190310
DTSTAMP:20260420T070932
CREATED:20181025T145359Z
LAST-MODIFIED:20181025T153416Z
UID:10006542-1551398400-1552175999@www.bcmagazine.net
SUMMARY:India by the Bay
DESCRIPTION:India by the Bay returns for its fifth edition from 1-9 March\, 2019. The Festival will again look to offer HongKongers an insight into Indian culture and history through a diverse and eclectic programme including music\, dance\, film\, food\, theatre\, yoga\, literature and art. \nIndia by the Bay 2019\nDate: 1-9 March\, 2019\nVenue: Asia Society Hong Kong Center\nTickets: tbc
URL:https://www.bcmagazine.net/event/india-by-the-bay-2019/
LOCATION:Asia Society Hong Kong Center\, 9 Justice Drive\, Admiralty\, Hong Kong
CATEGORIES:2019,Cultural Festival,Dance,Lifestyle,Music,Other
ATTACH;FMTTYPE=image/jpeg:https://www.bcmagazine.net/wp-content/uploads/1918/01/india-by-the-bay-2019.jpg
END:VEVENT
BEGIN:VEVENT
DTSTART;VALUE=DATE:20190308
DTEND;VALUE=DATE:20190311
DTSTAMP:20260420T070932
CREATED:19190226T065612Z
LAST-MODIFIED:20190227T142447Z
UID:10004741-1552003200-1552262399@www.bcmagazine.net
SUMMARY:Six Day
DESCRIPTION:Six Day\nDate: 8-10 March\, 2019\nVenue: HK Velodrome Park\nTickets: $950\, $380\, $240
URL:https://www.bcmagazine.net/event/six-day-hk-2019/
LOCATION:Hong Kong
CATEGORIES:2019,Cycling,DJ,Sport
ATTACH;FMTTYPE=image/jpeg:https://www.bcmagazine.net/wp-content/uploads/1919/02/six-day-hk-2019.jpg
END:VEVENT
BEGIN:VEVENT
DTSTART;VALUE=DATE:20190308
DTEND;VALUE=DATE:20190311
DTSTAMP:20260420T070932
CREATED:20190212T044512Z
LAST-MODIFIED:20190215T020158Z
UID:10006566-1552003200-1552262399@www.bcmagazine.net
SUMMARY:IllusfairHK
DESCRIPTION:IllusfairHK 2019 – “Colours of Life”\nDate: 8-10 March\, 2019\nVenue: Jockey Club Creative Arts Centre (JCCAC)\nTickets: Free
URL:https://www.bcmagazine.net/event/illusfairhk2019/
LOCATION:JCCAC Arts Village\, 30 Pak Tin Street\, Shek Kip Mei\, Hong Kong
CATEGORIES:2019,Performing Arts,Theatre
ATTACH;FMTTYPE=image/jpeg:https://www.bcmagazine.net/wp-content/uploads/1918/01/IllusfairHK-2019.jpg
END:VEVENT
BEGIN:VEVENT
DTSTART;TZID=Asia/Hong_Kong:20190308T190000
DTEND;TZID=Asia/Hong_Kong:20190308T190000
DTSTAMP:20260420T070932
CREATED:19181025T145359Z
LAST-MODIFIED:20190227T192046Z
UID:10004562-1552071600-1552071600@www.bcmagazine.net
SUMMARY:Mind in the Moment
DESCRIPTION:Mind in the Moment\nIndia by the Bay\, Dr Ramesh Pattni\nDate: 7pm\, 8 March\, 2019\nVenue: Asia Society Hong Kong Center\nTickets: $150
URL:https://www.bcmagazine.net/event/mind-in-the-moment/
LOCATION:Asia Society Hong Kong Center\, 9 Justice Drive\, Admiralty\, Hong Kong
CATEGORIES:2019,Cultural Festival,Lifestyle,Sport,talk,Yoga
ATTACH;FMTTYPE=image/jpeg:https://www.bcmagazine.net/wp-content/uploads/1918/10/yoga-meditation-idtb-2019.jpeg
END:VEVENT
BEGIN:VEVENT
DTSTART;TZID=Asia/Hong_Kong:20190308T193000
DTEND;TZID=Asia/Hong_Kong:20190308T193000
DTSTAMP:20260420T070932
CREATED:19181213T044512Z
LAST-MODIFIED:20190118T095814Z
UID:10004654-1552073400-1552073400@www.bcmagazine.net
SUMMARY:Beijing Liliuyi Theatre Studio
DESCRIPTION:The Tragedy of Hamlet\, Prince of Denmark\nHK Arts Festival\, Beijing Liliuyi Theatre Studio \nDate: 7-9 March\, 2019\nVenue: HK Cultural Centre\, Grand Theatre\nTickets: $680\, $560\, $440. $320\, $200 from Urbtix\nMore info:\nIn Putonghua with Chinese and English surtitles\nDirector: Li Liuyi
URL:https://www.bcmagazine.net/event/beijing-liliuyi-theatre-studio-08-03-2019/
LOCATION:HK Cultural Centre\, Grand Theatre\,\, 10 Salisbury Road\, Tsim Sha Tsui\, Hong Kong
CATEGORIES:2019,Cultural Festival,Performing Arts,Theatre
ATTACH;FMTTYPE=image/jpeg:https://www.bcmagazine.net/wp-content/uploads/1918/12/Beijing-Liliuyi-Theatre-Studio-07-03-2019.jpg
GEO:22.294318;114.171708
X-APPLE-STRUCTURED-LOCATION;VALUE=URI;X-ADDRESS=HK Cultural Centre Grand Theatre 10 Salisbury Road Tsim Sha Tsui Hong Kong;X-APPLE-RADIUS=500;X-TITLE=10 Salisbury Road:geo:114.171708,22.294318
END:VEVENT
BEGIN:VEVENT
DTSTART;TZID=Asia/Hong_Kong:20190308T200000
DTEND;TZID=Asia/Hong_Kong:20190308T200000
DTSTAMP:20260420T070932
CREATED:19190111T045612Z
LAST-MODIFIED:20190225T171601Z
UID:10004723-1552075200-1552075200@www.bcmagazine.net
SUMMARY:Yes Culture
DESCRIPTION:Yes Culture\nDate: 8pm\, 8 March\, 2019\nVenue: Kitec\, Music Zone@E-Max\nTickets: tbc
URL:https://www.bcmagazine.net/event/yes-culture-2019/
LOCATION:KITEC\, Music Zone@E-Max\, KITEC\,‎ 1 Trademart Drive\, Kowloon Bay\, Hong Kong
CATEGORIES:2019,Concert,Music,Performing Arts
ATTACH;FMTTYPE=image/jpeg:https://www.bcmagazine.net/wp-content/uploads/1919/01/yes-culture-2019.jpg
GEO:22.3239575;114.2037608
X-APPLE-STRUCTURED-LOCATION;VALUE=URI;X-ADDRESS=KITEC Music Zone@E-Max KITEC‎ 1 Trademart Drive Kowloon Bay Hong Kong;X-APPLE-RADIUS=500;X-TITLE=KITEC\,‎ 1 Trademart Drive:geo:114.2037608,22.3239575
END:VEVENT
BEGIN:VEVENT
DTSTART;TZID=Asia/Hong_Kong:20190308T210000
DTEND;TZID=Asia/Hong_Kong:20190308T210000
DTSTAMP:20260420T070932
CREATED:20190301T070812Z
LAST-MODIFIED:20190301T142926Z
UID:10006572-1552078800-1552078800@www.bcmagazine.net
SUMMARY:New Makati DJ Expo
DESCRIPTION:New Makati DJ Expo – 1st Anniversary\nDJs: Angry Ming\, Pooh Tang\, Forsaken\, Patrice\, Franco\, Tee\, Aldo\nDate: 9pm\, 8 March\, 2019\nVenue: New Makati\nTickets: $200
URL:https://www.bcmagazine.net/event/new-makati-dj-expo-2019/
LOCATION:New Makati\, 1/F\, 94-100 Lockhart Road\, Wanchai\, Hong Kong
CATEGORIES:2019,DJ,Music,Nightlife
ATTACH;FMTTYPE=image/jpeg:https://www.bcmagazine.net/wp-content/uploads/1919/02/new-makati-dj-expo-march-2019.jpg
END:VEVENT
END:VCALENDAR