BEGIN:VCALENDAR
VERSION:2.0
PRODID:-//bc magazine - ECPv6.15.20//NONSGML v1.0//EN
CALSCALE:GREGORIAN
METHOD:PUBLISH
X-WR-CALNAME:bc magazine
X-ORIGINAL-URL:https://www.bcmagazine.net
X-WR-CALDESC:Events for bc magazine
REFRESH-INTERVAL;VALUE=DURATION:PT1H
X-Robots-Tag:noindex
X-PUBLISHED-TTL:PT1H
BEGIN:VTIMEZONE
TZID:Asia/Hong_Kong
BEGIN:STANDARD
TZOFFSETFROM:+0800
TZOFFSETTO:+0800
TZNAME:HKT
DTSTART:20180101T000000
END:STANDARD
END:VTIMEZONE
BEGIN:VEVENT
DTSTART;VALUE=DATE:20190125
DTEND;VALUE=DATE:20190617
DTSTAMP:20260420T051904
CREATED:19181213T044512Z
LAST-MODIFIED:20190129T164442Z
UID:10004690-1548374400-1560729599@www.bcmagazine.net
SUMMARY:Under the Skin
DESCRIPTION:Ferrari\, Under the Skin\nDate: 25 January – 16 June\, 2019\nVenue: City of Dreams\, Macau\nTickets: $80
URL:https://www.bcmagazine.net/event/under-the-skin-macau-2019/
LOCATION:City of Dreams\, Macau
CATEGORIES:2019,Exhibition,Macau
ATTACH;FMTTYPE=image/jpeg:https://www.bcmagazine.net/wp-content/uploads/1918/12/under-the-skin-2019.jpg
END:VEVENT
BEGIN:VEVENT
DTSTART;VALUE=DATE:20190326
DTEND;VALUE=DATE:20190331
DTSTAMP:20260420T051904
CREATED:19171213T031400Z
LAST-MODIFIED:20190119T051018Z
UID:10003675-1553558400-1553990399@www.bcmagazine.net
SUMMARY:Art Central
DESCRIPTION:Art Central\nDate: 26-31 March 2019\nVenue: Central Harbourfront\nTickets: tbc\nMore info:\nVIP Preview\nTuesday 26 March\, 2 pm – 5 pm \nFirst Night\nTuesday 26 March\, 5 pm – 9 pm \nWednesday 27 March\, 11 am – 5 pm\nThursday 28 March\, 12 pm- 9 pm\nFriday 29 March\, 12 pm – 9 pm\nSaturday 30 March\, 11 am – 7 pm\nSunday 31 March\, 11 am – 5pm
URL:https://www.bcmagazine.net/event/art-central-2019/
LOCATION:Central Harbourfront\,  9 Lung Wo Road\, Central\, Hong Kong
CATEGORIES:2019,Art Gallery,Exhibition,Other
GEO:22.2826223;114.164346
X-APPLE-STRUCTURED-LOCATION;VALUE=URI;X-ADDRESS=Central Harbourfront  9 Lung Wo Road Central Hong Kong;X-APPLE-RADIUS=500;X-TITLE=9 Lung Wo Road:geo:114.164346,22.2826223
END:VEVENT
BEGIN:VEVENT
DTSTART;TZID=Asia/Hong_Kong:20190326T200000
DTEND;TZID=Asia/Hong_Kong:20190326T200000
DTSTAMP:20260420T051904
CREATED:19190111T043612Z
LAST-MODIFIED:20190112T123818Z
UID:10003963-1553630400-1553630400@www.bcmagazine.net
SUMMARY:Emmure
DESCRIPTION:Emmure – Look At Yourself Asia Tour 2019\nSupport: Protoss\nDate: 8pm\, 26 March\, 2019\nVenue: This Town Needs (TTN)\nTickets: $400 (door)\, $320 (advance)
URL:https://www.bcmagazine.net/event/emmure-hk-2019/
LOCATION:This Town Needs (TTN)\, 1/F Ocean One\, 6 Shung Shun Street\, Yau Tong\, Hong Kong
CATEGORIES:2019,Concert,Music,Performing Arts
ATTACH;FMTTYPE=image/jpeg:https://www.bcmagazine.net/wp-content/uploads/1919/01/Emmure-HK-2019.jpg
GEO:22.292861;114.23782
X-APPLE-STRUCTURED-LOCATION;VALUE=URI;X-ADDRESS=This Town Needs (TTN) 1/F Ocean One 6 Shung Shun Street Yau Tong Hong Kong;X-APPLE-RADIUS=500;X-TITLE=1/F Ocean One\, 6 Shung Shun Street:geo:114.23782,22.292861
END:VEVENT
BEGIN:VEVENT
DTSTART;TZID=Asia/Hong_Kong:20190326T200000
DTEND;TZID=Asia/Hong_Kong:20190326T200000
DTSTAMP:20260420T051904
CREATED:19190226T065612Z
LAST-MODIFIED:20190227T025208Z
UID:10004735-1553630400-1553630400@www.bcmagazine.net
SUMMARY:Est-ce que j'ai une Gueule d'Arletty?
DESCRIPTION:Est-ce que j’ai une Gueule d’Arletty? (Do I have an Arletty Face?)\nHong Kong French Theatre Festival\, Eric Bu\, Elodie Menant\nDate: 8pm\, 26 March\, 2019\nVenue: Sheung Wan Civic Centre\nTickets: $300 from Ticketflap
URL:https://www.bcmagazine.net/event/est-ce-que-jai-une-gueule-darletty/
LOCATION:Sheung Wan Civic Centre\, Sheung Wan
CATEGORIES:2019,Cultural Festival,Performing Arts,Theatre
ATTACH;FMTTYPE=image/jpeg:https://www.bcmagazine.net/wp-content/uploads/2019/02/The-Hong-Kong-French-Theater-Festival-2019.jpg
END:VEVENT
BEGIN:VEVENT
DTSTART;TZID=Asia/Hong_Kong:20190326T201500
DTEND;TZID=Asia/Hong_Kong:20190326T201500
DTSTAMP:20260420T051904
CREATED:20190224T125612Z
LAST-MODIFIED:20190225T173324Z
UID:10006568-1553631300-1553631300@www.bcmagazine.net
SUMMARY:Boyzone
DESCRIPTION:Boyzone – Thank You & Goodnight Farewell Tour\nDate: 8:15pm\, 26 March\, 2019\nVenue: Kitec\, Star Hall\nTickets: $1\,280\, $880\, $580 from HKTicketing
URL:https://www.bcmagazine.net/event/boyzone-hk-2019/
LOCATION:KITEC\, Star Hall\, KITEC\, 1 Trademart Drive\, Kowloon Bay\, Hong Kong
CATEGORIES:2019,Concert,Music,Performing Arts
ATTACH;FMTTYPE=image/jpeg:https://www.bcmagazine.net/wp-content/uploads/1919/01/Boyzone-Thank-You-Goodnight-hk-2019.jpg
GEO:22.3239575;114.2037608
X-APPLE-STRUCTURED-LOCATION;VALUE=URI;X-ADDRESS=KITEC Star Hall KITEC 1 Trademart Drive Kowloon Bay Hong Kong;X-APPLE-RADIUS=500;X-TITLE=KITEC\, 1 Trademart Drive:geo:114.2037608,22.3239575
END:VEVENT
END:VCALENDAR