BEGIN:VCALENDAR
VERSION:2.0
PRODID:-//bc magazine - ECPv6.15.20//NONSGML v1.0//EN
CALSCALE:GREGORIAN
METHOD:PUBLISH
X-WR-CALNAME:bc magazine
X-ORIGINAL-URL:https://www.bcmagazine.net
X-WR-CALDESC:Events for bc magazine
REFRESH-INTERVAL;VALUE=DURATION:PT1H
X-Robots-Tag:noindex
X-PUBLISHED-TTL:PT1H
BEGIN:VTIMEZONE
TZID:Asia/Hong_Kong
BEGIN:STANDARD
TZOFFSETFROM:+0800
TZOFFSETTO:+0800
TZNAME:HKT
DTSTART:20180101T000000
END:STANDARD
END:VTIMEZONE
BEGIN:VEVENT
DTSTART;VALUE=DATE:20190125
DTEND;VALUE=DATE:20190617
DTSTAMP:20260420T071026
CREATED:19181213T044512Z
LAST-MODIFIED:20190129T164442Z
UID:10004690-1548374400-1560729599@www.bcmagazine.net
SUMMARY:Under the Skin
DESCRIPTION:Ferrari\, Under the Skin\nDate: 25 January – 16 June\, 2019\nVenue: City of Dreams\, Macau\nTickets: $80
URL:https://www.bcmagazine.net/event/under-the-skin-macau-2019/
LOCATION:City of Dreams\, Macau
CATEGORIES:2019,Exhibition,Macau
ATTACH;FMTTYPE=image/jpeg:https://www.bcmagazine.net/wp-content/uploads/1918/12/under-the-skin-2019.jpg
END:VEVENT
BEGIN:VEVENT
DTSTART;VALUE=DATE:20190406
DTEND;VALUE=DATE:20190708
DTSTAMP:20260420T071026
CREATED:20190203T101156Z
LAST-MODIFIED:20190209T034611Z
UID:10006564-1554508800-1562543999@www.bcmagazine.net
SUMMARY:Van Gogh Alive - The Experience
DESCRIPTION:Van Gogh Alive – The Experience\nDate: 6 April – 7 July 2019\nVenue: 1/F\, FTLife Tower\, 18 Sheung Yuet Road\, Kowloon Bay\nTickets: $550\, $230
URL:https://www.bcmagazine.net/event/van-gogh-alive-the-experience/
LOCATION:FTLife Tower\, 18 Sheung Yuet Road\, Kowloon Bay\, Hong Kong
CATEGORIES:2019,Exhibition,Other
ATTACH;FMTTYPE=image/jpeg:https://www.bcmagazine.net/wp-content/uploads/1915/02/vangogh-live-2019.jpg
END:VEVENT
BEGIN:VEVENT
DTSTART;TZID=Asia/Hong_Kong:20190528T193000
DTEND;TZID=Asia/Hong_Kong:20190528T193000
DTSTAMP:20260420T071026
CREATED:20190411T044512Z
LAST-MODIFIED:20190414T002226Z
UID:10006578-1559071800-1559071800@www.bcmagazine.net
SUMMARY:The Jesus and Mary Chain
DESCRIPTION:The Jesus and Mary Chain\nDate: 7:30pm\, 28 May\, 2019\nVenue: Kitec\, Music Zone@E-Max\nTickets: $540 from Ticketflap
URL:https://www.bcmagazine.net/event/the-jesus-and-mary-chain-hk-2019/
LOCATION:KITEC\, Music Zone@E-Max\, KITEC\,‎ 1 Trademart Drive\, Kowloon Bay\, Hong Kong
CATEGORIES:2019,Concert,Music,Performing Arts
ATTACH;FMTTYPE=image/jpeg:https://www.bcmagazine.net/wp-content/uploads/1919/04/The-Jesus-and-Mary-Chain-hk-2019.jpg
GEO:22.3239575;114.2037608
X-APPLE-STRUCTURED-LOCATION;VALUE=URI;X-ADDRESS=KITEC Music Zone@E-Max KITEC‎ 1 Trademart Drive Kowloon Bay Hong Kong;X-APPLE-RADIUS=500;X-TITLE=KITEC\,‎ 1 Trademart Drive:geo:114.2037608,22.3239575
END:VEVENT
BEGIN:VEVENT
DTSTART;TZID=Asia/Hong_Kong:20190528T200000
DTEND;TZID=Asia/Hong_Kong:20190528T200000
DTSTAMP:20260420T071026
CREATED:19190409T044512Z
LAST-MODIFIED:20190414T000039Z
UID:10004749-1559073600-1559073600@www.bcmagazine.net
SUMMARY:Mallrat
DESCRIPTION:Mallrat\nDate: 8pm\, 28 May\, 2019\nVenue: This Town Needs (TTN)\nTickets: $450
URL:https://www.bcmagazine.net/event/mallrat-hk-2019/
LOCATION:This Town Needs (TTN)\, 1/F Ocean One\, 6 Shung Shun Street\, Yau Tong\, Hong Kong
CATEGORIES:2019,Concert,Music,Performing Arts
ATTACH;FMTTYPE=image/jpeg:https://www.bcmagazine.net/wp-content/uploads/1919/04/mallrat-hk-2019.jpg
GEO:22.292861;114.23782
X-APPLE-STRUCTURED-LOCATION;VALUE=URI;X-ADDRESS=This Town Needs (TTN) 1/F Ocean One 6 Shung Shun Street Yau Tong Hong Kong;X-APPLE-RADIUS=500;X-TITLE=1/F Ocean One\, 6 Shung Shun Street:geo:114.23782,22.292861
END:VEVENT
END:VCALENDAR