BEGIN:VCALENDAR
VERSION:2.0
PRODID:-//bc magazine - ECPv6.15.20//NONSGML v1.0//EN
CALSCALE:GREGORIAN
METHOD:PUBLISH
X-WR-CALNAME:bc magazine
X-ORIGINAL-URL:https://www.bcmagazine.net
X-WR-CALDESC:Events for bc magazine
REFRESH-INTERVAL;VALUE=DURATION:PT1H
X-Robots-Tag:noindex
X-PUBLISHED-TTL:PT1H
BEGIN:VTIMEZONE
TZID:Asia/Hong_Kong
BEGIN:STANDARD
TZOFFSETFROM:+0800
TZOFFSETTO:+0800
TZNAME:HKT
DTSTART:20180101T000000
END:STANDARD
END:VTIMEZONE
BEGIN:VEVENT
DTSTART;TZID=Asia/Hong_Kong:20190719T200000
DTEND;TZID=Asia/Hong_Kong:20190719T200000
DTSTAMP:20260420T070933
CREATED:19181023T145036Z
LAST-MODIFIED:20190627T025104Z
UID:10004542-1563566400-1563566400@www.bcmagazine.net
SUMMARY:Tri-A-Gain
DESCRIPTION:Tri-A-Gain\nDate: 8pm\, 19 July\, 2019\nVenue: Kitec\, Music Zone@E-Max\nTickets: $580\, $480
URL:https://www.bcmagazine.net/event/tri-a-gain-2019/
LOCATION:KITEC\, Music Zone@E-Max\, KITEC\,‎ 1 Trademart Drive\, Kowloon Bay\, Hong Kong
CATEGORIES:2019,Concert,Music,Performing Arts
ATTACH;FMTTYPE=image/jpeg:https://www.bcmagazine.net/wp-content/uploads/1918/10/TRI-A-GAIN.jpg
GEO:22.3239575;114.2037608
X-APPLE-STRUCTURED-LOCATION;VALUE=URI;X-ADDRESS=KITEC Music Zone@E-Max KITEC‎ 1 Trademart Drive Kowloon Bay Hong Kong;X-APPLE-RADIUS=500;X-TITLE=KITEC\,‎ 1 Trademart Drive:geo:114.2037608,22.3239575
END:VEVENT
END:VCALENDAR