BEGIN:VCALENDAR
VERSION:2.0
PRODID:-//bc magazine - ECPv6.15.20//NONSGML v1.0//EN
CALSCALE:GREGORIAN
METHOD:PUBLISH
X-WR-CALNAME:bc magazine
X-ORIGINAL-URL:https://www.bcmagazine.net
X-WR-CALDESC:Events for bc magazine
REFRESH-INTERVAL;VALUE=DURATION:PT1H
X-Robots-Tag:noindex
X-PUBLISHED-TTL:PT1H
BEGIN:VTIMEZONE
TZID:Asia/Hong_Kong
BEGIN:STANDARD
TZOFFSETFROM:+0800
TZOFFSETTO:+0800
TZNAME:HKT
DTSTART:20180101T000000
END:STANDARD
END:VTIMEZONE
BEGIN:VEVENT
DTSTART;VALUE=DATE:20190728
DTEND;VALUE=DATE:20190923
DTSTAMP:20260420T070927
CREATED:19190722T044512Z
LAST-MODIFIED:20190726T154317Z
UID:10004866-1564272000-1569196799@www.bcmagazine.net
SUMMARY:Batman’s 80th Anniversary
DESCRIPTION:Batman’s 80th Anniversary\nDate: 28 July – 22 September\, 2019\nVenue: The One\nTickets: Free
URL:https://www.bcmagazine.net/event/batman-80/
LOCATION:The One\, 100 Nathan Road\, Tsim Sha Tsui\, Hong Kong
CATEGORIES:2019,Exhibition,Other
END:VEVENT
BEGIN:VEVENT
DTSTART;VALUE=DATE:20190728
DTEND;VALUE=DATE:20190923
DTSTAMP:20260420T070927
CREATED:20190726T132202Z
LAST-MODIFIED:20190728T163555Z
UID:10006592-1564272000-1569196799@www.bcmagazine.net
SUMMARY:TheArsenale
DESCRIPTION:TheArsenale – The Most Insane Garage in the World\nDate: 28 July – 30 September\, 2019\nVenue: City of Dreams\nTickets: Free
URL:https://www.bcmagazine.net/event/thearsenale-macau-2019/
LOCATION:The One\, 100 Nathan Road\, Tsim Sha Tsui\, Hong Kong
CATEGORIES:2019,Exhibition,Free,Lifestyle,Macau
ATTACH;FMTTYPE=image/jpeg:https://www.bcmagazine.net/wp-content/uploads/1919/07/thearsenale-cover.jpg
END:VEVENT
BEGIN:VEVENT
DTSTART;TZID=Asia/Hong_Kong:20190803T180000
DTEND;TZID=Asia/Hong_Kong:20190803T180000
DTSTAMP:20260420T070927
CREATED:19181023T145036Z
LAST-MODIFIED:20190627T020433Z
UID:10004530-1564855200-1564855200@www.bcmagazine.net
SUMMARY:Paw Patrol
DESCRIPTION:Paw Patrol Live! The Great Pirate Adventure\nDate: 11am\, 2:30pm\, 6pm\, 3-4 August\, 2019\nVenue: Kitec\, Star Hall\nTickets: $680\, $580\, $480\, $380\, $280 from HK Ticketing
URL:https://www.bcmagazine.net/event/paw-patrol-03-08-2019/
LOCATION:KITEC\, Star Hall\, KITEC\, 1 Trademart Drive\, Kowloon Bay\, Hong Kong
CATEGORIES:2019,Concert,Music,Performing Arts
ATTACH;FMTTYPE=image/jpeg:https://www.bcmagazine.net/wp-content/uploads/1918/10/paw-patrol-live-hk-2019.jpg
GEO:22.3239575;114.2037608
X-APPLE-STRUCTURED-LOCATION;VALUE=URI;X-ADDRESS=KITEC Star Hall KITEC 1 Trademart Drive Kowloon Bay Hong Kong;X-APPLE-RADIUS=500;X-TITLE=KITEC\, 1 Trademart Drive:geo:114.2037608,22.3239575
END:VEVENT
BEGIN:VEVENT
DTSTART;TZID=Asia/Hong_Kong:20190803T200000
DTEND;TZID=Asia/Hong_Kong:20190803T200000
DTSTAMP:20260420T070927
CREATED:18190702T151354Z
LAST-MODIFIED:20190704T165947Z
UID:10000057-1564862400-1564862400@www.bcmagazine.net
SUMMARY:Wang Feng
DESCRIPTION:Wang Feng – This Is It\nDate: 8pm\, 3 August\, 2019\nVenue: Cotai Arena\nTickets: $1\,680\, $1\,280\, $780\, $380 from Cotai Ticketing
URL:https://www.bcmagazine.net/event/wang-feng-macau-2019/
LOCATION:CotaiArena\, Venetian Macao\, Taipa\, Macau
CATEGORIES:2019,Concert,Macau,Music,Performing Arts
GEO:22.1483528;113.5602019
X-APPLE-STRUCTURED-LOCATION;VALUE=URI;X-ADDRESS=CotaiArena Venetian Macao Taipa Macau;X-APPLE-RADIUS=500;X-TITLE=Venetian Macao:geo:113.5602019,22.1483528
END:VEVENT
BEGIN:VEVENT
DTSTART;TZID=Asia/Hong_Kong:20190803T200000
DTEND;TZID=Asia/Hong_Kong:20190803T200000
DTSTAMP:20260420T070927
CREATED:19190411T044512Z
LAST-MODIFIED:20190515T190036Z
UID:10004814-1564862400-1564862400@www.bcmagazine.net
SUMMARY:GFriend
DESCRIPTION:GFriend – Go Go Gfriend\nDate: 8pm\, 3 August\, 2019\nVenue: AsiaWorld-Expo\, Hall 10\nTickets: $1\,588\, $1\,088\, $788\, $488 from Cityline
URL:https://www.bcmagazine.net/event/gfriend-hk-2019/
LOCATION:AsiaWorld-Expo\, Hall 10\, Cheong Wing Road\, Chek Lap Kok\, Lantau\, Hong Kong
CATEGORIES:2019,Concert,Music,Performing Arts
GEO:22.3217383;113.9402012
X-APPLE-STRUCTURED-LOCATION;VALUE=URI;X-ADDRESS=AsiaWorld-Expo Hall 10 Cheong Wing Road Chek Lap Kok Lantau Hong Kong;X-APPLE-RADIUS=500;X-TITLE=Cheong Wing Road\, Chek Lap Kok:geo:113.9402012,22.3217383
END:VEVENT
BEGIN:VEVENT
DTSTART;TZID=Asia/Hong_Kong:20190803T200000
DTEND;TZID=Asia/Hong_Kong:20190803T200000
DTSTAMP:20260420T070927
CREATED:19190711T044512Z
LAST-MODIFIED:20190717T044835Z
UID:10004850-1564862400-1564862400@www.bcmagazine.net
SUMMARY:Seasons For Change
DESCRIPTION:Seasons For Change – Petals of Tomorrow\nDate: 8pm\, 3 August\, 2019\nVenue: Kitec\, Music Zone@E-Max\nTickets: $280
URL:https://www.bcmagazine.net/event/seasons-for-change-2019/
LOCATION:KITEC\, Music Zone@E-Max\, KITEC\,‎ 1 Trademart Drive\, Kowloon Bay\, Hong Kong
CATEGORIES:2019,Concert,Music,Performing Arts
ATTACH;FMTTYPE=image/jpeg:https://www.bcmagazine.net/wp-content/uploads/1919/07/Seasons-For-Change-2019.jpg
GEO:22.3239575;114.2037608
X-APPLE-STRUCTURED-LOCATION;VALUE=URI;X-ADDRESS=KITEC Music Zone@E-Max KITEC‎ 1 Trademart Drive Kowloon Bay Hong Kong;X-APPLE-RADIUS=500;X-TITLE=KITEC\,‎ 1 Trademart Drive:geo:114.2037608,22.3239575
END:VEVENT
BEGIN:VEVENT
DTSTART;TZID=Asia/Hong_Kong:20190803T200000
DTEND;TZID=Asia/Hong_Kong:20190803T200000
DTSTAMP:20260420T070927
CREATED:20190702T145036Z
LAST-MODIFIED:20190711T101647Z
UID:10006589-1564862400-1564862400@www.bcmagazine.net
SUMMARY:Rhys Lewis
DESCRIPTION:Rhys Lewis\nDate: 8pm\, 3 August\, 2019\nVenue: Terrible Baby\nTickets: $320\, $280
URL:https://www.bcmagazine.net/event/rhys-lewis-2019/
LOCATION:Terrible Baby\, 4/F\, Eaton HK\, 380 Nathan Road\, Jordan\, Hong Kong
CATEGORIES:2019,Concert,Music,Performing Arts
END:VEVENT
END:VCALENDAR