BEGIN:VCALENDAR
VERSION:2.0
PRODID:-//bc magazine - ECPv6.15.20//NONSGML v1.0//EN
CALSCALE:GREGORIAN
METHOD:PUBLISH
X-WR-CALNAME:bc magazine
X-ORIGINAL-URL:https://www.bcmagazine.net
X-WR-CALDESC:Events for bc magazine
REFRESH-INTERVAL;VALUE=DURATION:PT1H
X-Robots-Tag:noindex
X-PUBLISHED-TTL:PT1H
BEGIN:VTIMEZONE
TZID:Asia/Hong_Kong
BEGIN:STANDARD
TZOFFSETFROM:+0800
TZOFFSETTO:+0800
TZNAME:HKT
DTSTART:20190101T000000
END:STANDARD
END:VTIMEZONE
BEGIN:VEVENT
DTSTART;TZID=Asia/Hong_Kong:20200318T200000
DTEND;TZID=Asia/Hong_Kong:20200318T200000
DTSTAMP:20260420T052748
CREATED:19190711T044512Z
LAST-MODIFIED:20200304T045328Z
UID:10004856-1584561600-1584561600@www.bcmagazine.net
SUMMARY:YungBlud - Cancelled
DESCRIPTION:YungBlud – Twisted Tales of the Ritalin\nDate: 8pm\, 18 March\, 2020\nVenue: This Town Needs (TTN)\nTickets: $420\, $380 (advance) from Ticketflap
URL:https://www.bcmagazine.net/event/yungblud-2020/
LOCATION:This Town Needs (TTN)\, 1/F Ocean One\, 6 Shung Shun Street\, Yau Tong\, Hong Kong
CATEGORIES:2020,Cancelled,Concert,Music,Performing Arts
ATTACH;FMTTYPE=image/jpeg:https://www.bcmagazine.net/wp-content/uploads/2019/07/yungblud-hk-2020.jpg
GEO:22.292861;114.23782
X-APPLE-STRUCTURED-LOCATION;VALUE=URI;X-ADDRESS=This Town Needs (TTN) 1/F Ocean One 6 Shung Shun Street Yau Tong Hong Kong;X-APPLE-RADIUS=500;X-TITLE=1/F Ocean One\, 6 Shung Shun Street:geo:114.23782,22.292861
END:VEVENT
BEGIN:VEVENT
DTSTART;TZID=Asia/Hong_Kong:20200318T200000
DTEND;TZID=Asia/Hong_Kong:20200318T200000
DTSTAMP:20260420T052748
CREATED:20200225T044512Z
LAST-MODIFIED:20200228T022459Z
UID:10006616-1584561600-1584561600@www.bcmagazine.net
SUMMARY:Marilyn Manson - Cancelled
DESCRIPTION:Marilyn Manson\nDate: 8pm\, 18 March\, 2020\nVenue: Hall 10\, AsiaWorld Expo\nTickets: $898 from HKTicketing
URL:https://www.bcmagazine.net/event/marilyn-manson-2020/
LOCATION:AsiaWorld-Expo\, Hall 10\, Cheong Wing Road\, Chek Lap Kok\, Lantau\, Hong Kong
CATEGORIES:2020,Cancelled,Concert,Music,Performing Arts
GEO:22.3217383;113.9402012
X-APPLE-STRUCTURED-LOCATION;VALUE=URI;X-ADDRESS=AsiaWorld-Expo Hall 10 Cheong Wing Road Chek Lap Kok Lantau Hong Kong;X-APPLE-RADIUS=500;X-TITLE=Cheong Wing Road\, Chek Lap Kok:geo:113.9402012,22.3217383
END:VEVENT
END:VCALENDAR