BEGIN:VCALENDAR
VERSION:2.0
PRODID:-//bc magazine - ECPv6.15.20//NONSGML v1.0//EN
CALSCALE:GREGORIAN
METHOD:PUBLISH
X-WR-CALNAME:bc magazine
X-ORIGINAL-URL:https://www.bcmagazine.net
X-WR-CALDESC:Events for bc magazine
REFRESH-INTERVAL;VALUE=DURATION:PT1H
X-Robots-Tag:noindex
X-PUBLISHED-TTL:PT1H
BEGIN:VTIMEZONE
TZID:Asia/Hong_Kong
BEGIN:STANDARD
TZOFFSETFROM:+0800
TZOFFSETTO:+0800
TZNAME:HKT
DTSTART:20220101T000000
END:STANDARD
END:VTIMEZONE
BEGIN:VEVENT
DTSTART;VALUE=DATE:20230401
DTEND;VALUE=DATE:20230701
DTSTAMP:20260420T062946
CREATED:19160430T000803Z
LAST-MODIFIED:20230326T174015Z
UID:10006793-1680307200-1688169599@www.bcmagazine.net
SUMMARY:Le French May 2023
DESCRIPTION:Le French May\nDate: April-June\, 2023\nVenue: Various\nTickets: Various\nMore info:\nwww.FrenchMay.com
URL:https://www.bcmagazine.net/event/le-french-may-2023/
CATEGORIES:2023,Art Gallery,Concert,Cultural Festival,Exhibition,Fashion,Film,Food,Lifestyle,Multimedia,Music,Performing Arts
ATTACH;FMTTYPE=image/jpeg:https://www.bcmagazine.net/wp-content/uploads/2016/04/french-may-2023-cover-art.jpg
END:VEVENT
BEGIN:VEVENT
DTSTART;VALUE=DATE:20230501
DTEND;VALUE=DATE:20230601
DTSTAMP:20260420T062946
CREATED:19230326T052212Z
LAST-MODIFIED:20230326T052610Z
UID:10006790-1682899200-1685577599@www.bcmagazine.net
SUMMARY:French GourMay 2023
DESCRIPTION:The 14th French GourMay\, 1-31 May 2023\, celebrates French Sparkling Wine. \nFor the full list of events and participating restaurants see  www.frenchgourmay.com \n\nLe French GourMay\nDate: 1-31 May\, 2023\nVenue: Various\nTickets: Various\nMore info:\nwww.frenchgourmay.com
URL:https://www.bcmagazine.net/event/french-gourmay-2023/
LOCATION:Hong Kong\, Hong Kong
CATEGORIES:2023,Food,Market
ATTACH;FMTTYPE=image/jpeg:https://www.bcmagazine.net/wp-content/uploads/2016/04/French-Gourmay-2023.jpeg
GEO:22.396428;114.109497
END:VEVENT
BEGIN:VEVENT
DTSTART;VALUE=DATE:20230521
DTEND;VALUE=DATE:20230530
DTSTAMP:20260420T062947
CREATED:19230427T093032Z
LAST-MODIFIED:20230516T034252Z
UID:10006813-1684627200-1685404799@www.bcmagazine.net
SUMMARY:FIBA 3x3 World Tour Hong Kong Masters
DESCRIPTION:FIBA 3×3 World Tour Hong Kong Masters\nDate: November\, 2023\nVenue: Victoria Park\nTickets: tbc\nMore info:
URL:https://www.bcmagazine.net/event/fiba-3x3-world-tour-hong-kong-masters-2023/
LOCATION:Victoria Park\, Causeway Bay\, Hong Kong
CATEGORIES:2023,Cycling,Sport
ATTACH;FMTTYPE=image/jpeg:https://www.bcmagazine.net/wp-content/uploads/2023/04/fiba_2023.jpg
ORGANIZER;CN="Hong Kong Basketball Association":MAILTO:hkbba@basketball.org.hk
END:VEVENT
BEGIN:VEVENT
DTSTART;VALUE=DATE:20230521
DTEND;VALUE=DATE:20230530
DTSTAMP:20260420T062947
CREATED:20230427T093032Z
LAST-MODIFIED:20230516T032021Z
UID:10006808-1684627200-1685404799@www.bcmagazine.net
SUMMARY:UCI Hong Kong International Track Cup
DESCRIPTION:UCI Hong Kong International Track Cup\nDate: 21-29 May\, 2023\nVenue: HK Velodrome\nTickets: tbc\nMore info:
URL:https://www.bcmagazine.net/event/uci-hong-kong-international-track-cup-2023/
LOCATION:Hong Kong
CATEGORIES:2023,Cycling,Sport
END:VEVENT
BEGIN:VEVENT
DTSTART;VALUE=DATE:20230526
DTEND;VALUE=DATE:20230529
DTSTAMP:20260420T062947
CREATED:20230512T084257Z
LAST-MODIFIED:20230523T110351Z
UID:10006818-1685059200-1685318399@www.bcmagazine.net
SUMMARY:Soccer Sevens
DESCRIPTION:Soccer Sevens\nDate: 26-28 May\, 2023\nVenue: HK Football Club\nTickets: $200 (Weekend pass)\, $120 (Day ticket)\, Free (Friday night)\nMore info:\n22 May (Fri): 6 – 9pm; exhibition youth matches start at 4.30pm\n23 May (Sat): 9am – 7.40pm\n24 May (Sun): 8:30am – 6pm
URL:https://www.bcmagazine.net/event/soccer-sevens-2023/
LOCATION:Hong Kong Football Club\, 3 Sports Road\, Causeway Bay\, Hong Kong
CATEGORIES:2023,Football,Sport
ATTACH;FMTTYPE=image/jpeg:https://www.bcmagazine.net/wp-content/uploads/1919/04/Soccer-7s-2023.jpeg
GEO:22.275374;114.1822239
X-APPLE-STRUCTURED-LOCATION;VALUE=URI;X-ADDRESS=Hong Kong Football Club 3 Sports Road Causeway Bay Hong Kong;X-APPLE-RADIUS=500;X-TITLE=3 Sports Road:geo:114.1822239,22.275374
END:VEVENT
BEGIN:VEVENT
DTSTART;TZID=Asia/Hong_Kong:20230528T150000
DTEND;TZID=Asia/Hong_Kong:20230528T150000
DTSTAMP:20260420T062947
CREATED:19230505T094227Z
LAST-MODIFIED:20230517T170105Z
UID:10006817-1685286000-1685286000@www.bcmagazine.net
SUMMARY:Asia Rugby Championship 2023
DESCRIPTION:Asia Rugby Championship 2023 Final\nDate: 3pm\, 28 May\, 2023\nVenue: Almaty\, Kazakhstan
URL:https://www.bcmagazine.net/event/asia-rugby-championship-final-2023/
CATEGORIES:2023,Rugby,Sport
ATTACH;FMTTYPE=image/jpeg:https://www.bcmagazine.net/wp-content/uploads/2023/05/HKRU-20221210-0536-e1684153404368.jpg
END:VEVENT
END:VCALENDAR