BEGIN:VCALENDAR
VERSION:2.0
PRODID:-//bc magazine - ECPv6.15.20//NONSGML v1.0//EN
CALSCALE:GREGORIAN
METHOD:PUBLISH
X-WR-CALNAME:bc magazine
X-ORIGINAL-URL:https://www.bcmagazine.net
X-WR-CALDESC:Events for bc magazine
REFRESH-INTERVAL;VALUE=DURATION:PT1H
X-Robots-Tag:noindex
X-PUBLISHED-TTL:PT1H
BEGIN:VTIMEZONE
TZID:Asia/Hong_Kong
BEGIN:STANDARD
TZOFFSETFROM:+0800
TZOFFSETTO:+0800
TZNAME:HKT
DTSTART:20220101T000000
END:STANDARD
END:VTIMEZONE
BEGIN:VEVENT
DTSTART;VALUE=DATE:20230322
DTEND;VALUE=DATE:20230326
DTSTAMP:20260424T051750
CREATED:20230110T032000Z
LAST-MODIFIED:20230221T012708Z
UID:10006725-1679443200-1679788799@www.bcmagazine.net
SUMMARY:Art Central
DESCRIPTION:Art Central\nDate: 22-25 March 2023\nVenue: Hong Kong Convention and Exhibition Centre\nTickets: $275\, $225\, $175 from HKTicketing\nMore info:\n23 March: 2-5pm / 5-8pm\n24 March: 12nn -4pm / 4-8pm\n24 March: 12nn -4pm / 4-8pm\n25 March: 11am -3pm / 3-6pm
URL:https://www.bcmagazine.net/event/art-central-2023/
LOCATION:HK Convention and Exhibition Centre\, 1 Expo Drive\, Wanchai\, Hong Kong
CATEGORIES:2023,Art Gallery,Exhibition,Other
ATTACH;FMTTYPE=image/jpeg:https://www.bcmagazine.net/wp-content/uploads/2017/07/art-central-2021.jpg
END:VEVENT
BEGIN:VEVENT
DTSTART;VALUE=DATE:20230323
DTEND;VALUE=DATE:20230324
DTSTAMP:20260424T051750
CREATED:20230108T020222Z
LAST-MODIFIED:20230321T002947Z
UID:10006724-1679529600-1679615999@www.bcmagazine.net
SUMMARY:Art Basel Hong Kong 2023
DESCRIPTION:Art Basel Hong Kong 2023\nDate: 23-25 March\, 2023\nVenue: HK Convention and Exhibition Centre\nTickets: $1\,560\, $1\,290\, $1\,020\, $850\, $600\, $530\, $430\, $320\, $280 from HKTicketing\nMore info:\n22 March: 5-9pm\n23 March: 2-8pm\n24 March: 2–8pm\n25 March: 12 noon–6pm
URL:https://www.bcmagazine.net/event/art-basel-2023/2023-03-23/
LOCATION:HK Convention and Exhibition Centre\, 1 Expo Drive\, Wanchai\, Hong Kong
CATEGORIES:2023,Art Gallery,Exhibition
ATTACH;FMTTYPE=image/jpeg:https://www.bcmagazine.net/wp-content/uploads/2023/01/art-basel-2023.jpeg
END:VEVENT
BEGIN:VEVENT
DTSTART;VALUE=DATE:20230324
DTEND;VALUE=DATE:20230325
DTSTAMP:20260424T051750
CREATED:20230108T020222Z
LAST-MODIFIED:20230321T002947Z
UID:10006788-1679616000-1679702399@www.bcmagazine.net
SUMMARY:Art Basel Hong Kong 2023
DESCRIPTION:Art Basel Hong Kong 2023\nDate: 23-25 March\, 2023\nVenue: HK Convention and Exhibition Centre\nTickets: $1\,560\, $1\,290\, $1\,020\, $850\, $600\, $530\, $430\, $320\, $280 from HKTicketing\nMore info:\n22 March: 5-9pm\n23 March: 2-8pm\n24 March: 2–8pm\n25 March: 12 noon–6pm
URL:https://www.bcmagazine.net/event/art-basel-2023/2023-03-24/
LOCATION:HK Convention and Exhibition Centre\, 1 Expo Drive\, Wanchai\, Hong Kong
CATEGORIES:2023,Art Gallery,Exhibition
ATTACH;FMTTYPE=image/jpeg:https://www.bcmagazine.net/wp-content/uploads/2023/01/art-basel-2023.jpeg
END:VEVENT
BEGIN:VEVENT
DTSTART;VALUE=DATE:20230325
DTEND;VALUE=DATE:20230326
DTSTAMP:20260424T051750
CREATED:20230108T020222Z
LAST-MODIFIED:20230321T002947Z
UID:10006789-1679702400-1679788799@www.bcmagazine.net
SUMMARY:Art Basel Hong Kong 2023
DESCRIPTION:Art Basel Hong Kong 2023\nDate: 23-25 March\, 2023\nVenue: HK Convention and Exhibition Centre\nTickets: $1\,560\, $1\,290\, $1\,020\, $850\, $600\, $530\, $430\, $320\, $280 from HKTicketing\nMore info:\n22 March: 5-9pm\n23 March: 2-8pm\n24 March: 2–8pm\n25 March: 12 noon–6pm
URL:https://www.bcmagazine.net/event/art-basel-2023/2023-03-25/
LOCATION:HK Convention and Exhibition Centre\, 1 Expo Drive\, Wanchai\, Hong Kong
CATEGORIES:2023,Art Gallery,Exhibition
ATTACH;FMTTYPE=image/jpeg:https://www.bcmagazine.net/wp-content/uploads/2023/01/art-basel-2023.jpeg
END:VEVENT
END:VCALENDAR