BEGIN:VCALENDAR
VERSION:2.0
PRODID:-//bc magazine - ECPv6.15.20//NONSGML v1.0//EN
CALSCALE:GREGORIAN
METHOD:PUBLISH
X-WR-CALNAME:bc magazine
X-ORIGINAL-URL:https://www.bcmagazine.net
X-WR-CALDESC:Events for bc magazine
REFRESH-INTERVAL;VALUE=DURATION:PT1H
X-Robots-Tag:noindex
X-PUBLISHED-TTL:PT1H
BEGIN:VTIMEZONE
TZID:Asia/Hong_Kong
BEGIN:STANDARD
TZOFFSETFROM:+0800
TZOFFSETTO:+0800
TZNAME:HKT
DTSTART:20140101T000000
END:STANDARD
END:VTIMEZONE
BEGIN:VEVENT
DTSTART;VALUE=DATE:20161027
DTEND;VALUE=DATE:20161110
DTSTAMP:20260426T050021
CREATED:19160921T152425Z
LAST-MODIFIED:20230221T020310Z
UID:10006736-1477526400-1478735999@www.bcmagazine.net
SUMMARY:HK Art Week 2023
DESCRIPTION:HK Art Week 2023\nDate: 22 – 25 March\, 2023\nVenue: HK Convention and Exhibition Centre\nTickets: Free\, tbc
URL:https://www.bcmagazine.net/event/hk-art-week-2023/
LOCATION:HK Convention and Exhibition Centre\, 1 Expo Drive\, Wanchai\, Hong Kong
CATEGORIES:2023,Art Gallery,Free,Opera
ATTACH;FMTTYPE=image/webp:https://www.bcmagazine.net/wp-content/uploads/2023/01/art-week-2023-BW.webp
END:VEVENT
BEGIN:VEVENT
DTSTART;VALUE=DATE:20160915
DTEND;VALUE=DATE:20160919
DTSTAMP:20260426T050021
CREATED:19160903T114114Z
LAST-MODIFIED:20160903T114634Z
UID:10002071-1473897600-1474243199@www.bcmagazine.net
SUMMARY:Asia Contemporary Art Show
DESCRIPTION:Asia Contemporary Art Show\nDate: 15-18 September\, 2016\nVenue: 40-43F\, Conrad Hotel\nTickets: $220\nMore info:\n16 Sept – 1-5pm\n17 Sept – 1-8pm\n18 Sept – 11am-6pm
URL:https://www.bcmagazine.net/event/asia-contemporary-art-show-2016/
LOCATION:Conrad Hong Kong\, Wanchai\, Hong Kong
CATEGORIES:2016,Art Gallery,Exhibition
GEO:22.2783151;114.174695
END:VEVENT
BEGIN:VEVENT
DTSTART;VALUE=DATE:20160912
DTEND;VALUE=DATE:20160929
DTSTAMP:20260426T050021
CREATED:20160909T082516Z
LAST-MODIFIED:20160909T084107Z
UID:10006132-1473638400-1475107199@www.bcmagazine.net
SUMMARY:Mandela Exhibition
DESCRIPTION:Nelson Mandela has been central to every stage of South Africa’s epic struggle against apartheid – from formulating a new approach in the 1940s to leading the mass struggles of the 1950s\, from the formation of Umkhonto weSizwe in the early 1960s to imprisonment for 27 years. He initiated and led negotiations in the 1990s\, and served as the first President of a democratic South Africa\, building a new nation from the fragments of conflict. \n \nMandela’s life is explored through six themes – character\, comrade\, leader\, prisoner\, negotiator and statesman. In each theme\, the narrative is presented through dramatically visual wall displays\, supported by films\, books and photographs. \n \nMandela Exhibition in Hong Kong\nDate: 12-28 September\, 2016\nVenue: 2/F Main Library\, the University of Hong Kong\nTickets: Free\nMore info:\nMonday – Friday: 9am-10pm\nSaturday: 9am-7pm\nSunday: 10am 7pm
URL:https://www.bcmagazine.net/event/mandela-exhibition-2016/
CATEGORIES:2016,Art Gallery,Exhibition,Other
END:VEVENT
BEGIN:VEVENT
DTSTART;VALUE=DATE:20160513
DTEND;VALUE=DATE:20160516
DTSTAMP:20260426T050021
CREATED:19151212T142112Z
LAST-MODIFIED:20190119T155145Z
UID:10000209-1463097600-1463356799@www.bcmagazine.net
SUMMARY:Affordable Art Fair
DESCRIPTION:Affordable Art Fair\nDate: 13-15 May\, 2016\nVenue: HK Convention & Exhibition Centre\nTickets: tbc
URL:https://www.bcmagazine.net/event/affordable-art-fair-2016/
LOCATION:HK Convention and Exhibition Centre\, 1 Expo Drive\, Wanchai\, Hong Kong
CATEGORIES:2016,Art Gallery,Exhibition
END:VEVENT
BEGIN:VEVENT
DTSTART;TZID=Asia/Hong_Kong:20160324T183000
DTEND;TZID=Asia/Hong_Kong:20160324T183000
DTSTAMP:20260426T050021
CREATED:19160221T064912Z
LAST-MODIFIED:20160221T065148Z
UID:10001373-1458844200-1458844200@www.bcmagazine.net
SUMMARY:Intelligence Squared Debate
DESCRIPTION:Intelligence Squared Debate\nDate: 6:30pm 24 March\, 2016\nVenue: HKCEC Meeting Room N101\nTickets: $300 from HKTicketing
URL:https://www.bcmagazine.net/event/intelligence-squared-debate/
LOCATION:HK Convention and Exhibition Centre\, 1 Expo Drive\, Wanchai\, Hong Kong
CATEGORIES:2016,Art Gallery
END:VEVENT
BEGIN:VEVENT
DTSTART;VALUE=DATE:20160324
DTEND;VALUE=DATE:20160327
DTSTAMP:20260426T050021
CREATED:19151212T142309Z
LAST-MODIFIED:20161108T020511Z
UID:10000207-1458777600-1459036799@www.bcmagazine.net
SUMMARY:Art Basel
DESCRIPTION:Art Basel in Asia\nDate: 24-26 March\, 2016\nVenue: HK Convention & Exhibition Centre\nTickets: tbc
URL:https://www.bcmagazine.net/event/art-basel-2016/
LOCATION:HK Convention and Exhibition Centre\, 1 Expo Drive\, Wanchai\, Hong Kong
CATEGORIES:2016,Art Gallery,Exhibition
END:VEVENT
BEGIN:VEVENT
DTSTART;VALUE=DATE:20160321
DTEND;VALUE=DATE:20160327
DTSTAMP:20260426T050021
CREATED:19151212T184843Z
LAST-MODIFIED:20220923T114526Z
UID:10000919-1458518400-1459036799@www.bcmagazine.net
SUMMARY:Art Central
DESCRIPTION:Art Central\nDate: 21\, 23-26 March\, 2016\nVenue: Central Harbourfront\nTickets: $500\, $230 from HKTicketing
URL:https://www.bcmagazine.net/event/art-central/
LOCATION:Central Harbourfront\,  9 Lung Wo Road\, Central\, Hong Kong
CATEGORIES:2016,Art Gallery,Exhibition
GEO:22.2826223;114.164346
X-APPLE-STRUCTURED-LOCATION;VALUE=URI;X-ADDRESS=Central Harbourfront  9 Lung Wo Road Central Hong Kong;X-APPLE-RADIUS=500;X-TITLE=9 Lung Wo Road:geo:114.164346,22.2826223
END:VEVENT
BEGIN:VEVENT
DTSTART;VALUE=DATE:20150522
DTEND;VALUE=DATE:20150525
DTSTAMP:20260426T050021
CREATED:20150411T114726Z
LAST-MODIFIED:20210825T020203Z
UID:10005731-1432252800-1432511999@www.bcmagazine.net
SUMMARY:Affordable Art Fair
DESCRIPTION:Affordable Art Fair\nDate: 22-24 May\, 2015\nVenue: Hall 3\, HKCEC\nTickets: $150
URL:https://www.bcmagazine.net/event/affordable-art-fair-2015/
LOCATION:HK Convention and Exhibition Centre\, 1 Expo Drive\, Wanchai\, Hong Kong
CATEGORIES:2015,Art Gallery,Exhibition
END:VEVENT
BEGIN:VEVENT
DTSTART;TZID=Asia/Hong_Kong:20150509T200000
DTEND;TZID=Asia/Hong_Kong:20150509T230000
DTSTAMP:20260426T050021
CREATED:20150425T225616Z
LAST-MODIFIED:20150425T233119Z
UID:10005783-1431201600-1431212400@www.bcmagazine.net
SUMMARY:Suishou No Fune @ The Empty Gallery - 9 May\, 2015
DESCRIPTION:Emerging from the fertile Tokyo experimental scene centering on Setagaya based PSF records Suishou No Fune\, who comprise Pirako Kurenai (guitar\, vox) and Kageo (guitar)\, have been playing together since 1999. Their musical style is rooted in the post-war psychedelic rock of The Velvet Underground and Les Rallizes Denudes\, while also calling to mind the sound of more contemporary “shoegaze” acts like Slowdive and Grouper. \nTheir name\, which translates to “The Crystal Ship”\, has its origin in a classic song by The Doors\, and their sound also shares in that song’s sense of exquisite melancholy. However\, unlike many of their contemporaries\, Suishou No Fune manage to take the basic elements of “psychedelic” music appropriated by so many bands – long-form guitar jams\, layers of shimmering feedback\, heavily processed vocals – and forge a music which is at once utterly personal and evocative of the present. Although the basis of their music lies in Western rock\, Suishou no Fune display a distinctly Asian sensibility in their melodic phrasing and use of aural space. Hearing their languidly swirling guitar melodies\, bathed in fluorescent clouds of feedback\, one is transported to a realm beyond time and space. \nSuishou No Fune’s musical aesthetic is yet another example of the “Mono No Aware” popularized by authors like Murakami Haruki\, but their music transcends the “Japanese-ness” of this aesthetic category to communicate something more urgent and universal. Like an aural analogue of Wong Kar Wai’s films\, Suishou No Fune’s music poignantly expresses the feelings of futility\, melancholy\, and longing experienced by those living in Asia’s “modern” economies who must daily submit to life under economic and political stasis. \nSuishou No Fune will perform a duo guitar set to open the evening\, followed by a full set as a four-piece band with the addition of a bassist and drummer. Tea and snacks will be provided for all ticket holders. \nSuishou No Fune\nDate: 8pm\, 9 May\, 2015\nVenue: The Empty Gallery\nTickets: $100 from www.theemptygallery.com/ticket\nMore info: live@theemptygallery.com
URL:https://www.bcmagazine.net/event/suishou-no-fune-the-empty-gallery-9-may-2015/
LOCATION:The Empty Gallery\, 19 Floor\, Grand Marine Centre\, No 3 Yue Fung Street\, Tin Wan\, Aberdeen\, Hong Kong
CATEGORIES:Art Gallery,Comedy,Concert,Music,Performing Arts
GEO:22.2483068;114.1524398
X-APPLE-STRUCTURED-LOCATION;VALUE=URI;X-ADDRESS=The Empty Gallery 19 Floor Grand Marine Centre No 3 Yue Fung Street Tin Wan Aberdeen Hong Kong;X-APPLE-RADIUS=500;X-TITLE=19 Floor\, Grand Marine Centre\, No 3 Yue Fung Street\, Tin Wan:geo:114.1524398,22.2483068
END:VEVENT
BEGIN:VEVENT
DTSTART;TZID=Asia/Hong_Kong:20150314T110000
DTEND;TZID=Asia/Hong_Kong:20150316T170000
DTSTAMP:20260426T050021
CREATED:20150223T030844Z
LAST-MODIFIED:20150222T115508Z
UID:10005610-1426330800-1426525200@www.bcmagazine.net
SUMMARY:Art Central Hong Kong - 14-16 March\, 2015
DESCRIPTION:Art Central is a new contemporary art fair showcasing the next generation of talent alongside galleries and art spaces from around the globe. The inaugural edition takes place from the 14-16 March in the largest ever\, purpose-built structure on the new Central Harbourfront. 77 international galleries will showcase established and emerging artists working across painting\, drawing\, photography\, sculpture\, installation\, video and performance. \nArt Central Hong Kong\nWhen: 14-16 March\, 2015\nWhere: Central Harbourfront\nTickets: $200 from HKTicketing\nMore info:\n14 March 2015 (Sat) at 11am-7pm\n15 March 2015 (Sun) at 11am-7pm\n16 March 2015 (Mon) at 11am-5pm
URL:https://www.bcmagazine.net/event/art-central-hong-kong-14-16-march-2015/
LOCATION:Central Harbourfront\,  9 Lung Wo Road\, Central\, Hong Kong
CATEGORIES:Art Gallery,Exhibition
GEO:22.2826223;114.164346
X-APPLE-STRUCTURED-LOCATION;VALUE=URI;X-ADDRESS=Central Harbourfront  9 Lung Wo Road Central Hong Kong;X-APPLE-RADIUS=500;X-TITLE=9 Lung Wo Road:geo:114.164346,22.2826223
END:VEVENT
BEGIN:VEVENT
DTSTART;TZID=Asia/Hong_Kong:20150314T080000
DTEND;TZID=Asia/Hong_Kong:20150317T170000
DTSTAMP:20260426T050021
CREATED:20150222T120206Z
LAST-MODIFIED:20150313T062930Z
UID:10005608-1426320000-1426611600@www.bcmagazine.net
SUMMARY:Art Basel
DESCRIPTION:The international art show Art Basel\, returns for its third edition in March\, 2015\, with over 230 leading international galleries drawn from 37 countries. Once again\, Art Basel will showcase art from Asia and the Asia-Pacific region as well as Europe and the Americas. \nArt Basel\nWhen: 14-17 March\, 2015\nWhere: HKCEC\nTickets: $850\, $650\, $300\, $250\nMore info:\nVernissage – 14 March 2015 (Sat) at 4pm-9pm\n15 March 2015 (Sun) at 1pm-8pm\n16 March 2015 (Mon) at 12noon-8pm\n17 March 2015 (Tue) at 12noon-5pm
URL:https://www.bcmagazine.net/event/art-basel/
LOCATION:HK Convention and Exhibition Centre\, 1 Expo Drive\, Wanchai\, Hong Kong
CATEGORIES:Art Gallery,Exhibition
END:VEVENT
END:VCALENDAR