BEGIN:VCALENDAR
VERSION:2.0
PRODID:-//bc magazine - ECPv6.15.20//NONSGML v1.0//EN
CALSCALE:GREGORIAN
METHOD:PUBLISH
X-WR-CALNAME:bc magazine
X-ORIGINAL-URL:https://www.bcmagazine.net
X-WR-CALDESC:Events for bc magazine
REFRESH-INTERVAL;VALUE=DURATION:PT1H
X-Robots-Tag:noindex
X-PUBLISHED-TTL:PT1H
BEGIN:VTIMEZONE
TZID:Asia/Hong_Kong
BEGIN:STANDARD
TZOFFSETFROM:+0800
TZOFFSETTO:+0800
TZNAME:HKT
DTSTART:20210101T000000
END:STANDARD
END:VTIMEZONE
BEGIN:VEVENT
DTSTART;VALUE=DATE:20220525
DTEND;VALUE=DATE:20220530
DTSTAMP:20260426T111733
CREATED:20220408T020022Z
LAST-MODIFIED:20220416T051740Z
UID:10006701-1653436800-1653868799@www.bcmagazine.net
SUMMARY:Art Basel 2022
DESCRIPTION:Art Basel\nDate: 25-29 May\, 2022\nVenue: HK Convention and Exhibition Centre\nTickets: $850\, $650\, $450\, $350\, $250 from HKTicketing\nMore info:\n25 May: 5-9pm\n26 May: 1-8pm\n27-28 May: 1–9pm\n29 May: 11am–6pm
URL:https://www.bcmagazine.net/event/art-basel-2022/
LOCATION:HK Convention and Exhibition Centre\, 1 Expo Drive\, Wanchai\, Hong Kong
CATEGORIES:2022,Art Gallery,Exhibition
ATTACH;FMTTYPE=image/jpeg:https://www.bcmagazine.net/wp-content/uploads/1916/11/art-basel-scaled.jpeg
END:VEVENT
BEGIN:VEVENT
DTSTART;VALUE=DATE:20220526
DTEND;VALUE=DATE:20220530
DTSTAMP:20260426T111733
CREATED:20220410T032000Z
LAST-MODIFIED:20220412T130341Z
UID:10006702-1653523200-1653868799@www.bcmagazine.net
SUMMARY:Art Central
DESCRIPTION:Art Central\nDate: 26-29 May\, 2022\nVenue: Hong Kong Convention and Exhibition Centre\nTickets: $250\, $200\, $150 from HKTicketing\nMore info:\nWednesday 25 May: Preview\nThursday 26 May: 2-5pm / 5-8pm\nFriday 27 May: 11am -3pm / 3-7pm\nSaturday 28 May: 11am -3pm / 3-7pm\nSunday 29 May: 11 am-3pm / 3-6pm
URL:https://www.bcmagazine.net/event/art-central-2022/
LOCATION:HK Convention and Exhibition Centre\, 1 Expo Drive\, Wanchai\, Hong Kong
CATEGORIES:2022,Art Gallery,Exhibition,Other
ATTACH;FMTTYPE=image/jpeg:https://www.bcmagazine.net/wp-content/uploads/2017/07/art-central-2021.jpg
END:VEVENT
END:VCALENDAR