BEGIN:VCALENDAR
VERSION:2.0
PRODID:-//bc magazine - ECPv6.15.20//NONSGML v1.0//EN
CALSCALE:GREGORIAN
METHOD:PUBLISH
X-WR-CALNAME:bc magazine
X-ORIGINAL-URL:https://www.bcmagazine.net
X-WR-CALDESC:Events for bc magazine
REFRESH-INTERVAL;VALUE=DURATION:PT1H
X-Robots-Tag:noindex
X-PUBLISHED-TTL:PT1H
BEGIN:VTIMEZONE
TZID:Asia/Hong_Kong
BEGIN:STANDARD
TZOFFSETFROM:+0800
TZOFFSETTO:+0800
TZNAME:HKT
DTSTART:20200101T000000
END:STANDARD
END:VTIMEZONE
BEGIN:VEVENT
DTSTART;VALUE=DATE:20231231
DTEND;VALUE=DATE:20240101
DTSTAMP:20260425T021626
CREATED:20231206T070812Z
LAST-MODIFIED:20231222T111010Z
UID:10009431-1703980800-1704067199@www.bcmagazine.net
SUMMARY:VegFest - Cancelled
DESCRIPTION:VegFest\nDate: 31 December\, 2023\nVenue: 1111 Clearwater Bay Road\nTickets: Free
URL:https://www.bcmagazine.net/event/vegfest-2023/
LOCATION:1111 Clearwater Bay Road\, 1111 Clearwater Bay Road\, Clearwater Bay\, Hong Kong
CATEGORIES:2023,Cancelled,Concert,DJ,Food,Lifestyle,Music,Performing Arts
ATTACH;FMTTYPE=image/jpeg:https://www.bcmagazine.net/wp-content/uploads/2023/12/vegfest-cancelled-2023.jpeg
END:VEVENT
BEGIN:VEVENT
DTSTART;VALUE=DATE:20220424
DTEND;VALUE=DATE:20220530
DTSTAMP:20260425T021626
CREATED:19180310T104830Z
LAST-MODIFIED:20220422T010330Z
UID:10003908-1650758400-1653868799@www.bcmagazine.net
SUMMARY:8th Hong Kong Games - Cancelled
DESCRIPTION:8th Hong Kong Games\nDate: 24 April – 29 May\, 2022\nVenue: Various\nTickets: tbc\nMore info: \nwww.hongkonggames.hk \n 
URL:https://www.bcmagazine.net/event/8th-hong-kong-games/
CATEGORIES:2022,Athletics,Badminton,Basketball,Cancelled,Fitness,Lifestyle,Sport,Swimming,Volleyball
END:VEVENT
BEGIN:VEVENT
DTSTART;VALUE=DATE:20220311
DTEND;VALUE=DATE:20220321
DTSTAMP:20260425T021626
CREATED:20220208T085813Z
LAST-MODIFIED:20220208T091210Z
UID:10006698-1646956800-1647820799@www.bcmagazine.net
SUMMARY:Hong Kong Flower Show 2022 - Cancelled
DESCRIPTION:Hong Kong Flower Show 2022 – Cancelled\n Date: 11-20 March\, 2022\nVenue: Victoria Park\nTickets: Free
URL:https://www.bcmagazine.net/event/hong-kong-flower-show-2022/
LOCATION:Victoria Park\, Causeway Bay\, Hong Kong
CATEGORIES:2022,Cancelled,Exhibition,Lifestyle,Other
ATTACH;FMTTYPE=image/jpeg:https://www.bcmagazine.net/wp-content/uploads/1918/02/flower-show-2021.jpg
END:VEVENT
BEGIN:VEVENT
DTSTART;TZID=Asia/Hong_Kong:20220115T201500
DTEND;TZID=Asia/Hong_Kong:20220115T201500
DTSTAMP:20260425T021626
CREATED:19210930T034537Z
LAST-MODIFIED:20220105T102427Z
UID:10005257-1642277700-1642277700@www.bcmagazine.net
SUMMARY:The Next 20 Hins Live in Hong Kong - Postponed
DESCRIPTION:The Next 20 Hins Live in Hong Kong\nDate: 23-27\, 30-31 December\, 2021\, 1-3\, 6-15 January\, 2022\nVenue: HK Coliseum\nTickets: $980\, $680\, $480 from Urbtix
URL:https://www.bcmagazine.net/event/the-next-20-hins-live-in-hong-kong/2022-01-15/
LOCATION:HK Coliseum\, 9 Cheong Wan Road\, Hung Hom\, Hong Kong
CATEGORIES:2021,2022,Cancelled,Cantopop,Concert,Music,Nightlife,Performing Arts
ATTACH;FMTTYPE=image/jpeg:https://www.bcmagazine.net/wp-content/uploads/2021/09/Hins-next-20.jpg
GEO:22.3014169;114.1820305
X-APPLE-STRUCTURED-LOCATION;VALUE=URI;X-ADDRESS=HK Coliseum 9 Cheong Wan Road Hung Hom Hong Kong;X-APPLE-RADIUS=500;X-TITLE=9 Cheong Wan Road:geo:114.1820305,22.3014169
END:VEVENT
BEGIN:VEVENT
DTSTART;TZID=Asia/Hong_Kong:20220114T201500
DTEND;TZID=Asia/Hong_Kong:20220114T201500
DTSTAMP:20260425T021626
CREATED:19210930T034537Z
LAST-MODIFIED:20220105T102427Z
UID:10005256-1642191300-1642191300@www.bcmagazine.net
SUMMARY:The Next 20 Hins Live in Hong Kong - Postponed
DESCRIPTION:The Next 20 Hins Live in Hong Kong\nDate: 23-27\, 30-31 December\, 2021\, 1-3\, 6-15 January\, 2022\nVenue: HK Coliseum\nTickets: $980\, $680\, $480 from Urbtix
URL:https://www.bcmagazine.net/event/the-next-20-hins-live-in-hong-kong/2022-01-14/
LOCATION:HK Coliseum\, 9 Cheong Wan Road\, Hung Hom\, Hong Kong
CATEGORIES:2021,2022,Cancelled,Cantopop,Concert,Music,Nightlife,Performing Arts
ATTACH;FMTTYPE=image/jpeg:https://www.bcmagazine.net/wp-content/uploads/2021/09/Hins-next-20.jpg
GEO:22.3014169;114.1820305
X-APPLE-STRUCTURED-LOCATION;VALUE=URI;X-ADDRESS=HK Coliseum 9 Cheong Wan Road Hung Hom Hong Kong;X-APPLE-RADIUS=500;X-TITLE=9 Cheong Wan Road:geo:114.1820305,22.3014169
END:VEVENT
BEGIN:VEVENT
DTSTART;TZID=Asia/Hong_Kong:20220113T201500
DTEND;TZID=Asia/Hong_Kong:20220113T201500
DTSTAMP:20260425T021626
CREATED:19210930T034537Z
LAST-MODIFIED:20220105T102427Z
UID:10005255-1642104900-1642104900@www.bcmagazine.net
SUMMARY:The Next 20 Hins Live in Hong Kong - Postponed
DESCRIPTION:The Next 20 Hins Live in Hong Kong\nDate: 23-27\, 30-31 December\, 2021\, 1-3\, 6-15 January\, 2022\nVenue: HK Coliseum\nTickets: $980\, $680\, $480 from Urbtix
URL:https://www.bcmagazine.net/event/the-next-20-hins-live-in-hong-kong/2022-01-13/
LOCATION:HK Coliseum\, 9 Cheong Wan Road\, Hung Hom\, Hong Kong
CATEGORIES:2021,2022,Cancelled,Cantopop,Concert,Music,Nightlife,Performing Arts
ATTACH;FMTTYPE=image/jpeg:https://www.bcmagazine.net/wp-content/uploads/2021/09/Hins-next-20.jpg
GEO:22.3014169;114.1820305
X-APPLE-STRUCTURED-LOCATION;VALUE=URI;X-ADDRESS=HK Coliseum 9 Cheong Wan Road Hung Hom Hong Kong;X-APPLE-RADIUS=500;X-TITLE=9 Cheong Wan Road:geo:114.1820305,22.3014169
END:VEVENT
BEGIN:VEVENT
DTSTART;TZID=Asia/Hong_Kong:20220112T201500
DTEND;TZID=Asia/Hong_Kong:20220112T201500
DTSTAMP:20260425T021626
CREATED:19210930T034537Z
LAST-MODIFIED:20220105T102427Z
UID:10005254-1642018500-1642018500@www.bcmagazine.net
SUMMARY:The Next 20 Hins Live in Hong Kong - Postponed
DESCRIPTION:The Next 20 Hins Live in Hong Kong\nDate: 23-27\, 30-31 December\, 2021\, 1-3\, 6-15 January\, 2022\nVenue: HK Coliseum\nTickets: $980\, $680\, $480 from Urbtix
URL:https://www.bcmagazine.net/event/the-next-20-hins-live-in-hong-kong/2022-01-12/
LOCATION:HK Coliseum\, 9 Cheong Wan Road\, Hung Hom\, Hong Kong
CATEGORIES:2021,2022,Cancelled,Cantopop,Concert,Music,Nightlife,Performing Arts
ATTACH;FMTTYPE=image/jpeg:https://www.bcmagazine.net/wp-content/uploads/2021/09/Hins-next-20.jpg
GEO:22.3014169;114.1820305
X-APPLE-STRUCTURED-LOCATION;VALUE=URI;X-ADDRESS=HK Coliseum 9 Cheong Wan Road Hung Hom Hong Kong;X-APPLE-RADIUS=500;X-TITLE=9 Cheong Wan Road:geo:114.1820305,22.3014169
END:VEVENT
BEGIN:VEVENT
DTSTART;TZID=Asia/Hong_Kong:20220110T201500
DTEND;TZID=Asia/Hong_Kong:20220110T201500
DTSTAMP:20260425T021626
CREATED:19210930T034537Z
LAST-MODIFIED:20220105T102427Z
UID:10005253-1641845700-1641845700@www.bcmagazine.net
SUMMARY:The Next 20 Hins Live in Hong Kong - Postponed
DESCRIPTION:The Next 20 Hins Live in Hong Kong\nDate: 23-27\, 30-31 December\, 2021\, 1-3\, 6-15 January\, 2022\nVenue: HK Coliseum\nTickets: $980\, $680\, $480 from Urbtix
URL:https://www.bcmagazine.net/event/the-next-20-hins-live-in-hong-kong/2022-01-10/
LOCATION:HK Coliseum\, 9 Cheong Wan Road\, Hung Hom\, Hong Kong
CATEGORIES:2021,2022,Cancelled,Cantopop,Concert,Music,Nightlife,Performing Arts
ATTACH;FMTTYPE=image/jpeg:https://www.bcmagazine.net/wp-content/uploads/2021/09/Hins-next-20.jpg
GEO:22.3014169;114.1820305
X-APPLE-STRUCTURED-LOCATION;VALUE=URI;X-ADDRESS=HK Coliseum 9 Cheong Wan Road Hung Hom Hong Kong;X-APPLE-RADIUS=500;X-TITLE=9 Cheong Wan Road:geo:114.1820305,22.3014169
END:VEVENT
BEGIN:VEVENT
DTSTART;TZID=Asia/Hong_Kong:20220109T201500
DTEND;TZID=Asia/Hong_Kong:20220109T201500
DTSTAMP:20260425T021626
CREATED:19210930T034537Z
LAST-MODIFIED:20220105T102427Z
UID:10005252-1641759300-1641759300@www.bcmagazine.net
SUMMARY:The Next 20 Hins Live in Hong Kong - Postponed
DESCRIPTION:The Next 20 Hins Live in Hong Kong\nDate: 23-27\, 30-31 December\, 2021\, 1-3\, 6-15 January\, 2022\nVenue: HK Coliseum\nTickets: $980\, $680\, $480 from Urbtix
URL:https://www.bcmagazine.net/event/the-next-20-hins-live-in-hong-kong/2022-01-09/
LOCATION:HK Coliseum\, 9 Cheong Wan Road\, Hung Hom\, Hong Kong
CATEGORIES:2021,2022,Cancelled,Cantopop,Concert,Music,Nightlife,Performing Arts
ATTACH;FMTTYPE=image/jpeg:https://www.bcmagazine.net/wp-content/uploads/2021/09/Hins-next-20.jpg
GEO:22.3014169;114.1820305
X-APPLE-STRUCTURED-LOCATION;VALUE=URI;X-ADDRESS=HK Coliseum 9 Cheong Wan Road Hung Hom Hong Kong;X-APPLE-RADIUS=500;X-TITLE=9 Cheong Wan Road:geo:114.1820305,22.3014169
END:VEVENT
BEGIN:VEVENT
DTSTART;TZID=Asia/Hong_Kong:20220108T201500
DTEND;TZID=Asia/Hong_Kong:20220108T201500
DTSTAMP:20260425T021626
CREATED:19210930T034537Z
LAST-MODIFIED:20220105T102427Z
UID:10005251-1641672900-1641672900@www.bcmagazine.net
SUMMARY:The Next 20 Hins Live in Hong Kong - Postponed
DESCRIPTION:The Next 20 Hins Live in Hong Kong\nDate: 23-27\, 30-31 December\, 2021\, 1-3\, 6-15 January\, 2022\nVenue: HK Coliseum\nTickets: $980\, $680\, $480 from Urbtix
URL:https://www.bcmagazine.net/event/the-next-20-hins-live-in-hong-kong/2022-01-08/
LOCATION:HK Coliseum\, 9 Cheong Wan Road\, Hung Hom\, Hong Kong
CATEGORIES:2021,2022,Cancelled,Cantopop,Concert,Music,Nightlife,Performing Arts
ATTACH;FMTTYPE=image/jpeg:https://www.bcmagazine.net/wp-content/uploads/2021/09/Hins-next-20.jpg
GEO:22.3014169;114.1820305
X-APPLE-STRUCTURED-LOCATION;VALUE=URI;X-ADDRESS=HK Coliseum 9 Cheong Wan Road Hung Hom Hong Kong;X-APPLE-RADIUS=500;X-TITLE=9 Cheong Wan Road:geo:114.1820305,22.3014169
END:VEVENT
BEGIN:VEVENT
DTSTART;TZID=Asia/Hong_Kong:20220107T201500
DTEND;TZID=Asia/Hong_Kong:20220107T201500
DTSTAMP:20260425T021626
CREATED:19210930T034537Z
LAST-MODIFIED:20220105T102427Z
UID:10005250-1641586500-1641586500@www.bcmagazine.net
SUMMARY:The Next 20 Hins Live in Hong Kong - Postponed
DESCRIPTION:The Next 20 Hins Live in Hong Kong\nDate: 23-27\, 30-31 December\, 2021\, 1-3\, 6-15 January\, 2022\nVenue: HK Coliseum\nTickets: $980\, $680\, $480 from Urbtix
URL:https://www.bcmagazine.net/event/the-next-20-hins-live-in-hong-kong/2022-01-07/
LOCATION:HK Coliseum\, 9 Cheong Wan Road\, Hung Hom\, Hong Kong
CATEGORIES:2021,2022,Cancelled,Cantopop,Concert,Music,Nightlife,Performing Arts
ATTACH;FMTTYPE=image/jpeg:https://www.bcmagazine.net/wp-content/uploads/2021/09/Hins-next-20.jpg
GEO:22.3014169;114.1820305
X-APPLE-STRUCTURED-LOCATION;VALUE=URI;X-ADDRESS=HK Coliseum 9 Cheong Wan Road Hung Hom Hong Kong;X-APPLE-RADIUS=500;X-TITLE=9 Cheong Wan Road:geo:114.1820305,22.3014169
END:VEVENT
BEGIN:VEVENT
DTSTART;TZID=Asia/Hong_Kong:20220106T201500
DTEND;TZID=Asia/Hong_Kong:20220106T201500
DTSTAMP:20260425T021626
CREATED:19210930T034537Z
LAST-MODIFIED:20220105T102427Z
UID:10005249-1641500100-1641500100@www.bcmagazine.net
SUMMARY:The Next 20 Hins Live in Hong Kong - Postponed
DESCRIPTION:The Next 20 Hins Live in Hong Kong\nDate: 23-27\, 30-31 December\, 2021\, 1-3\, 6-15 January\, 2022\nVenue: HK Coliseum\nTickets: $980\, $680\, $480 from Urbtix
URL:https://www.bcmagazine.net/event/the-next-20-hins-live-in-hong-kong/2022-01-06/
LOCATION:HK Coliseum\, 9 Cheong Wan Road\, Hung Hom\, Hong Kong
CATEGORIES:2021,2022,Cancelled,Cantopop,Concert,Music,Nightlife,Performing Arts
ATTACH;FMTTYPE=image/jpeg:https://www.bcmagazine.net/wp-content/uploads/2021/09/Hins-next-20.jpg
GEO:22.3014169;114.1820305
X-APPLE-STRUCTURED-LOCATION;VALUE=URI;X-ADDRESS=HK Coliseum 9 Cheong Wan Road Hung Hom Hong Kong;X-APPLE-RADIUS=500;X-TITLE=9 Cheong Wan Road:geo:114.1820305,22.3014169
END:VEVENT
BEGIN:VEVENT
DTSTART;TZID=Asia/Hong_Kong:20220103T201500
DTEND;TZID=Asia/Hong_Kong:20220103T201500
DTSTAMP:20260425T021626
CREATED:19210930T034537Z
LAST-MODIFIED:20220105T102427Z
UID:10005248-1641240900-1641240900@www.bcmagazine.net
SUMMARY:The Next 20 Hins Live in Hong Kong - Postponed
DESCRIPTION:The Next 20 Hins Live in Hong Kong\nDate: 23-27\, 30-31 December\, 2021\, 1-3\, 6-15 January\, 2022\nVenue: HK Coliseum\nTickets: $980\, $680\, $480 from Urbtix
URL:https://www.bcmagazine.net/event/the-next-20-hins-live-in-hong-kong/2022-01-03/
LOCATION:HK Coliseum\, 9 Cheong Wan Road\, Hung Hom\, Hong Kong
CATEGORIES:2021,2022,Cancelled,Cantopop,Concert,Music,Nightlife,Performing Arts
ATTACH;FMTTYPE=image/jpeg:https://www.bcmagazine.net/wp-content/uploads/2021/09/Hins-next-20.jpg
GEO:22.3014169;114.1820305
X-APPLE-STRUCTURED-LOCATION;VALUE=URI;X-ADDRESS=HK Coliseum 9 Cheong Wan Road Hung Hom Hong Kong;X-APPLE-RADIUS=500;X-TITLE=9 Cheong Wan Road:geo:114.1820305,22.3014169
END:VEVENT
BEGIN:VEVENT
DTSTART;TZID=Asia/Hong_Kong:20220102T201500
DTEND;TZID=Asia/Hong_Kong:20220102T201500
DTSTAMP:20260425T021626
CREATED:19210930T034537Z
LAST-MODIFIED:20220105T102427Z
UID:10005247-1641154500-1641154500@www.bcmagazine.net
SUMMARY:The Next 20 Hins Live in Hong Kong - Postponed
DESCRIPTION:The Next 20 Hins Live in Hong Kong\nDate: 23-27\, 30-31 December\, 2021\, 1-3\, 6-15 January\, 2022\nVenue: HK Coliseum\nTickets: $980\, $680\, $480 from Urbtix
URL:https://www.bcmagazine.net/event/the-next-20-hins-live-in-hong-kong/2022-01-02/
LOCATION:HK Coliseum\, 9 Cheong Wan Road\, Hung Hom\, Hong Kong
CATEGORIES:2021,2022,Cancelled,Cantopop,Concert,Music,Nightlife,Performing Arts
ATTACH;FMTTYPE=image/jpeg:https://www.bcmagazine.net/wp-content/uploads/2021/09/Hins-next-20.jpg
GEO:22.3014169;114.1820305
X-APPLE-STRUCTURED-LOCATION;VALUE=URI;X-ADDRESS=HK Coliseum 9 Cheong Wan Road Hung Hom Hong Kong;X-APPLE-RADIUS=500;X-TITLE=9 Cheong Wan Road:geo:114.1820305,22.3014169
END:VEVENT
BEGIN:VEVENT
DTSTART;TZID=Asia/Hong_Kong:20220101T201500
DTEND;TZID=Asia/Hong_Kong:20220101T201500
DTSTAMP:20260425T021626
CREATED:19210930T034537Z
LAST-MODIFIED:20220105T102427Z
UID:10005246-1641068100-1641068100@www.bcmagazine.net
SUMMARY:The Next 20 Hins Live in Hong Kong - Postponed
DESCRIPTION:The Next 20 Hins Live in Hong Kong\nDate: 23-27\, 30-31 December\, 2021\, 1-3\, 6-15 January\, 2022\nVenue: HK Coliseum\nTickets: $980\, $680\, $480 from Urbtix
URL:https://www.bcmagazine.net/event/the-next-20-hins-live-in-hong-kong/2022-01-01/
LOCATION:HK Coliseum\, 9 Cheong Wan Road\, Hung Hom\, Hong Kong
CATEGORIES:2021,2022,Cancelled,Cantopop,Concert,Music,Nightlife,Performing Arts
ATTACH;FMTTYPE=image/jpeg:https://www.bcmagazine.net/wp-content/uploads/2021/09/Hins-next-20.jpg
GEO:22.3014169;114.1820305
X-APPLE-STRUCTURED-LOCATION;VALUE=URI;X-ADDRESS=HK Coliseum 9 Cheong Wan Road Hung Hom Hong Kong;X-APPLE-RADIUS=500;X-TITLE=9 Cheong Wan Road:geo:114.1820305,22.3014169
END:VEVENT
BEGIN:VEVENT
DTSTART;TZID=Asia/Hong_Kong:20211231T201500
DTEND;TZID=Asia/Hong_Kong:20211231T201500
DTSTAMP:20260425T021626
CREATED:19210930T034537Z
LAST-MODIFIED:20220105T102427Z
UID:10005245-1640981700-1640981700@www.bcmagazine.net
SUMMARY:The Next 20 Hins Live in Hong Kong - Postponed
DESCRIPTION:The Next 20 Hins Live in Hong Kong\nDate: 23-27\, 30-31 December\, 2021\, 1-3\, 6-15 January\, 2022\nVenue: HK Coliseum\nTickets: $980\, $680\, $480 from Urbtix
URL:https://www.bcmagazine.net/event/the-next-20-hins-live-in-hong-kong/2021-12-31/
LOCATION:HK Coliseum\, 9 Cheong Wan Road\, Hung Hom\, Hong Kong
CATEGORIES:2021,2022,Cancelled,Cantopop,Concert,Music,Nightlife,Performing Arts
ATTACH;FMTTYPE=image/jpeg:https://www.bcmagazine.net/wp-content/uploads/2021/09/Hins-next-20.jpg
GEO:22.3014169;114.1820305
X-APPLE-STRUCTURED-LOCATION;VALUE=URI;X-ADDRESS=HK Coliseum 9 Cheong Wan Road Hung Hom Hong Kong;X-APPLE-RADIUS=500;X-TITLE=9 Cheong Wan Road:geo:114.1820305,22.3014169
END:VEVENT
BEGIN:VEVENT
DTSTART;TZID=Asia/Hong_Kong:20211230T201500
DTEND;TZID=Asia/Hong_Kong:20211230T201500
DTSTAMP:20260425T021626
CREATED:19210930T034537Z
LAST-MODIFIED:20220105T102427Z
UID:10005244-1640895300-1640895300@www.bcmagazine.net
SUMMARY:The Next 20 Hins Live in Hong Kong - Postponed
DESCRIPTION:The Next 20 Hins Live in Hong Kong\nDate: 23-27\, 30-31 December\, 2021\, 1-3\, 6-15 January\, 2022\nVenue: HK Coliseum\nTickets: $980\, $680\, $480 from Urbtix
URL:https://www.bcmagazine.net/event/the-next-20-hins-live-in-hong-kong/2021-12-30/
LOCATION:HK Coliseum\, 9 Cheong Wan Road\, Hung Hom\, Hong Kong
CATEGORIES:2021,2022,Cancelled,Cantopop,Concert,Music,Nightlife,Performing Arts
ATTACH;FMTTYPE=image/jpeg:https://www.bcmagazine.net/wp-content/uploads/2021/09/Hins-next-20.jpg
GEO:22.3014169;114.1820305
X-APPLE-STRUCTURED-LOCATION;VALUE=URI;X-ADDRESS=HK Coliseum 9 Cheong Wan Road Hung Hom Hong Kong;X-APPLE-RADIUS=500;X-TITLE=9 Cheong Wan Road:geo:114.1820305,22.3014169
END:VEVENT
BEGIN:VEVENT
DTSTART;TZID=Asia/Hong_Kong:20211229T201500
DTEND;TZID=Asia/Hong_Kong:20211229T201500
DTSTAMP:20260425T021626
CREATED:19210930T034537Z
LAST-MODIFIED:20220105T102427Z
UID:10005243-1640808900-1640808900@www.bcmagazine.net
SUMMARY:The Next 20 Hins Live in Hong Kong - Postponed
DESCRIPTION:The Next 20 Hins Live in Hong Kong\nDate: 23-27\, 30-31 December\, 2021\, 1-3\, 6-15 January\, 2022\nVenue: HK Coliseum\nTickets: $980\, $680\, $480 from Urbtix
URL:https://www.bcmagazine.net/event/the-next-20-hins-live-in-hong-kong/2021-12-29/
LOCATION:HK Coliseum\, 9 Cheong Wan Road\, Hung Hom\, Hong Kong
CATEGORIES:2021,2022,Cancelled,Cantopop,Concert,Music,Nightlife,Performing Arts
ATTACH;FMTTYPE=image/jpeg:https://www.bcmagazine.net/wp-content/uploads/2021/09/Hins-next-20.jpg
GEO:22.3014169;114.1820305
X-APPLE-STRUCTURED-LOCATION;VALUE=URI;X-ADDRESS=HK Coliseum 9 Cheong Wan Road Hung Hom Hong Kong;X-APPLE-RADIUS=500;X-TITLE=9 Cheong Wan Road:geo:114.1820305,22.3014169
END:VEVENT
BEGIN:VEVENT
DTSTART;TZID=Asia/Hong_Kong:20211227T201500
DTEND;TZID=Asia/Hong_Kong:20211227T201500
DTSTAMP:20260425T021626
CREATED:19210930T034537Z
LAST-MODIFIED:20220105T102427Z
UID:10005242-1640636100-1640636100@www.bcmagazine.net
SUMMARY:The Next 20 Hins Live in Hong Kong - Postponed
DESCRIPTION:The Next 20 Hins Live in Hong Kong\nDate: 23-27\, 30-31 December\, 2021\, 1-3\, 6-15 January\, 2022\nVenue: HK Coliseum\nTickets: $980\, $680\, $480 from Urbtix
URL:https://www.bcmagazine.net/event/the-next-20-hins-live-in-hong-kong/2021-12-27/
LOCATION:HK Coliseum\, 9 Cheong Wan Road\, Hung Hom\, Hong Kong
CATEGORIES:2021,2022,Cancelled,Cantopop,Concert,Music,Nightlife,Performing Arts
ATTACH;FMTTYPE=image/jpeg:https://www.bcmagazine.net/wp-content/uploads/2021/09/Hins-next-20.jpg
GEO:22.3014169;114.1820305
X-APPLE-STRUCTURED-LOCATION;VALUE=URI;X-ADDRESS=HK Coliseum 9 Cheong Wan Road Hung Hom Hong Kong;X-APPLE-RADIUS=500;X-TITLE=9 Cheong Wan Road:geo:114.1820305,22.3014169
END:VEVENT
BEGIN:VEVENT
DTSTART;TZID=Asia/Hong_Kong:20211226T201500
DTEND;TZID=Asia/Hong_Kong:20211226T201500
DTSTAMP:20260425T021626
CREATED:19210930T034537Z
LAST-MODIFIED:20220105T102427Z
UID:10005241-1640549700-1640549700@www.bcmagazine.net
SUMMARY:The Next 20 Hins Live in Hong Kong - Postponed
DESCRIPTION:The Next 20 Hins Live in Hong Kong\nDate: 23-27\, 30-31 December\, 2021\, 1-3\, 6-15 January\, 2022\nVenue: HK Coliseum\nTickets: $980\, $680\, $480 from Urbtix
URL:https://www.bcmagazine.net/event/the-next-20-hins-live-in-hong-kong/2021-12-26/
LOCATION:HK Coliseum\, 9 Cheong Wan Road\, Hung Hom\, Hong Kong
CATEGORIES:2021,2022,Cancelled,Cantopop,Concert,Music,Nightlife,Performing Arts
ATTACH;FMTTYPE=image/jpeg:https://www.bcmagazine.net/wp-content/uploads/2021/09/Hins-next-20.jpg
GEO:22.3014169;114.1820305
X-APPLE-STRUCTURED-LOCATION;VALUE=URI;X-ADDRESS=HK Coliseum 9 Cheong Wan Road Hung Hom Hong Kong;X-APPLE-RADIUS=500;X-TITLE=9 Cheong Wan Road:geo:114.1820305,22.3014169
END:VEVENT
BEGIN:VEVENT
DTSTART;TZID=Asia/Hong_Kong:20211225T201500
DTEND;TZID=Asia/Hong_Kong:20211225T201500
DTSTAMP:20260425T021626
CREATED:19210930T034537Z
LAST-MODIFIED:20220105T102427Z
UID:10005240-1640463300-1640463300@www.bcmagazine.net
SUMMARY:The Next 20 Hins Live in Hong Kong - Postponed
DESCRIPTION:The Next 20 Hins Live in Hong Kong\nDate: 23-27\, 30-31 December\, 2021\, 1-3\, 6-15 January\, 2022\nVenue: HK Coliseum\nTickets: $980\, $680\, $480 from Urbtix
URL:https://www.bcmagazine.net/event/the-next-20-hins-live-in-hong-kong/2021-12-25/
LOCATION:HK Coliseum\, 9 Cheong Wan Road\, Hung Hom\, Hong Kong
CATEGORIES:2021,2022,Cancelled,Cantopop,Concert,Music,Nightlife,Performing Arts
ATTACH;FMTTYPE=image/jpeg:https://www.bcmagazine.net/wp-content/uploads/2021/09/Hins-next-20.jpg
GEO:22.3014169;114.1820305
X-APPLE-STRUCTURED-LOCATION;VALUE=URI;X-ADDRESS=HK Coliseum 9 Cheong Wan Road Hung Hom Hong Kong;X-APPLE-RADIUS=500;X-TITLE=9 Cheong Wan Road:geo:114.1820305,22.3014169
END:VEVENT
BEGIN:VEVENT
DTSTART;TZID=Asia/Hong_Kong:20211224T201500
DTEND;TZID=Asia/Hong_Kong:20211224T201500
DTSTAMP:20260425T021626
CREATED:19210930T034537Z
LAST-MODIFIED:20220105T102427Z
UID:10005239-1640376900-1640376900@www.bcmagazine.net
SUMMARY:The Next 20 Hins Live in Hong Kong - Postponed
DESCRIPTION:The Next 20 Hins Live in Hong Kong\nDate: 23-27\, 30-31 December\, 2021\, 1-3\, 6-15 January\, 2022\nVenue: HK Coliseum\nTickets: $980\, $680\, $480 from Urbtix
URL:https://www.bcmagazine.net/event/the-next-20-hins-live-in-hong-kong/2021-12-24/
LOCATION:HK Coliseum\, 9 Cheong Wan Road\, Hung Hom\, Hong Kong
CATEGORIES:2021,2022,Cancelled,Cantopop,Concert,Music,Nightlife,Performing Arts
ATTACH;FMTTYPE=image/jpeg:https://www.bcmagazine.net/wp-content/uploads/2021/09/Hins-next-20.jpg
GEO:22.3014169;114.1820305
X-APPLE-STRUCTURED-LOCATION;VALUE=URI;X-ADDRESS=HK Coliseum 9 Cheong Wan Road Hung Hom Hong Kong;X-APPLE-RADIUS=500;X-TITLE=9 Cheong Wan Road:geo:114.1820305,22.3014169
END:VEVENT
BEGIN:VEVENT
DTSTART;TZID=Asia/Hong_Kong:20211223T201500
DTEND;TZID=Asia/Hong_Kong:20211223T201500
DTSTAMP:20260425T021626
CREATED:19210930T034537Z
LAST-MODIFIED:20220105T102427Z
UID:10005238-1640290500-1640290500@www.bcmagazine.net
SUMMARY:The Next 20 Hins Live in Hong Kong - Postponed
DESCRIPTION:The Next 20 Hins Live in Hong Kong\nDate: 23-27\, 30-31 December\, 2021\, 1-3\, 6-15 January\, 2022\nVenue: HK Coliseum\nTickets: $980\, $680\, $480 from Urbtix
URL:https://www.bcmagazine.net/event/the-next-20-hins-live-in-hong-kong/2021-12-23/
LOCATION:HK Coliseum\, 9 Cheong Wan Road\, Hung Hom\, Hong Kong
CATEGORIES:2021,2022,Cancelled,Cantopop,Concert,Music,Nightlife,Performing Arts
ATTACH;FMTTYPE=image/jpeg:https://www.bcmagazine.net/wp-content/uploads/2021/09/Hins-next-20.jpg
GEO:22.3014169;114.1820305
X-APPLE-STRUCTURED-LOCATION;VALUE=URI;X-ADDRESS=HK Coliseum 9 Cheong Wan Road Hung Hom Hong Kong;X-APPLE-RADIUS=500;X-TITLE=9 Cheong Wan Road:geo:114.1820305,22.3014169
END:VEVENT
BEGIN:VEVENT
DTSTART;VALUE=DATE:20211210
DTEND;VALUE=DATE:20211211
DTSTAMP:20260425T021626
CREATED:20210924T100800Z
LAST-MODIFIED:20210925T034837Z
UID:10006679-1639094400-1639180799@www.bcmagazine.net
SUMMARY:Ryuichi Sakamoto - Cancelled
DESCRIPTION:Ryuichi Sakamoto featuring Shiro Takatani\nDate: Cancelled\nVenue: West Kowloon Cultural District Art Park\, Freespace\, The Box\nTickets: $1\,480\, $1\,180 \nSadly the rescheduled performance has had to be cancelled due to Sakamoto’s poor health.
URL:https://www.bcmagazine.net/event/ryuichi-sakamoto/
LOCATION:West Kowloon Cultural District\, Freespace\, The Box\, West Kowloon\, Hong Kong
CATEGORIES:2021,Cancelled,Dance,Music,Performing Arts,Theatre
ATTACH;FMTTYPE=image/jpeg:https://www.bcmagazine.net/wp-content/uploads/1921/09/Ryuichi-Sakamoto-2021.jpeg
END:VEVENT
BEGIN:VEVENT
DTSTART;VALUE=DATE:20211205
DTEND;VALUE=DATE:20211206
DTSTAMP:20260425T021626
CREATED:20211126T114604Z
LAST-MODIFIED:20211126T134942Z
UID:10006689-1638662400-1638748799@www.bcmagazine.net
SUMMARY:Hong Kong Streetathon - Cancelled
DESCRIPTION:“Run Your City regret to announce that\, despite every effort to co-ordinate all parties concerned and gain lots of support from various departments\, we have not yet obtained the approval for exemption of the prohibition on group gathering order for the “Wong To Yick Wood Lock Ointment HONG KONG STREETATHON 2021” to be held in December 2021. The 8th HONG KONG STREETATHON will be postponed to the fourth quarter of 2022. \nOur aim of organizing Streetathon is to encourage everyone to do more exercise through this large-scale urban running event so as to achieve our vision of transforming the city into a healthy\, happy\, united and inclusive place.” \nHong Kong Streetathon\nDate: 5 December\, 2021\nVenue: Victoria Harbour\nTickets: various \nDue to the pandemic\, the organisers have reluctantly postponed the 2021 Streetathon to Q4 2022
URL:https://www.bcmagazine.net/event/hong-kong-streetathon-2021/
LOCATION:Victoria Harbour\, Hong Kong
CATEGORIES:2021,Athletics,Cancelled,Fitness,Sport
ATTACH;FMTTYPE=image/jpeg:https://www.bcmagazine.net/wp-content/uploads/1919/09/streetathon-2021.jpeg
END:VEVENT
BEGIN:VEVENT
DTSTART;VALUE=DATE:20211126
DTEND;VALUE=DATE:20211129
DTSTAMP:20260425T021626
CREATED:20200709T085402Z
LAST-MODIFIED:20211103T113114Z
UID:10006628-1637884800-1638143999@www.bcmagazine.net
SUMMARY:Clockenflap - Cancelled
DESCRIPTION:Unsurprisingly Clockenflap 2021 has been cancelled. \nThe dates for 2022 have yet to announced \nClockenflap\nDate: 2022\nVenue: Central Harbourfront\nTickets: tbc
URL:https://www.bcmagazine.net/event/clockenflap-2021/
LOCATION:Central Harbourfront\,  9 Lung Wo Road\, Central\, Hong Kong
CATEGORIES:2021,Cancelled,Concert,Music,Performing Arts
ATTACH;FMTTYPE=image/png:https://www.bcmagazine.net/wp-content/uploads/1917/12/Clockenflap-2021.png
GEO:22.2826223;114.164346
X-APPLE-STRUCTURED-LOCATION;VALUE=URI;X-ADDRESS=Central Harbourfront  9 Lung Wo Road Central Hong Kong;X-APPLE-RADIUS=500;X-TITLE=9 Lung Wo Road:geo:114.164346,22.2826223
END:VEVENT
BEGIN:VEVENT
DTSTART;VALUE=DATE:20211105
DTEND;VALUE=DATE:20211108
DTSTAMP:20260425T021626
CREATED:20201217T111400Z
LAST-MODIFIED:20210805T152152Z
UID:10006647-1636070400-1636329599@www.bcmagazine.net
SUMMARY:HK Sevens 2021 - Cancelled
DESCRIPTION:HK Sevens\nDate: 5-7 November\, 2021\nVenue: HK Stadium\nTickets: $1\,950 (tbc)
URL:https://www.bcmagazine.net/event/hk-sevens-2021/
LOCATION:HK Stadium\, 55 Eastern Hospital Road\, So Kon Po\, Hong Kong
CATEGORIES:2021,Cancelled,Rugby,Sport
ATTACH;FMTTYPE=image/jpeg:https://www.bcmagazine.net/wp-content/uploads/2018/09/asia-rugby-sevens-series-opener-2.jpg
GEO:22.2730073;114.1885121
X-APPLE-STRUCTURED-LOCATION;VALUE=URI;X-ADDRESS=HK Stadium 55 Eastern Hospital Road So Kon Po Hong Kong;X-APPLE-RADIUS=500;X-TITLE=55 Eastern Hospital Road:geo:114.1885121,22.2730073
END:VEVENT
BEGIN:VEVENT
DTSTART;TZID=Asia/Hong_Kong:20210516T194500
DTEND;TZID=Asia/Hong_Kong:20210516T194500
DTSTAMP:20260425T021626
CREATED:19170810T093057Z
LAST-MODIFIED:20210407T041725Z
UID:10003217-1621194300-1621194300@www.bcmagazine.net
SUMMARY:La Traviata - Postponed
DESCRIPTION:La Traviata\nOpera Hong Kong\, Opéra de Monte-Carlo\, Opéra-Théâtre de Saint-Étienne\nDate: 12-16 May\, 2021\nVenue: HK Cultural Centre\, Grand Theatre\nTickets: tbc from Urbtix\nMore info:\nIn Italian with Chinese and English surtitles\n12-15 May – 7:45pm\n16 May – 3pm
URL:https://www.bcmagazine.net/event/la-traviata-16-05-2021/2021-05-16/
LOCATION:HK Cultural Centre\, Grand Theatre\,\, 10 Salisbury Road\, Tsim Sha Tsui\, Hong Kong
CATEGORIES:2021,Cancelled,Concert,Music,Opera,Performing Arts
ATTACH;FMTTYPE=image/jpeg:https://www.bcmagazine.net/wp-content/uploads/1917/08/LaTraviata-1000x460_2.jpg
GEO:22.294318;114.171708
X-APPLE-STRUCTURED-LOCATION;VALUE=URI;X-ADDRESS=HK Cultural Centre Grand Theatre 10 Salisbury Road Tsim Sha Tsui Hong Kong;X-APPLE-RADIUS=500;X-TITLE=10 Salisbury Road:geo:114.171708,22.294318
END:VEVENT
BEGIN:VEVENT
DTSTART;TZID=Asia/Hong_Kong:20210515T194500
DTEND;TZID=Asia/Hong_Kong:20210515T194500
DTSTAMP:20260425T021626
CREATED:19170810T093057Z
LAST-MODIFIED:20210407T041725Z
UID:10003216-1621107900-1621107900@www.bcmagazine.net
SUMMARY:La Traviata - Postponed
DESCRIPTION:La Traviata\nOpera Hong Kong\, Opéra de Monte-Carlo\, Opéra-Théâtre de Saint-Étienne\nDate: 12-16 May\, 2021\nVenue: HK Cultural Centre\, Grand Theatre\nTickets: tbc from Urbtix\nMore info:\nIn Italian with Chinese and English surtitles\n12-15 May – 7:45pm\n16 May – 3pm
URL:https://www.bcmagazine.net/event/la-traviata-16-05-2021/2021-05-15/
LOCATION:HK Cultural Centre\, Grand Theatre\,\, 10 Salisbury Road\, Tsim Sha Tsui\, Hong Kong
CATEGORIES:2021,Cancelled,Concert,Music,Opera,Performing Arts
ATTACH;FMTTYPE=image/jpeg:https://www.bcmagazine.net/wp-content/uploads/1917/08/LaTraviata-1000x460_2.jpg
GEO:22.294318;114.171708
X-APPLE-STRUCTURED-LOCATION;VALUE=URI;X-ADDRESS=HK Cultural Centre Grand Theatre 10 Salisbury Road Tsim Sha Tsui Hong Kong;X-APPLE-RADIUS=500;X-TITLE=10 Salisbury Road:geo:114.171708,22.294318
END:VEVENT
BEGIN:VEVENT
DTSTART;TZID=Asia/Hong_Kong:20210514T194500
DTEND;TZID=Asia/Hong_Kong:20210514T194500
DTSTAMP:20260425T021626
CREATED:19170810T093057Z
LAST-MODIFIED:20210407T041725Z
UID:10003215-1621021500-1621021500@www.bcmagazine.net
SUMMARY:La Traviata - Postponed
DESCRIPTION:La Traviata\nOpera Hong Kong\, Opéra de Monte-Carlo\, Opéra-Théâtre de Saint-Étienne\nDate: 12-16 May\, 2021\nVenue: HK Cultural Centre\, Grand Theatre\nTickets: tbc from Urbtix\nMore info:\nIn Italian with Chinese and English surtitles\n12-15 May – 7:45pm\n16 May – 3pm
URL:https://www.bcmagazine.net/event/la-traviata-16-05-2021/2021-05-14/
LOCATION:HK Cultural Centre\, Grand Theatre\,\, 10 Salisbury Road\, Tsim Sha Tsui\, Hong Kong
CATEGORIES:2021,Cancelled,Concert,Music,Opera,Performing Arts
ATTACH;FMTTYPE=image/jpeg:https://www.bcmagazine.net/wp-content/uploads/1917/08/LaTraviata-1000x460_2.jpg
GEO:22.294318;114.171708
X-APPLE-STRUCTURED-LOCATION;VALUE=URI;X-ADDRESS=HK Cultural Centre Grand Theatre 10 Salisbury Road Tsim Sha Tsui Hong Kong;X-APPLE-RADIUS=500;X-TITLE=10 Salisbury Road:geo:114.171708,22.294318
END:VEVENT
END:VCALENDAR