BEGIN:VCALENDAR
VERSION:2.0
PRODID:-//bc magazine - ECPv6.15.20//NONSGML v1.0//EN
CALSCALE:GREGORIAN
METHOD:PUBLISH
X-WR-CALNAME:bc magazine
X-ORIGINAL-URL:https://www.bcmagazine.net
X-WR-CALDESC:Events for bc magazine
REFRESH-INTERVAL;VALUE=DURATION:PT1H
X-Robots-Tag:noindex
X-PUBLISHED-TTL:PT1H
BEGIN:VTIMEZONE
TZID:Asia/Hong_Kong
BEGIN:STANDARD
TZOFFSETFROM:+0800
TZOFFSETTO:+0800
TZNAME:HKT
DTSTART:20210101T000000
END:STANDARD
END:VTIMEZONE
BEGIN:VEVENT
DTSTART;VALUE=DATE:20221023
DTEND;VALUE=DATE:20221024
DTSTAMP:20260421T202143
CREATED:20220818T014823Z
LAST-MODIFIED:20220818T020209Z
UID:10006716-1666483200-1666569599@www.bcmagazine.net
SUMMARY:Pink Dot
DESCRIPTION:Pink Dot Hong Kong\nDate: 23 October\, 2022\nVenue: Various\nTickets: Free
URL:https://www.bcmagazine.net/event/pink-dot-2022/
CATEGORIES:2022,Charity,Free,LGBT,Lifestyle
ATTACH;FMTTYPE=image/jpeg:https://www.bcmagazine.net/wp-content/uploads/2020/09/pink-dot-2022.jpg
END:VEVENT
END:VCALENDAR