BEGIN:VCALENDAR
VERSION:2.0
PRODID:-//bc magazine - ECPv6.15.20//NONSGML v1.0//EN
CALSCALE:GREGORIAN
METHOD:PUBLISH
X-WR-CALNAME:bc magazine
X-ORIGINAL-URL:https://www.bcmagazine.net
X-WR-CALDESC:Events for bc magazine
REFRESH-INTERVAL;VALUE=DURATION:PT1H
X-Robots-Tag:noindex
X-PUBLISHED-TTL:PT1H
BEGIN:VTIMEZONE
TZID:Asia/Hong_Kong
BEGIN:STANDARD
TZOFFSETFROM:+0800
TZOFFSETTO:+0800
TZNAME:HKT
DTSTART:20230101T000000
END:STANDARD
END:VTIMEZONE
BEGIN:VEVENT
DTSTART;VALUE=DATE:20240327
DTEND;VALUE=DATE:20240331
DTSTAMP:20260422T115558
CREATED:20240108T020222Z
LAST-MODIFIED:20240119T033254Z
UID:10009444-1711497600-1711843199@www.bcmagazine.net
SUMMARY:Art Basel Hong Kong 2024
DESCRIPTION:Art Basel Hong Kong 2024\nDate: 27-30 March\, 2024\nVenue: HK Convention and Exhibition Centre\nTickets: $3\,680\, $1\,650\, $1\,100\, $990\, $620\, $550\, $420\, $350\, $225 from HKTicketing\nMore info:\n27 March: 5-9pm\n28 March: 2-8pm\n29 March: 2–8pm\n30 March: 12 noon–6pm
URL:https://www.bcmagazine.net/event/art-basel-hong-kong-2024/
LOCATION:HK Convention and Exhibition Centre\, 1 Expo Drive\, Wanchai\, Hong Kong
CATEGORIES:2024,Art Gallery,Exhibition
ATTACH;FMTTYPE=image/jpeg:https://www.bcmagazine.net/wp-content/uploads/2023/01/Art_Basel_Hong_Kong-2024.jpeg
END:VEVENT
BEGIN:VEVENT
DTSTART;VALUE=DATE:20240328
DTEND;VALUE=DATE:20240401
DTSTAMP:20260422T115558
CREATED:20240110T032000Z
LAST-MODIFIED:20240312T112945Z
UID:10009453-1711584000-1711929599@www.bcmagazine.net
SUMMARY:Art Central
DESCRIPTION:Art Central\nDate: 28-31 March 2024\nVenue: Central Harbourfront\nTickets: $850\,  $270\, $250 HKTicketing\nMore info:\n28 March: 12nn-5pm / 5-9pm\n29 March: 12nn -3pm / 3-6pm\n30 March: 11am-7pm\n31 March: 11am-5pm
URL:https://www.bcmagazine.net/event/art-central-2024/
LOCATION:Central Harbourfront\,  9 Lung Wo Road\, Central\, Hong Kong
CATEGORIES:2024,Art Gallery,Exhibition,Other
ATTACH;FMTTYPE=image/jpeg:https://www.bcmagazine.net/wp-content/uploads/2023/01/art-Central-2024.jpeg
GEO:22.2826223;114.164346
X-APPLE-STRUCTURED-LOCATION;VALUE=URI;X-ADDRESS=Central Harbourfront  9 Lung Wo Road Central Hong Kong;X-APPLE-RADIUS=500;X-TITLE=9 Lung Wo Road:geo:114.164346,22.2826223
END:VEVENT
BEGIN:VEVENT
DTSTART;VALUE=DATE:20240330
DTEND;VALUE=DATE:20240401
DTSTAMP:20260422T115558
CREATED:20240229T004237Z
LAST-MODIFIED:20240313T152146Z
UID:10009457-1711756800-1711929599@www.bcmagazine.net
SUMMARY:Kcon
DESCRIPTION:Kcon\nDate: 30-31 March 2024\nVenue: AsiaWorld-Expo\, Arena\nTickets: $2\,688\, $1\,488\, $988 from Cityline
URL:https://www.bcmagazine.net/event/kcon-2024/
LOCATION:AsiaWorld-Expo\, Arena\, Cheong Wing Road\, Chek Lap Kok\, Lantau\, Hong Kong
CATEGORIES:2024,Concert,Exhibition,Fashion,Kpop,Music,Nightlife,Performing Arts
ATTACH;FMTTYPE=image/jpeg:https://www.bcmagazine.net/wp-content/uploads/2022/06/Kcon-2024.jpeg
GEO:22.3217383;113.9402012
X-APPLE-STRUCTURED-LOCATION;VALUE=URI;X-ADDRESS=AsiaWorld-Expo Arena Cheong Wing Road Chek Lap Kok Lantau Hong Kong;X-APPLE-RADIUS=500;X-TITLE=Cheong Wing Road\, Chek Lap Kok:geo:113.9402012,22.3217383
END:VEVENT
END:VCALENDAR