BEGIN:VCALENDAR
VERSION:2.0
PRODID:-//bc magazine - ECPv6.15.20//NONSGML v1.0//EN
CALSCALE:GREGORIAN
METHOD:PUBLISH
X-WR-CALNAME:bc magazine
X-ORIGINAL-URL:https://www.bcmagazine.net
X-WR-CALDESC:Events for bc magazine
REFRESH-INTERVAL;VALUE=DURATION:PT1H
X-Robots-Tag:noindex
X-PUBLISHED-TTL:PT1H
BEGIN:VTIMEZONE
TZID:Asia/Hong_Kong
BEGIN:STANDARD
TZOFFSETFROM:+0800
TZOFFSETTO:+0800
TZNAME:HKT
DTSTART:20200101T000000
END:STANDARD
END:VTIMEZONE
BEGIN:VEVENT
DTSTART;VALUE=DATE:20260401
DTEND;VALUE=DATE:20260413
DTSTAMP:20260425T002146
CREATED:20260224T064218Z
LAST-MODIFIED:20260225T062853Z
UID:10013090-1775001600-1776038399@www.bcmagazine.net
SUMMARY:50 and Beyond: The Hong Kong International Film Festival Golden Jubilee Exhibition
DESCRIPTION:50 and Beyond: The Hong Kong International Film Festival Golden Jubilee Exhibition\nDate: 1-12 April\, 2026\nVenue:  Hong Kong City Hall Exhibition Hall\nTickets: Free
URL:https://www.bcmagazine.net/event/50-and-beyond-the-hong-kong-international-film-festival-golden-jubilee-exhibition/
LOCATION:HK City Hall\, 5 Edinburgh Place\, Central\, Hong Kong
CATEGORIES:2026,Film,Free,Performing Arts
ATTACH;FMTTYPE=image/jpeg:https://www.bcmagazine.net/wp-content/uploads/2026/02/50-and-Beyond-The-Hong-Kong-International-Film-Festival-Golden-Jubilee-Exhibition.jpg
GEO:22.2822646;114.1615275
X-APPLE-STRUCTURED-LOCATION;VALUE=URI;X-ADDRESS=HK City Hall 5 Edinburgh Place Central Hong Kong;X-APPLE-RADIUS=500;X-TITLE=5 Edinburgh Place:geo:114.1615275,22.2822646
END:VEVENT
BEGIN:VEVENT
DTSTART;VALUE=DATE:20260401
DTEND;VALUE=DATE:20260413
DTSTAMP:20260425T002147
CREATED:20260201T064218Z
LAST-MODIFIED:20260201T100950Z
UID:10012608-1775001600-1776038399@www.bcmagazine.net
SUMMARY:Hong Kong International Film Festival
DESCRIPTION:50th Hong Kong International Film Festival\nDate: 1-12 April\, 2026\nVenue: various\nTickets: tbc
URL:https://www.bcmagazine.net/event/hong-kong-international-film-festival-2026/
CATEGORIES:2026,Film,Performing Arts
ATTACH;FMTTYPE=image/png:https://www.bcmagazine.net/wp-content/uploads/2025/02/Screenshot-2026-02-01-at-17.51.42.png
END:VEVENT
BEGIN:VEVENT
DTSTART;VALUE=DATE:20260317
DTEND;VALUE=DATE:20260321
DTSTAMP:20260425T002147
CREATED:20260108T004212Z
LAST-MODIFIED:20260220T131514Z
UID:10013087-1773705600-1774051199@www.bcmagazine.net
SUMMARY:Comic Con
DESCRIPTION:Comic Con – Hong Kong\nDate: 29-31 May\, 2026\nVenue: HK Convention & Exhibition Centre\nTickets: tbc
URL:https://www.bcmagazine.net/event/comic-con-2026/
LOCATION:HK Convention and Exhibition Centre\, 1 Expo Drive\, Wanchai\, Hong Kong
CATEGORIES:2026,Art Gallery,Exhibition,Film,Lifestyle,Music,Other
ATTACH;FMTTYPE=image/webp:https://www.bcmagazine.net/wp-content/uploads/1918/12/HK-comic-con-2026.webp
END:VEVENT
BEGIN:VEVENT
DTSTART;VALUE=DATE:20260317
DTEND;VALUE=DATE:20260321
DTSTAMP:20260425T002147
CREATED:19181213T044512Z
LAST-MODIFIED:20260220T130604Z
UID:10013086-1773705600-1774051199@www.bcmagazine.net
SUMMARY:Filmart
DESCRIPTION:Filmart – 30th Anniversary\nDate: 17-20 March\, 2026\nVenue: HK Convention & Exhibition Centre\nTickets: tbc
URL:https://www.bcmagazine.net/event/filmart-2026/
LOCATION:HK Convention and Exhibition Centre\, 1 Expo Drive\, Wanchai\, Hong Kong
CATEGORIES:2026,Exhibition,Film,Lifestyle,Other
ATTACH;FMTTYPE=image/jpeg:https://www.bcmagazine.net/wp-content/uploads/1918/12/filmart-2026-01.jpg
END:VEVENT
BEGIN:VEVENT
DTSTART;VALUE=DATE:20251206
DTEND;VALUE=DATE:20260115
DTSTAMP:20260425T002147
CREATED:20251106T083217Z
LAST-MODIFIED:20251120T145829Z
UID:10011798-1764979200-1768435199@www.bcmagazine.net
SUMMARY:Counting Frames – David Bordwell
DESCRIPTION:Counting Frames – David Bordwell on Hong Kong Cinema\nDate: 6 December 2025 – 14 January 2026\nVenue: Broadway Cinematheque\, Premier Elements\nTickets: $95
URL:https://www.bcmagazine.net/event/counting-frames-david-bordwell-2025/
LOCATION:Broadway Cinematheque\, Prosperous Garden\, 3 Public Square Street\, Yaumatei\, Hong Kong
CATEGORIES:2025,2026,Cultural Festival,Exhibition,Film,talk
ATTACH;FMTTYPE=image/jpeg:https://www.bcmagazine.net/wp-content/uploads/2025/11/counting-frames-2025.jpg
END:VEVENT
BEGIN:VEVENT
DTSTART;VALUE=DATE:20250410
DTEND;VALUE=DATE:20250422
DTSTAMP:20260425T002147
CREATED:20250210T063818Z
LAST-MODIFIED:20260201T095633Z
UID:10010596-1744243200-1745279999@www.bcmagazine.net
SUMMARY:49th Hong Kong International Film Festival
DESCRIPTION:49th Hong Kong International Film Festival\nDate: 10-21 April\, 2025\nVenue: various\nTickets: tbc
URL:https://www.bcmagazine.net/event/49th-hong-kong-international-film-festival/
CATEGORIES:2025,Film,Performing Arts
ATTACH;FMTTYPE=image/jpeg:https://www.bcmagazine.net/wp-content/uploads/2024/01/HKIFF-2025.jpg
END:VEVENT
BEGIN:VEVENT
DTSTART;VALUE=DATE:20250315
DTEND;VALUE=DATE:20250714
DTSTAMP:20260425T002147
CREATED:20250306T000803Z
LAST-MODIFIED:20250430T144051Z
UID:10011337-1741996800-1752451199@www.bcmagazine.net
SUMMARY:Le French May
DESCRIPTION:Le French May\nDate: 15 March – 13 July 2025\nVenue: Various\nTickets: Various\nMore info:\nwww.FrenchMay.com
URL:https://www.bcmagazine.net/event/le-french-may-2025/
CATEGORIES:2025,Art Gallery,Concert,Cultural Festival,Exhibition,Fashion,Film,Food,Lifestyle,Multimedia,Music,Performing Arts
ATTACH;FMTTYPE=image/png:https://www.bcmagazine.net/wp-content/uploads/1916/04/le-french-may-2025.png
END:VEVENT
BEGIN:VEVENT
DTSTART;VALUE=DATE:20241010
DTEND;VALUE=DATE:20241021
DTSTAMP:20260425T002147
CREATED:20241003T124604Z
LAST-MODIFIED:20241005T141323Z
UID:10010164-1728518400-1729468799@www.bcmagazine.net
SUMMARY:KINO/24
DESCRIPTION:KINO/24 – German Film Festival\nDate: 10-20 October\, 2024\nVenue: HKAC\, Louis Koo Cinema; HK Film Archive; Elements Premiere; Broadway Cinematheque\nTickets: $95\, $85\, $70 HKfilm\, HKfilmfestival
URL:https://www.bcmagazine.net/event/kino-24/
CATEGORIES:2024,Film,Performing Arts
ATTACH;FMTTYPE=image/webp:https://www.bcmagazine.net/wp-content/uploads/2021/10/kino24.jpg.webp
END:VEVENT
BEGIN:VEVENT
DTSTART;VALUE=DATE:20240328
DTEND;VALUE=DATE:20240409
DTSTAMP:20260425T002147
CREATED:20240122T063818Z
LAST-MODIFIED:20240408T111112Z
UID:10009771-1711584000-1712620799@www.bcmagazine.net
SUMMARY:48th Hong Kong International Film Festival
DESCRIPTION:48th Hong Kong International Film Festival\nDate: 28 March – 8 April\, 2024\nVenue: various\nTickets: tbc
URL:https://www.bcmagazine.net/event/48th-hong-kong-international-film-festival/
CATEGORIES:2024,Film,Performing Arts
ATTACH;FMTTYPE=image/jpeg:https://www.bcmagazine.net/wp-content/uploads/2021/01/hkiff48.jpeg
END:VEVENT
BEGIN:VEVENT
DTSTART;TZID=Asia/Hong_Kong:20230422T193000
DTEND;TZID=Asia/Hong_Kong:20230422T193000
DTSTAMP:20260425T002147
CREATED:19230114T091827Z
LAST-MODIFIED:20230331T232221Z
UID:10006796-1682191800-1682191800@www.bcmagazine.net
SUMMARY:When Leslie & Anita Meet Hei & Gin
DESCRIPTION:When Leslie & Anita Meet Hei & Gin\nRevisiting the Glory Days – The Legacy of Leslie and Anita / Hong Kong Pop Culture Festival 2023\nDate: 7:30pm\, 22 April\, 2023\nVenue: HK Cultural Centre\, Grand Theatre\nTickets: $85 from Urbtix\nMore info:\nMusic Performance and film screening of Who’s the Woman\, Who’s the Man
URL:https://www.bcmagazine.net/event/when-leslie-anita-meet-hei-gin/
LOCATION:HK Cultural Centre\, Grand Theatre\,\, 10 Salisbury Road\, Tsim Sha Tsui\, Hong Kong
CATEGORIES:2023,Film,Music,Performing Arts
ATTACH;FMTTYPE=image/jpeg:https://www.bcmagazine.net/wp-content/uploads/1923/01/When-Leslie-Anita-Meet-Hei-Gin.jpeg
GEO:22.294318;114.171708
X-APPLE-STRUCTURED-LOCATION;VALUE=URI;X-ADDRESS=HK Cultural Centre Grand Theatre 10 Salisbury Road Tsim Sha Tsui Hong Kong;X-APPLE-RADIUS=500;X-TITLE=10 Salisbury Road:geo:114.171708,22.294318
END:VEVENT
BEGIN:VEVENT
DTSTART;VALUE=DATE:20230401
DTEND;VALUE=DATE:20230701
DTSTAMP:20260425T002147
CREATED:19160430T000803Z
LAST-MODIFIED:20230326T174015Z
UID:10006793-1680307200-1688169599@www.bcmagazine.net
SUMMARY:Le French May 2023
DESCRIPTION:Le French May\nDate: April-June\, 2023\nVenue: Various\nTickets: Various\nMore info:\nwww.FrenchMay.com
URL:https://www.bcmagazine.net/event/le-french-may-2023/
CATEGORIES:2023,Art Gallery,Concert,Cultural Festival,Exhibition,Fashion,Film,Food,Lifestyle,Multimedia,Music,Performing Arts
ATTACH;FMTTYPE=image/jpeg:https://www.bcmagazine.net/wp-content/uploads/2016/04/french-may-2023-cover-art.jpg
END:VEVENT
BEGIN:VEVENT
DTSTART;VALUE=DATE:20230330
DTEND;VALUE=DATE:20230411
DTSTAMP:20260425T002147
CREATED:19210122T063818Z
LAST-MODIFIED:20220901T162237Z
UID:10005045-1680134400-1681171199@www.bcmagazine.net
SUMMARY:47th Hong Kong International Film Festival
DESCRIPTION:47th Hong Kong International Film Festival\nDate: 30 March – 10 April\, 2023\nVenue: various\nTickets: tbc
URL:https://www.bcmagazine.net/event/47th-hong-kong-international-film-festival/
CATEGORIES:2023,Film,Performing Arts
END:VEVENT
BEGIN:VEVENT
DTSTART;VALUE=DATE:20220917
DTEND;VALUE=DATE:20221002
DTSTAMP:20260425T002147
CREATED:20220828T040815Z
LAST-MODIFIED:20220901T163808Z
UID:10006719-1663372800-1664668799@www.bcmagazine.net
SUMMARY:33rd HK Lesbian & Gay Film Festival
DESCRIPTION:33rd HK Lesbian & Gay Film Festival\nDate: 17 September – 1 October\, 2022\nVenue: Broadway Cinematheque\, The One\, Golden Scene Cinema\, Movie Movie Cityplaza\, Palace IFC\, Premiere Elements\nTickets: $95\nMore info: www.hklgff.hk
URL:https://www.bcmagazine.net/event/33rd-hk-lesbian-gay-film-festival/
CATEGORIES:2022,Cultural Festival,Film,LGBT
ATTACH;FMTTYPE=image/jpeg:https://www.bcmagazine.net/wp-content/uploads/2021/08/33-Hong-Kong-Lesbian-and-Gay-Film-Festival.jpeg
END:VEVENT
BEGIN:VEVENT
DTSTART;VALUE=DATE:20220815
DTEND;VALUE=DATE:20220901
DTSTAMP:20260425T002147
CREATED:19210122T063818Z
LAST-MODIFIED:20220422T042326Z
UID:10005039-1660521600-1661990399@www.bcmagazine.net
SUMMARY:46th Hong Kong International Film Festival
DESCRIPTION:46th Hong Kong International Film Festival\nDate: 15-31 August\, 2022\nVenue: various\nTickets: tbc
URL:https://www.bcmagazine.net/event/46th-hong-kong-international-film-festival/
CATEGORIES:2022,Film,Performing Arts
ATTACH;FMTTYPE=image/jpeg:https://www.bcmagazine.net/wp-content/uploads/2021/01/HKIFF46-poster.jpg
END:VEVENT
BEGIN:VEVENT
DTSTART;VALUE=DATE:20220620
DTEND;VALUE=DATE:20220627
DTSTAMP:20260425T002147
CREATED:19210208T121521Z
LAST-MODIFIED:20220610T032406Z
UID:10005088-1655683200-1656287999@www.bcmagazine.net
SUMMARY:Refugee Week Hong Kong
DESCRIPTION:Refugee Week Hong Kong\nDate: 20-26 June\, 2022\nVenue:  Various\nTickets: Free /Various\nMore info: www.instagram.com/refugeeweekhk
URL:https://www.bcmagazine.net/event/refugee-week-hong-kong-2022/
CATEGORIES:Exhibition,Film,Food,Free,LGBT,Lifestyle,Market,Music,Other,Performing Arts
ATTACH;FMTTYPE=image/jpeg:https://www.bcmagazine.net/wp-content/uploads/1921/02/refugee-week-hk-2022.jpg
END:VEVENT
BEGIN:VEVENT
DTSTART;TZID=Asia/Hong_Kong:20211204T193000
DTEND;TZID=Asia/Hong_Kong:20211205T193000
DTSTAMP:20260425T002147
CREATED:19211104T034537Z
LAST-MODIFIED:20211110T111714Z
UID:10005329-1638646200-1638732600@www.bcmagazine.net
SUMMARY:Days of Being Wild
DESCRIPTION:Days of Being Wild\nDate: 7:30pm\, 4 December\, 2021\nVenue: HK Cultural Centre\, Grand Theatre\nTickets: $45 from Urbtix
URL:https://www.bcmagazine.net/event/days-of-being-wild-04-12-2021/
LOCATION:HK Cultural Centre\, Grand Theatre\,\, 10 Salisbury Road\, Tsim Sha Tsui\, Hong Kong
CATEGORIES:2021,Film,Nightlife,Performing Arts
GEO:22.294318;114.171708
X-APPLE-STRUCTURED-LOCATION;VALUE=URI;X-ADDRESS=HK Cultural Centre Grand Theatre 10 Salisbury Road Tsim Sha Tsui Hong Kong;X-APPLE-RADIUS=500;X-TITLE=10 Salisbury Road:geo:114.171708,22.294318
END:VEVENT
BEGIN:VEVENT
DTSTART;VALUE=DATE:20211128
DTEND;VALUE=DATE:20211129
DTSTAMP:20260425T002147
CREATED:20211128T083008Z
LAST-MODIFIED:20211201T083157Z
UID:10006690-1638057600-1638143999@www.bcmagazine.net
SUMMARY:A Man Beyond the Ordinary: Bruce Lee
DESCRIPTION:A Man Beyond the Ordinary: Bruce Lee\nDate: 28 November\, 2021 – 28 November 2026\nVenue: Hong Kong Heritage Museum\nTickets: $10\nMore info: www.hkhmbrucelee2021.com 
URL:https://www.bcmagazine.net/event/a-man-beyond-the-ordinary-bruce-lee-exhibition/
LOCATION:Hong Kong Heritage Museum\, 1 Man Lam Road\, Sha Tin\, Hong Kong
CATEGORIES:2021,Exhibition,Film,Free,Performing Arts
ATTACH;FMTTYPE=image/png:https://www.bcmagazine.net/wp-content/uploads/2021/12/bruce-lee-the-big-boss-poster.png
END:VEVENT
BEGIN:VEVENT
DTSTART;VALUE=DATE:20211124
DTEND;VALUE=DATE:20211215
DTSTAMP:20260425T002147
CREATED:19201102T023057Z
LAST-MODIFIED:20211103T112703Z
UID:10004963-1637712000-1639526399@www.bcmagazine.net
SUMMARY:50th Hong Kong French Film Festival
DESCRIPTION:50th Hong Kong French Film Festival\nDate: 24 November – 14 December\, 2021\nVenue: Various cinema and online\nTickets: various\nMore info:\nwww.hkfrenchfilmfestival.com
URL:https://www.bcmagazine.net/event/hong-kong-french-film-festival-2021/
CATEGORIES:2021,Cultural Festival,Exhibition,Film,Performing Arts
ATTACH;FMTTYPE=image/jpeg:https://www.bcmagazine.net/wp-content/uploads/2020/11/50th-Hong-Kong-French-Film-Festival.jpeg
END:VEVENT
BEGIN:VEVENT
DTSTART;VALUE=DATE:20211113
DTEND;VALUE=DATE:20211122
DTSTAMP:20260425T002147
CREATED:19201017T034205Z
LAST-MODIFIED:20211103T104132Z
UID:10004962-1636761600-1637539199@www.bcmagazine.net
SUMMARY:Hong Kong Jewish Film Festival
DESCRIPTION:Twenty Second Hong Kong Jewish Film Festival\nDate: 13-21 November\, 2021\nVenue: Asia Society Hong Kong Center\, Golden Scene Cinema\nTickets: $100\nMore info: www.hkjff.org
URL:https://www.bcmagazine.net/event/hong-kong-jewish-film-festival-2021/
LOCATION:Asia Society Hong Kong Center\, 9 Justice Drive\, Admiralty\, Hong Kong
CATEGORIES:2021,Cultural Festival,Film,Performing Arts
ATTACH;FMTTYPE=image/png:https://www.bcmagazine.net/wp-content/uploads/2020/10/HK-Jewish-Film-Festival-2021.png
END:VEVENT
BEGIN:VEVENT
DTSTART;TZID=Asia/Hong_Kong:20211109T200000
DTEND;TZID=Asia/Hong_Kong:20211109T201500
DTSTAMP:20260425T002147
CREATED:19180608T094055Z
LAST-MODIFIED:20210607T122659Z
UID:10004239-1636488000-1636488900@www.bcmagazine.net
SUMMARY:Harry Potter and the Goblet of Fire
DESCRIPTION:Harry Potter and the Goblet of Fire\nDate: 8pm\, 9 November\, 2021 (Rescheduled)\nVenue: Kitec\, Star Hall\nTickets: $1.280\, $980\, $680 from HKTicketing
URL:https://www.bcmagazine.net/event/harry-potter-and-the-goblet-of-fire/
LOCATION:KITEC\, Star Hall\, KITEC\, 1 Trademart Drive\, Kowloon Bay\, Hong Kong
CATEGORIES:2021,Concert,Film,Music,Performing Arts
ATTACH;FMTTYPE=image/jpeg:https://www.bcmagazine.net/wp-content/uploads/1918/06/Harry-Potter-and-the-Goblet-of-Fire-2021.jpg
GEO:22.3239575;114.2037608
X-APPLE-STRUCTURED-LOCATION;VALUE=URI;X-ADDRESS=KITEC Star Hall KITEC 1 Trademart Drive Kowloon Bay Hong Kong;X-APPLE-RADIUS=500;X-TITLE=KITEC\, 1 Trademart Drive:geo:114.2037608,22.3239575
END:VEVENT
BEGIN:VEVENT
DTSTART;VALUE=DATE:20211015
DTEND;VALUE=DATE:20211025
DTSTAMP:20260425T002147
CREATED:20211005T054604Z
LAST-MODIFIED:20211007T143314Z
UID:10006682-1634256000-1635119999@www.bcmagazine.net
SUMMARY:KINO/21 – German Film Festival
DESCRIPTION:KINO/21 – German Film Festival\nKiss Me Before It Blows Up!\, Berlin Alexanderplatz\, Free Country\, The Kangaroo Chronicles\, The German Lesson\, Hello Again – A Wedding A Day\, Enfant Terrible\, Tides\nDate: 15-24 October\, 2021\nVenue: HKAC\, Louis Koo Cinema; HK Film Archive; Elements Premiere; Broadway Cinematheque\nTickets: $150\, $95\, $90\, $75
URL:https://www.bcmagazine.net/event/kino-21-german-film-festival/
CATEGORIES:2021,Film,Performing Arts
ATTACH;FMTTYPE=image/jpeg:https://www.bcmagazine.net/wp-content/uploads/1919/09/kino-2021.jpeg
END:VEVENT
BEGIN:VEVENT
DTSTART;VALUE=DATE:20210917
DTEND;VALUE=DATE:20211030
DTSTAMP:20260425T002147
CREATED:19190816T142536Z
LAST-MODIFIED:20210903T103839Z
UID:10004890-1631836800-1635551999@www.bcmagazine.net
SUMMARY:Chinese Film Panorama 2021
DESCRIPTION:Chinese Film Panorama 2021\nDate: 17 September – 29 October\, 2021\nVenue: various\nTickets: $60 from Urbtix\nMore info:\nThe Chinese Film Panorama 2021 features 12 films produced in China.\nAll films have Chinese and English subtitles.\nThe opening film is Dapeng’s The Reunions.
URL:https://www.bcmagazine.net/event/chinese-film-panorama-2021/
CATEGORIES:2021,Cultural Festival,Film,Performing Arts
ATTACH;FMTTYPE=image/jpeg:https://www.bcmagazine.net/wp-content/uploads/1919/08/CFP2021.jpeg
END:VEVENT
BEGIN:VEVENT
DTSTART;VALUE=DATE:20210911
DTEND;VALUE=DATE:20210926
DTSTAMP:20260425T002147
CREATED:20210825T040815Z
LAST-MODIFIED:20210827T041811Z
UID:10006670-1631318400-1632614399@www.bcmagazine.net
SUMMARY:HK Lesbian & Gay Film Festival
DESCRIPTION:32st HK Lesbian & Gay Film Festival\nDate: 11-25 September\, 2021\nVenue: Broadway Cinematheque\, The One\, HK Arts Centre\, Movie Movie Cityplaza\, Palace IFC\, Premiere Elements\nTickets: $95\nMore info: www.hklgff.hk
URL:https://www.bcmagazine.net/event/hklgff-2021/
CATEGORIES:2021,Cultural Festival,Film,LGBT
ATTACH;FMTTYPE=image/jpeg:https://www.bcmagazine.net/wp-content/uploads/1916/08/HLGFF2021.jpg
END:VEVENT
BEGIN:VEVENT
DTSTART;VALUE=DATE:20210718
DTEND;VALUE=DATE:20210719
DTSTAMP:20260425T002147
CREATED:19210409T085402Z
LAST-MODIFIED:20210504T163327Z
UID:10005145-1626566400-1626652799@www.bcmagazine.net
SUMMARY:HKIFF Cine Fan
DESCRIPTION:HKIFF Cine Fan\nDate: April- July\, 2021\nVenue: K11 Art House\nTickets: $85 from Urbtix
URL:https://www.bcmagazine.net/event/hkiff-cine-fan/2021-07-18/
LOCATION:K11 Art House Cinema\, 10 Salisbury Road\, Tsim Sha Tsui\, Hong Kong
CATEGORIES:2021,Cultural Festival,Film,Performing Arts
ATTACH;FMTTYPE=image/jpeg:https://www.bcmagazine.net/wp-content/uploads/1921/04/cinefan-2021.jpeg
END:VEVENT
BEGIN:VEVENT
DTSTART;VALUE=DATE:20210717
DTEND;VALUE=DATE:20210718
DTSTAMP:20260425T002147
CREATED:19210409T085402Z
LAST-MODIFIED:20210504T163327Z
UID:10005144-1626480000-1626566399@www.bcmagazine.net
SUMMARY:HKIFF Cine Fan
DESCRIPTION:HKIFF Cine Fan\nDate: April- July\, 2021\nVenue: K11 Art House\nTickets: $85 from Urbtix
URL:https://www.bcmagazine.net/event/hkiff-cine-fan/2021-07-17/
LOCATION:K11 Art House Cinema\, 10 Salisbury Road\, Tsim Sha Tsui\, Hong Kong
CATEGORIES:2021,Cultural Festival,Film,Performing Arts
ATTACH;FMTTYPE=image/jpeg:https://www.bcmagazine.net/wp-content/uploads/1921/04/cinefan-2021.jpeg
END:VEVENT
BEGIN:VEVENT
DTSTART;VALUE=DATE:20210711
DTEND;VALUE=DATE:20210712
DTSTAMP:20260425T002147
CREATED:19210409T085402Z
LAST-MODIFIED:20210504T163327Z
UID:10005143-1625961600-1626047999@www.bcmagazine.net
SUMMARY:HKIFF Cine Fan
DESCRIPTION:HKIFF Cine Fan\nDate: April- July\, 2021\nVenue: K11 Art House\nTickets: $85 from Urbtix
URL:https://www.bcmagazine.net/event/hkiff-cine-fan/2021-07-11/
LOCATION:K11 Art House Cinema\, 10 Salisbury Road\, Tsim Sha Tsui\, Hong Kong
CATEGORIES:2021,Cultural Festival,Film,Performing Arts
ATTACH;FMTTYPE=image/jpeg:https://www.bcmagazine.net/wp-content/uploads/1921/04/cinefan-2021.jpeg
END:VEVENT
BEGIN:VEVENT
DTSTART;VALUE=DATE:20210710
DTEND;VALUE=DATE:20210711
DTSTAMP:20260425T002147
CREATED:19210409T085402Z
LAST-MODIFIED:20210504T163327Z
UID:10005142-1625875200-1625961599@www.bcmagazine.net
SUMMARY:HKIFF Cine Fan
DESCRIPTION:HKIFF Cine Fan\nDate: April- July\, 2021\nVenue: K11 Art House\nTickets: $85 from Urbtix
URL:https://www.bcmagazine.net/event/hkiff-cine-fan/2021-07-10/
LOCATION:K11 Art House Cinema\, 10 Salisbury Road\, Tsim Sha Tsui\, Hong Kong
CATEGORIES:2021,Cultural Festival,Film,Performing Arts
ATTACH;FMTTYPE=image/jpeg:https://www.bcmagazine.net/wp-content/uploads/1921/04/cinefan-2021.jpeg
END:VEVENT
BEGIN:VEVENT
DTSTART;VALUE=DATE:20210704
DTEND;VALUE=DATE:20210705
DTSTAMP:20260425T002147
CREATED:19210409T085402Z
LAST-MODIFIED:20210504T163327Z
UID:10005141-1625356800-1625443199@www.bcmagazine.net
SUMMARY:HKIFF Cine Fan
DESCRIPTION:HKIFF Cine Fan\nDate: April- July\, 2021\nVenue: K11 Art House\nTickets: $85 from Urbtix
URL:https://www.bcmagazine.net/event/hkiff-cine-fan/2021-07-04/
LOCATION:K11 Art House Cinema\, 10 Salisbury Road\, Tsim Sha Tsui\, Hong Kong
CATEGORIES:2021,Cultural Festival,Film,Performing Arts
ATTACH;FMTTYPE=image/jpeg:https://www.bcmagazine.net/wp-content/uploads/1921/04/cinefan-2021.jpeg
END:VEVENT
BEGIN:VEVENT
DTSTART;VALUE=DATE:20210703
DTEND;VALUE=DATE:20210704
DTSTAMP:20260425T002147
CREATED:19210409T085402Z
LAST-MODIFIED:20210504T163327Z
UID:10005140-1625270400-1625356799@www.bcmagazine.net
SUMMARY:HKIFF Cine Fan
DESCRIPTION:HKIFF Cine Fan\nDate: April- July\, 2021\nVenue: K11 Art House\nTickets: $85 from Urbtix
URL:https://www.bcmagazine.net/event/hkiff-cine-fan/2021-07-03/
LOCATION:K11 Art House Cinema\, 10 Salisbury Road\, Tsim Sha Tsui\, Hong Kong
CATEGORIES:2021,Cultural Festival,Film,Performing Arts
ATTACH;FMTTYPE=image/jpeg:https://www.bcmagazine.net/wp-content/uploads/1921/04/cinefan-2021.jpeg
END:VEVENT
BEGIN:VEVENT
DTSTART;VALUE=DATE:20210702
DTEND;VALUE=DATE:20210703
DTSTAMP:20260425T002147
CREATED:19210409T085402Z
LAST-MODIFIED:20210504T163327Z
UID:10005139-1625184000-1625270399@www.bcmagazine.net
SUMMARY:HKIFF Cine Fan
DESCRIPTION:HKIFF Cine Fan\nDate: April- July\, 2021\nVenue: K11 Art House\nTickets: $85 from Urbtix
URL:https://www.bcmagazine.net/event/hkiff-cine-fan/2021-07-02/
LOCATION:K11 Art House Cinema\, 10 Salisbury Road\, Tsim Sha Tsui\, Hong Kong
CATEGORIES:2021,Cultural Festival,Film,Performing Arts
ATTACH;FMTTYPE=image/jpeg:https://www.bcmagazine.net/wp-content/uploads/1921/04/cinefan-2021.jpeg
END:VEVENT
END:VCALENDAR