BEGIN:VCALENDAR
VERSION:2.0
PRODID:-//bc magazine - ECPv6.15.20//NONSGML v1.0//EN
CALSCALE:GREGORIAN
METHOD:PUBLISH
X-WR-CALNAME:bc magazine
X-ORIGINAL-URL:https://www.bcmagazine.net
X-WR-CALDESC:Events for bc magazine
REFRESH-INTERVAL;VALUE=DURATION:PT1H
X-Robots-Tag:noindex
X-PUBLISHED-TTL:PT1H
BEGIN:VTIMEZONE
TZID:Asia/Hong_Kong
BEGIN:STANDARD
TZOFFSETFROM:+0800
TZOFFSETTO:+0800
TZNAME:HKT
DTSTART:20180101T000000
END:STANDARD
END:VTIMEZONE
BEGIN:VEVENT
DTSTART;VALUE=DATE:20211219
DTEND;VALUE=DATE:20211220
DTSTAMP:20260426T072539
CREATED:19201219T090416Z
LAST-MODIFIED:20211210T010028Z
UID:10005012-1639872000-1639958399@www.bcmagazine.net
SUMMARY:Wild West Adventure Christmas Market
DESCRIPTION:Wild West Adventure Christmas Market\nDate: 11–12\, 18–19\, 24–27 December 2021\nVenue: Stanley Plaza\nTickets: Free
URL:https://www.bcmagazine.net/event/wild-west-adventure-christmas-market-2021/2021-12-19/
LOCATION:Stanley Plaza\, Stanley\, Hong Kong
CATEGORIES:2021,Food,Free,Lifestyle,Market
ATTACH;FMTTYPE=image/jpeg:https://www.bcmagazine.net/wp-content/uploads/2020/04/Wild-West-Adventure-Christmas-Market-stanley-2021.jpg
END:VEVENT
BEGIN:VEVENT
DTSTART;VALUE=DATE:20211218
DTEND;VALUE=DATE:20211219
DTSTAMP:20260426T072539
CREATED:19201219T090416Z
LAST-MODIFIED:20211210T010028Z
UID:10005011-1639785600-1639871999@www.bcmagazine.net
SUMMARY:Wild West Adventure Christmas Market
DESCRIPTION:Wild West Adventure Christmas Market\nDate: 11–12\, 18–19\, 24–27 December 2021\nVenue: Stanley Plaza\nTickets: Free
URL:https://www.bcmagazine.net/event/wild-west-adventure-christmas-market-2021/2021-12-18/
LOCATION:Stanley Plaza\, Stanley\, Hong Kong
CATEGORIES:2021,Food,Free,Lifestyle,Market
ATTACH;FMTTYPE=image/jpeg:https://www.bcmagazine.net/wp-content/uploads/2020/04/Wild-West-Adventure-Christmas-Market-stanley-2021.jpg
END:VEVENT
BEGIN:VEVENT
DTSTART;VALUE=DATE:20211213
DTEND;VALUE=DATE:20220103
DTSTAMP:20260426T072539
CREATED:20211129T034239Z
LAST-MODIFIED:20211129T040614Z
UID:10006691-1639353600-1641167999@www.bcmagazine.net
SUMMARY:Winter Wonderland
DESCRIPTION:Winter Wonderland\nDate: 13 December 2021 –  2 January\, 2022\nVenue: AsiaWorld Expo\, Hall 2\nTickets: $88
URL:https://www.bcmagazine.net/event/winter-wonderland-2021/
LOCATION:AsiaWorld-Expo\, Cheong Wing Road\, Chek Lap Kok\, Lantau\, Hong Kong
CATEGORIES:2021,Food,Lifestyle,Performing Arts
ATTACH;FMTTYPE=image/jpeg:https://www.bcmagazine.net/wp-content/uploads/2018/01/winter-wonderland-2021.jpg
GEO:22.3217383;113.9402012
X-APPLE-STRUCTURED-LOCATION;VALUE=URI;X-ADDRESS=AsiaWorld-Expo Cheong Wing Road Chek Lap Kok Lantau Hong Kong;X-APPLE-RADIUS=500;X-TITLE=Cheong Wing Road\, Chek Lap Kok:geo:113.9402012,22.3217383
END:VEVENT
BEGIN:VEVENT
DTSTART;VALUE=DATE:20211212
DTEND;VALUE=DATE:20211213
DTSTAMP:20260426T072539
CREATED:19201219T090416Z
LAST-MODIFIED:20211210T010028Z
UID:10005010-1639267200-1639353599@www.bcmagazine.net
SUMMARY:Wild West Adventure Christmas Market
DESCRIPTION:Wild West Adventure Christmas Market\nDate: 11–12\, 18–19\, 24–27 December 2021\nVenue: Stanley Plaza\nTickets: Free
URL:https://www.bcmagazine.net/event/wild-west-adventure-christmas-market-2021/2021-12-12/
LOCATION:Stanley Plaza\, Stanley\, Hong Kong
CATEGORIES:2021,Food,Free,Lifestyle,Market
ATTACH;FMTTYPE=image/jpeg:https://www.bcmagazine.net/wp-content/uploads/2020/04/Wild-West-Adventure-Christmas-Market-stanley-2021.jpg
END:VEVENT
BEGIN:VEVENT
DTSTART;VALUE=DATE:20211212
DTEND;VALUE=DATE:20211213
DTSTAMP:20260426T072539
CREATED:19201219T090416Z
LAST-MODIFIED:20211210T010757Z
UID:10005019-1639267200-1639353599@www.bcmagazine.net
SUMMARY:Shop Social Christmas Bazaar
DESCRIPTION:Shop Social Christmas Bazaar\nDate: 11am-6pm\, 11–12 December 2021\nVenue: Flat B\, 3/F\, Shun Luen Factory Building\, 86 To Kwa Wan Road\, Kowloon\nTickets: Free
URL:https://www.bcmagazine.net/event/shop-social-christmas-bazaar-2021/2021-12-12/
LOCATION:Flat B\, 3/F\, Shun Luen Factory Building\, 86 To Kwa Wan Road\, Kowloon\, Hong Kong
CATEGORIES:2021,Food,Free,Lifestyle,Market
ATTACH;FMTTYPE=image/jpeg:https://www.bcmagazine.net/wp-content/uploads/1920/12/Shop-Social-Christmas-Bazaar-2021.jpeg
END:VEVENT
BEGIN:VEVENT
DTSTART;VALUE=DATE:20211211
DTEND;VALUE=DATE:20220104
DTSTAMP:20260426T072539
CREATED:19201219T090416Z
LAST-MODIFIED:20211210T084800Z
UID:10005026-1639180800-1641254399@www.bcmagazine.net
SUMMARY:Hong Kong Brands and Products Expo
DESCRIPTION:55th Hong Kong Brands and Products Expo\nDate: 11 December 2021 – 3 January 2022\nVenue: Victoria Park\nTickets: 8
URL:https://www.bcmagazine.net/event/hong-kong-brands-and-products-expo-2021/
LOCATION:Victoria Park\, Causeway Bay\, Hong Kong
CATEGORIES:2021,2022,Food,Lifestyle,Market
ATTACH;FMTTYPE=image/jpeg:https://www.bcmagazine.net/wp-content/uploads/1920/12/Hong-Kong-Brands-and-Products-Expo-2021-scaled.jpeg
END:VEVENT
BEGIN:VEVENT
DTSTART;VALUE=DATE:20211211
DTEND;VALUE=DATE:20211212
DTSTAMP:20260426T072539
CREATED:19201219T090416Z
LAST-MODIFIED:20211210T010028Z
UID:10005009-1639180800-1639267199@www.bcmagazine.net
SUMMARY:Wild West Adventure Christmas Market
DESCRIPTION:Wild West Adventure Christmas Market\nDate: 11–12\, 18–19\, 24–27 December 2021\nVenue: Stanley Plaza\nTickets: Free
URL:https://www.bcmagazine.net/event/wild-west-adventure-christmas-market-2021/2021-12-11/
LOCATION:Stanley Plaza\, Stanley\, Hong Kong
CATEGORIES:2021,Food,Free,Lifestyle,Market
ATTACH;FMTTYPE=image/jpeg:https://www.bcmagazine.net/wp-content/uploads/2020/04/Wild-West-Adventure-Christmas-Market-stanley-2021.jpg
END:VEVENT
BEGIN:VEVENT
DTSTART;VALUE=DATE:20211211
DTEND;VALUE=DATE:20211212
DTSTAMP:20260426T072539
CREATED:19201219T090416Z
LAST-MODIFIED:20211210T010757Z
UID:10005018-1639180800-1639267199@www.bcmagazine.net
SUMMARY:Shop Social Christmas Bazaar
DESCRIPTION:Shop Social Christmas Bazaar\nDate: 11am-6pm\, 11–12 December 2021\nVenue: Flat B\, 3/F\, Shun Luen Factory Building\, 86 To Kwa Wan Road\, Kowloon\nTickets: Free
URL:https://www.bcmagazine.net/event/shop-social-christmas-bazaar-2021/2021-12-11/
LOCATION:Flat B\, 3/F\, Shun Luen Factory Building\, 86 To Kwa Wan Road\, Kowloon\, Hong Kong
CATEGORIES:2021,Food,Free,Lifestyle,Market
ATTACH;FMTTYPE=image/jpeg:https://www.bcmagazine.net/wp-content/uploads/1920/12/Shop-Social-Christmas-Bazaar-2021.jpeg
END:VEVENT
BEGIN:VEVENT
DTSTART;VALUE=DATE:20211126
DTEND;VALUE=DATE:20220103
DTSTAMP:20260426T072539
CREATED:19210208T121521Z
LAST-MODIFIED:20211113T031435Z
UID:10005067-1637884800-1641167999@www.bcmagazine.net
SUMMARY:WinterFest
DESCRIPTION:WinterFest\nDate: 26 November\, 2021 – 2 January 2022\nVenue: Hong Kong\nTickets: various
URL:https://www.bcmagazine.net/event/winterfest-2021/
CATEGORIES:2021,2022,Food,Free,Lifestyle,Music,Nightlife,Performing Arts
ATTACH;FMTTYPE=image/png:https://www.bcmagazine.net/wp-content/uploads/1921/02/winterfest-hktb.png
END:VEVENT
BEGIN:VEVENT
DTSTART;VALUE=DATE:20211101
DTEND;VALUE=DATE:20211201
DTSTAMP:20260426T072540
CREATED:20251004T120821Z
LAST-MODIFIED:20251005T171644Z
UID:10011419-1635724800-1638316799@www.bcmagazine.net
SUMMARY:Hong Kong Wine & Dine Festival
DESCRIPTION:Hong Kong Wine & Dine Festival\nDate: 23-26 October\, 2025\nVenue: Central Harbourfront Event Space\nTickets: various
URL:https://www.bcmagazine.net/event/hong-kong-wine-dine-festival-2025/
LOCATION:Central Harbourfront\,  9 Lung Wo Road\, Central\, Hong Kong
CATEGORIES:2025,Food,Lifestyle,Nightlife
ATTACH;FMTTYPE=image/jpeg:https://www.bcmagazine.net/wp-content/uploads/2025/10/W_D-2025-KV.jpg
GEO:22.2826223;114.164346
X-APPLE-STRUCTURED-LOCATION;VALUE=URI;X-ADDRESS=Central Harbourfront  9 Lung Wo Road Central Hong Kong;X-APPLE-RADIUS=500;X-TITLE=9 Lung Wo Road:geo:114.164346,22.2826223
END:VEVENT
BEGIN:VEVENT
DTSTART;VALUE=DATE:20211101
DTEND;VALUE=DATE:20211201
DTSTAMP:20260426T072540
CREATED:20240919T100821Z
LAST-MODIFIED:20240919T111630Z
UID:10009994-1635724800-1638316799@www.bcmagazine.net
SUMMARY:Hong Kong Wine & Dine Festival
DESCRIPTION:Hong Kong Wine & Dine Festival\nDate: 23-27 October\, 2024\nVenue: Central Harbourfront Event Space\nTickets: $400\, $290\, $240\nNotes:\n23 October 2024 (Wednesday)\, 7:30–11pm\n24–25 October 2024 (Thursday – Friday)\, 4–11pm\n26–27 October 2024 (Saturday – Sunday)\, 12–11pm
URL:https://www.bcmagazine.net/event/hong-kong-wine-dine-festival-2024/
LOCATION:Central Harbourfront\,  9 Lung Wo Road\, Central\, Hong Kong
CATEGORIES:2024,Food,Nightlife
ATTACH;FMTTYPE=image/png:https://www.bcmagazine.net/wp-content/uploads/1921/10/hong-kong-wine-and-dine-2025.png
GEO:22.2826223;114.164346
X-APPLE-STRUCTURED-LOCATION;VALUE=URI;X-ADDRESS=Central Harbourfront  9 Lung Wo Road Central Hong Kong;X-APPLE-RADIUS=500;X-TITLE=9 Lung Wo Road:geo:114.164346,22.2826223
END:VEVENT
BEGIN:VEVENT
DTSTART;VALUE=DATE:20211101
DTEND;VALUE=DATE:20211201
DTSTAMP:20260426T072540
CREATED:19211028T120821Z
LAST-MODIFIED:20211113T032056Z
UID:10005323-1635724800-1638316799@www.bcmagazine.net
SUMMARY:Hong Kong Wine & Dine Festival
DESCRIPTION:12th Hong Kong Wine & Dine Festival\nDate: 1-30 November\, 2021\nVenue: Central\, Kennedy Town\, Wan Chai and Tsim Sha Tsui.\nTickets: various
URL:https://www.bcmagazine.net/event/hong-kong-wine-dine-festival-2021/
CATEGORIES:2021,Food,Nightlife
ATTACH;FMTTYPE=image/jpeg:https://www.bcmagazine.net/wp-content/uploads/1921/02/Yat-Lok-roast-goose-1920x1080-1.jpg
END:VEVENT
BEGIN:VEVENT
DTSTART;VALUE=DATE:20211007
DTEND;VALUE=DATE:20211008
DTSTAMP:20260426T072540
CREATED:19210924T100800Z
LAST-MODIFIED:20210925T034418Z
UID:10005237-1633564800-1633651199@www.bcmagazine.net
SUMMARY:Milano Wine Week
DESCRIPTION:Milano Wine Week\nDate: 7\, 9-10 October\, 2021\nVenue: Renaissance Hong Kong Harbour View Hotel\nTickets: tbc
URL:https://www.bcmagazine.net/event/milano-wine-week-2021/
LOCATION:Renaissance Harbour View Hotel Hong Kong\, 1 Harbour Road\, Wanchai\, Hong Kong
CATEGORIES:2021,Exhibition,Food,Lifestyle,talk
ATTACH;FMTTYPE=image/png:https://www.bcmagazine.net/wp-content/uploads/2021/09/milano-wine-week-2021.png
GEO:22.2810524;114.1731035
X-APPLE-STRUCTURED-LOCATION;VALUE=URI;X-ADDRESS=Renaissance Harbour View Hotel Hong Kong 1 Harbour Road Wanchai Hong Kong;X-APPLE-RADIUS=500;X-TITLE=1 Harbour Road:geo:114.1731035,22.2810524
END:VEVENT
BEGIN:VEVENT
DTSTART;VALUE=DATE:20211001
DTEND;VALUE=DATE:20211004
DTSTAMP:20260426T072540
CREATED:20210902T085402Z
LAST-MODIFIED:20210904T094852Z
UID:10006671-1633046400-1633305599@www.bcmagazine.net
SUMMARY:Frites Oktoberfest
DESCRIPTION:Frites Oktoberfest\nDate: 1-3 October\, 2021\nVenue: Frites Central\nTickets: $250
URL:https://www.bcmagazine.net/event/frites-oktoberfest-2021/
LOCATION:Frites\, Central\, 1/F\, 198 Wellington Street\, Central\, Hong Kong
CATEGORIES:2021,Food,Nightlife
ATTACH;FMTTYPE=image/jpeg:https://www.bcmagazine.net/wp-content/uploads/2020/07/Oktoberfest-frites-2021.jpg
GEO:22.2847674;114.1529553
X-APPLE-STRUCTURED-LOCATION;VALUE=URI;X-ADDRESS=Frites Central 1/F 198 Wellington Street Central Hong Kong;X-APPLE-RADIUS=500;X-TITLE=1/F\, 198 Wellington Street:geo:114.1529553,22.2847674
END:VEVENT
BEGIN:VEVENT
DTSTART;VALUE=DATE:20210917
DTEND;VALUE=DATE:20211002
DTSTAMP:20260426T072540
CREATED:20210916T013354Z
LAST-MODIFIED:20210920T020009Z
UID:10006678-1631836800-1633132799@www.bcmagazine.net
SUMMARY:The European Art of Taste: Italian Fruit & Veg Masterpieces
DESCRIPTION:The European Art of Taste: Italian Fruit & Veg Masterpieces\nDate: 17 September – 1 October\, 2021\, \nVenue: Mian\nTickets: Various\nMore info: \nThe third European Art of Taste: Italian Fruit & Veg Masterpieces\, hosted by Italy’s leading fruit and vegetable producers Centro Servizi Ortofrutticoli in partnership with the European Union\, is at Mian from 17 September 1 October.  \nChef Ronald Shao’s menu showcases Italian produce\, prepared with Chinese techniques including “Boston Lobster with Organic Tricolour Quinoa with Chinese Tea Fragrant White Peach Jelly”\, “Crispy Mantis Shrimp Fillet with Shallot Oil & Lemon with Prickly Pear Sauce”\, “Pan-fried Spotted Grouper Fish Fillet with Sweet and Sour Plum Tomato Sauce” as well as “Double Boiled Cosda Pear with Honey Locust Fruit\, Fritillaria Bulb & Tangerine peel” along with a refreshing “Kiwi and Hawthorn Daiquiri ” & “Blood Orange Juice”.
URL:https://www.bcmagazine.net/event/the-european-art-of-taste-italian-fruit-veg-masterpieces/
CATEGORIES:2021,Food
ATTACH;FMTTYPE=image/jpeg:https://www.bcmagazine.net/wp-content/uploads/2021/09/Kiwi-Osmanthus-Daiquiri_1.jpg
END:VEVENT
BEGIN:VEVENT
DTSTART;VALUE=DATE:20210904
DTEND;VALUE=DATE:20210905
DTSTAMP:20260426T072540
CREATED:20210810T092413Z
LAST-MODIFIED:20210810T150039Z
UID:10006669-1630713600-1630799999@www.bcmagazine.net
SUMMARY:Fast\, Femme and Furious
DESCRIPTION:Fast\, Femme and Furious\nWhen: 1pm\, 4 September\, 2021\nWhere: King’s Park\nTickets: Free
URL:https://www.bcmagazine.net/event/fast-femme-and-furious-2021/
LOCATION:King’s Park Sports Ground\, 11 Wylie Path\, Ho Man Tin\, Jordan\, Hong Kong
CATEGORIES:2021,Fitness,Food,Free,Hockey,Lifestyle,Rugby,Sport
ATTACH;FMTTYPE=image/jpeg:https://www.bcmagazine.net/wp-content/uploads/2021/08/Fast-Femme-and-Furious-2021.jpg
END:VEVENT
BEGIN:VEVENT
DTSTART;VALUE=DATE:20210812
DTEND;VALUE=DATE:20210817
DTSTAMP:20260426T072540
CREATED:20210803T092413Z
LAST-MODIFIED:20210805T154207Z
UID:10006668-1628726400-1629158399@www.bcmagazine.net
SUMMARY:Food Expo\, Hong Kong International Tea Fair\, Beauty & Wellness Expo\, Home Delights Expo
DESCRIPTION:Food Expo\, Hong Kong International Tea Fair\, Beauty & Wellness Expo\, Home Delights Expo\nWhen: 10am\, 12-16 August\, 2021\nWhere: HKCEC\nTickets: $40 from HKTicketing/Octopus App
URL:https://www.bcmagazine.net/event/food-expo-tea-fair-2021/
LOCATION:HK Convention and Exhibition Centre\, 1 Expo Drive\, Wanchai\, Hong Kong
CATEGORIES:2021,Exhibition,Food
ATTACH;FMTTYPE=image/jpeg:https://www.bcmagazine.net/wp-content/uploads/2015/02/hk-food-expo-2019.jpg
END:VEVENT
BEGIN:VEVENT
DTSTART;VALUE=DATE:20210714
DTEND;VALUE=DATE:20210721
DTSTAMP:20260426T072540
CREATED:19170626T094608Z
LAST-MODIFIED:20210714T063352Z
UID:10002912-1626220800-1626825599@www.bcmagazine.net
SUMMARY:World of Snacks
DESCRIPTION:World of Snacks\nDate: 14-20 July\, 2021\nVenue: HKCEC\nTickets: $25
URL:https://www.bcmagazine.net/event/world-of-snacks-2021/
LOCATION:HK Convention and Exhibition Centre\, 1 Expo Drive\, Wanchai\, Hong Kong
CATEGORIES:2021,Exhibition,Food,Lifestyle,Other
END:VEVENT
BEGIN:VEVENT
DTSTART;VALUE=DATE:20210518
DTEND;VALUE=DATE:20210613
DTSTAMP:20260426T072540
CREATED:19181104T041350Z
LAST-MODIFIED:20210504T041927Z
UID:10004569-1621296000-1623542399@www.bcmagazine.net
SUMMARY:Great Wines of World – Hong Kong\, Summer 2021
DESCRIPTION:Great Wines of World – Hong Kong\, Summer 2021\nJamesSuckling.com\nDate: 18 May – 12 June\, 2021\nVenue: James Suckling Wine Central\nTickets: various
URL:https://www.bcmagazine.net/event/great-wines-of-world-hong-kong-summer-2021/
LOCATION:James Suckling Wine Central\, 22 Staunton Street\, Central\, Hong Kong
CATEGORIES:2021,Food,Lifestyle
ATTACH;FMTTYPE=image/jpeg:https://www.bcmagazine.net/wp-content/uploads/1918/11/great-wines-summer-2021.jpeg
END:VEVENT
BEGIN:VEVENT
DTSTART;VALUE=DATE:20201111
DTEND;VALUE=DATE:20201216
DTSTAMP:20260426T072540
CREATED:20201023T073117Z
LAST-MODIFIED:20201026T143622Z
UID:10006640-1605052800-1608076799@www.bcmagazine.net
SUMMARY:Wine & Dine Festival 2020
DESCRIPTION:Wine & Dine Festival 2020\nDate: 11 November – 15 December\, 2020\nVenue: Online + Offline\nTickets: various
URL:https://www.bcmagazine.net/event/wine-dine-festival-2020/
LOCATION:Online\, Hong Kong
CATEGORIES:2020,Food,Nightlife
ATTACH;FMTTYPE=image/jpeg:https://www.bcmagazine.net/wp-content/uploads/1916/10/hktb-wine-and-dine-2020.jpg
END:VEVENT
BEGIN:VEVENT
DTSTART;VALUE=DATE:20201111
DTEND;VALUE=DATE:20201114
DTSTAMP:20260426T072540
CREATED:19190427T044512Z
LAST-MODIFIED:20200921T125153Z
UID:10004841-1605052800-1605311999@www.bcmagazine.net
SUMMARY:Restaurant & Bar Hong Kong
DESCRIPTION:Restaurant & Bar Hong Kong + Gourmet Asia\nDate: 11-13 November\, 2020\nVenue: HK Convention & Exhibition Centre\nTickets: tbc
URL:https://www.bcmagazine.net/event/restaurant-bar-hong-kong-2020/
LOCATION:HK Convention and Exhibition Centre\, 1 Expo Drive\, Wanchai\, Hong Kong
CATEGORIES:2020,Food,Lifestyle,Nightlife
END:VEVENT
BEGIN:VEVENT
DTSTART;VALUE=DATE:20200530
DTEND;VALUE=DATE:20200601
DTSTAMP:20260426T072540
CREATED:20200224T044512Z
LAST-MODIFIED:20200228T022929Z
UID:10006615-1590796800-1590969599@www.bcmagazine.net
SUMMARY:Young Master Invitational Beer Festival
DESCRIPTION:Young Master Invitational Beer Festival\nDate: 30-31 May\, 2020\nVenue: House 1881\nTickets: $680\, $380\nMore info: \nSession One: HOPPYS Saturday May 30\, 1pm-4pm\nSession Two: SESSION & STRENGTH Saturday May 30\, 5pm-8pm\nSession Three: FRUIT & SOURS Sunday May 31\, 1pm-4pm\nSession Four: FREESTYLE Sunday May 31\, 5pm-8pm
URL:https://www.bcmagazine.net/event/young-master-invitational-beer-festival-2020/
LOCATION:House 1881\, 2A Canton Road\, Tsim Sha Tsui\, Hong Kong
CATEGORIES:2020,Food,Lifestyle,Performing Arts
ATTACH;FMTTYPE=image/png:https://www.bcmagazine.net/wp-content/uploads/2020/02/Young-Master-Invitational-Beer-Festival-2020.png
END:VEVENT
BEGIN:VEVENT
DTSTART;VALUE=DATE:20200409
DTEND;VALUE=DATE:20200416
DTSTAMP:20260426T072540
CREATED:20191219T032003Z
LAST-MODIFIED:20191219T032003Z
UID:10006609-1586390400-1586995199@www.bcmagazine.net
SUMMARY:Songkran Hong Kong
DESCRIPTION:Songkran Hong Kong 2020\nDate: 9-15 April\, 2020\nVenue: D2 Place ONE\, 9 Cheung Yee Street\, Lai Chi Kok\nTickets: Free
URL:https://www.bcmagazine.net/event/songkran-hk-2020/
LOCATION:D2 Place ONE\, 9 Cheung Yee Street\, Lai Chi Kok\, Hong Kong
CATEGORIES:2020,Cultural Festival,Food,Free,Lifestyle,Music,Nightlife
ATTACH;FMTTYPE=image/jpeg:https://www.bcmagazine.net/wp-content/uploads/2019/12/songkranhk-2020.jpg
END:VEVENT
BEGIN:VEVENT
DTSTART;VALUE=DATE:20191225
DTEND;VALUE=DATE:20191230
DTSTAMP:20260426T072540
CREATED:19151212T142856Z
LAST-MODIFIED:20191015T034941Z
UID:10000203-1577232000-1577663999@www.bcmagazine.net
SUMMARY:HK Food Festival
DESCRIPTION:17th Hong Kong Food Festival\nDate: 25-29 December\, 2019\nVenue: HK Convention & Exhibition Centre\nTickets: $20
URL:https://www.bcmagazine.net/event/hk-food-festival-2019/
LOCATION:HK Convention and Exhibition Centre\, 1 Expo Drive\, Wanchai\, Hong Kong
CATEGORIES:2019,Exhibition,Food
END:VEVENT
BEGIN:VEVENT
DTSTART;TZID=Asia/Hong_Kong:20191129T170000
DTEND;TZID=Asia/Hong_Kong:20191129T170000
DTSTAMP:20260426T072540
CREATED:19190924T044512Z
LAST-MODIFIED:20190924T104046Z
UID:10004899-1575046800-1575046800@www.bcmagazine.net
SUMMARY:Great Wines of Italy Asia 2019: Hong Kong Grand Tasting
DESCRIPTION:Great Wines of Italy Asia 2019: Hong Kong Grand Tasting\nDate: 5pm\, 29 November\, 2019\nVenue: Four Seasons Hong Kong\nTickets: $890\, $699 (advance)
URL:https://www.bcmagazine.net/event/great-wines-of-italy-asia-2019-hong-kong-grand-tasting/
LOCATION:Four Seasons Hong Kong\, Hong Kong
CATEGORIES:2019,Food,Lifestyle,Other
ATTACH;FMTTYPE=image/jpeg:https://www.bcmagazine.net/wp-content/uploads/2019/09/Great-Wines-of-Italy-Asia-2019.jpg
END:VEVENT
BEGIN:VEVENT
DTSTART;TZID=Asia/Hong_Kong:20191031T170000
DTEND;TZID=Asia/Hong_Kong:20191031T170000
DTSTAMP:20260426T072540
CREATED:20190924T044512Z
LAST-MODIFIED:20190924T103434Z
UID:10006604-1572541200-1572541200@www.bcmagazine.net
SUMMARY:Great Wines of the World 2019: Hong Kong Grand Tasting
DESCRIPTION:Great Wines of the World 2019: Hong Kong Grand Tasting\nDate: 5pm\, 31 October\, 2019\nVenue: Grand Hyatt Hotel\nTickets: $980\, $799 (advance)
URL:https://www.bcmagazine.net/event/great-wines-of-the-world-2019-hong-kong-grand-tasting/
LOCATION:Grand Hyatt Hotel\, 1 Harbour Road\, Wanchai\, Hong Kong
CATEGORIES:2019,Food,Lifestyle,Other
ATTACH;FMTTYPE=image/png:https://www.bcmagazine.net/wp-content/uploads/1919/04/hong-kong_james-suckling-wine-tasting.png
END:VEVENT
BEGIN:VEVENT
DTSTART;VALUE=DATE:20191031
DTEND;VALUE=DATE:20191104
DTSTAMP:20260426T072540
CREATED:19161018T033117Z
LAST-MODIFIED:20191015T040356Z
UID:10002282-1572480000-1572825599@www.bcmagazine.net
SUMMARY:Wine & Dine Festival - Cancelled
DESCRIPTION:Wine & Dine Festival 2019\nDate: 31 October – 3 November\, 2019\nVenue: Central Harbourfront\nTickets: $35
URL:https://www.bcmagazine.net/event/wine-dine-festival-2019/
LOCATION:Central Harbourfront\,  9 Lung Wo Road\, Central\, Hong Kong
CATEGORIES:2019,Food,Nightlife
GEO:22.2826223;114.164346
X-APPLE-STRUCTURED-LOCATION;VALUE=URI;X-ADDRESS=Central Harbourfront  9 Lung Wo Road Central Hong Kong;X-APPLE-RADIUS=500;X-TITLE=9 Lung Wo Road:geo:114.164346,22.2826223
END:VEVENT
BEGIN:VEVENT
DTSTART;VALUE=DATE:20191026
DTEND;VALUE=DATE:20191027
DTSTAMP:20260426T072540
CREATED:19151013T093331Z
LAST-MODIFIED:20190724T042420Z
UID:10000107-1572048000-1572134399@www.bcmagazine.net
SUMMARY:Rotten Head Music Festival
DESCRIPTION:Rotten Head Music Festival\nDate: 12pm\, 26 October\, 2019\nVenue: Tat Tung Road Garden\nTickets: tbc
URL:https://www.bcmagazine.net/event/rotten-head-music-festival-2019/
LOCATION:Hong Kong
CATEGORIES:2019,Concert,Food,Market,Music,Performing Arts
ATTACH;FMTTYPE=image/jpeg:https://www.bcmagazine.net/wp-content/uploads/2015/10/Rotten-head-Frestival.jpg
END:VEVENT
BEGIN:VEVENT
DTSTART;TZID=Asia/Hong_Kong:20191011T170000
DTEND;TZID=Asia/Hong_Kong:20191011T170000
DTSTAMP:20260426T072540
CREATED:19180204T092846Z
LAST-MODIFIED:20190913T134108Z
UID:10003749-1570813200-1570813200@www.bcmagazine.net
SUMMARY:Women of Wine Festival 2019
DESCRIPTION:Women of Wine Festival 2019\nDate: 5pm\, 11 October\, 2019\nVenue: HKEX Connect Hall\nTickets: $700\, $550\, $500\, $450
URL:https://www.bcmagazine.net/event/women-of-wine-festival-2019/
LOCATION:HKEX Connect Hall\, 1/F\, Exchange Square Block\, Central\, Hong Kong
CATEGORIES:2019,Food,Lifestyle,Nightlife
ATTACH;FMTTYPE=image/jpeg:https://www.bcmagazine.net/wp-content/uploads/1918/02/women-of-wine-2019.jpg
END:VEVENT
BEGIN:VEVENT
DTSTART;TZID=Asia/Hong_Kong:20191006T100000
DTEND;TZID=Asia/Hong_Kong:20191006T100000
DTSTAMP:20260426T072540
CREATED:20190918T135521Z
LAST-MODIFIED:20190923T100356Z
UID:10006601-1570356000-1570356000@www.bcmagazine.net
SUMMARY:Hong Kong Vegfest
DESCRIPTION:Hong Kong Vegfest 2019\nDate: 10am\, 6 October\, 2019\nVenue: Adventist College\, 1111 Clear Water Bay Road\nTickets: Free
URL:https://www.bcmagazine.net/event/hong-kong-vegfest-2019/
LOCATION:Adventist College\, 1111 Clear Water Bay Road\, Hong Kong
CATEGORIES:2019,Food,Free,Lifestyle,Market
ATTACH;FMTTYPE=image/jpeg:https://www.bcmagazine.net/wp-content/uploads/1916/11/Hong-Kong-7th-Vegest_Poster.jpg
END:VEVENT
END:VCALENDAR