BEGIN:VCALENDAR
VERSION:2.0
PRODID:-//bc magazine - ECPv6.15.20//NONSGML v1.0//EN
CALSCALE:GREGORIAN
METHOD:PUBLISH
X-WR-CALNAME:bc magazine
X-ORIGINAL-URL:https://www.bcmagazine.net
X-WR-CALDESC:Events for bc magazine
REFRESH-INTERVAL;VALUE=DURATION:PT1H
X-Robots-Tag:noindex
X-PUBLISHED-TTL:PT1H
BEGIN:VTIMEZONE
TZID:Asia/Hong_Kong
BEGIN:STANDARD
TZOFFSETFROM:+0800
TZOFFSETTO:+0800
TZNAME:HKT
DTSTART:20200101T000000
END:STANDARD
END:VTIMEZONE
BEGIN:VEVENT
DTSTART;TZID=Asia/Hong_Kong:20210717T140000
DTEND;TZID=Asia/Hong_Kong:20210717T140000
DTSTAMP:20260420T051201
CREATED:19210525T100800Z
LAST-MODIFIED:20210708T234433Z
UID:10005198-1626530400-1626530400@www.bcmagazine.net
SUMMARY:Hong Kong Kart Fun Day
DESCRIPTION:Hong Kong Kart Fun Day\nDate: 2pm\, 17\, 31 July\, 7 August\, 2021\nVenue: YMCA King’s Park Centenary Centre\, 22 Gascoigne Road\, Yau Ma Tei\nTickets: free \n 
URL:https://www.bcmagazine.net/event/hong-kong-kart-fun-day-2021/2021-07-17/
LOCATION:YMCA King’s Park Centenary Centre\, 22 Gascoigne Road\, Yau Ma Tei\, Hong Kong
CATEGORIES:2021,Free,Sport
ATTACH;FMTTYPE=image/jpeg:https://www.bcmagazine.net/wp-content/uploads/2021/05/HK-kart-Day-Fun-Day-Poster.jpeg
END:VEVENT
BEGIN:VEVENT
DTSTART;TZID=Asia/Hong_Kong:20210731T140000
DTEND;TZID=Asia/Hong_Kong:20210731T140000
DTSTAMP:20260420T051201
CREATED:19210525T100800Z
LAST-MODIFIED:20210708T234433Z
UID:10005199-1627740000-1627740000@www.bcmagazine.net
SUMMARY:Hong Kong Kart Fun Day
DESCRIPTION:Hong Kong Kart Fun Day\nDate: 2pm\, 17\, 31 July\, 7 August\, 2021\nVenue: YMCA King’s Park Centenary Centre\, 22 Gascoigne Road\, Yau Ma Tei\nTickets: free \n 
URL:https://www.bcmagazine.net/event/hong-kong-kart-fun-day-2021/2021-07-31/
LOCATION:YMCA King’s Park Centenary Centre\, 22 Gascoigne Road\, Yau Ma Tei\, Hong Kong
CATEGORIES:2021,Free,Sport
ATTACH;FMTTYPE=image/jpeg:https://www.bcmagazine.net/wp-content/uploads/2021/05/HK-kart-Day-Fun-Day-Poster.jpeg
END:VEVENT
END:VCALENDAR