BEGIN:VCALENDAR
VERSION:2.0
PRODID:-//bc magazine - ECPv6.15.20//NONSGML v1.0//EN
CALSCALE:GREGORIAN
METHOD:PUBLISH
X-WR-CALNAME:bc magazine
X-ORIGINAL-URL:https://www.bcmagazine.net
X-WR-CALDESC:Events for bc magazine
REFRESH-INTERVAL;VALUE=DURATION:PT1H
X-Robots-Tag:noindex
X-PUBLISHED-TTL:PT1H
BEGIN:VTIMEZONE
TZID:Asia/Hong_Kong
BEGIN:STANDARD
TZOFFSETFROM:+0800
TZOFFSETTO:+0800
TZNAME:HKT
DTSTART:20200101T000000
END:STANDARD
END:VTIMEZONE
BEGIN:VEVENT
DTSTART;VALUE=DATE:20220506
DTEND;VALUE=DATE:20220510
DTSTAMP:20260426T082231
CREATED:19210208T121521Z
LAST-MODIFIED:20210210T094752Z
UID:10005050-1651795200-1652140799@www.bcmagazine.net
SUMMARY:Cheung Chau Bun Festival 2022
DESCRIPTION:Cheung Chau Bun Festival\nDate: 6-9 May\, 2022\nVenue:  Cheung Chau\nTickets: Free
URL:https://www.bcmagazine.net/event/cheung-chau-bun-festival-2022/
LOCATION:Cheung Chau\, Cheung Chau\, Hong Kong
CATEGORIES:2022,Cultural Festival,Free
ATTACH;FMTTYPE=image/jpeg:https://www.bcmagazine.net/wp-content/uploads/2015/05/Bun-Festival-2021.jpg
END:VEVENT
BEGIN:VEVENT
DTSTART;VALUE=DATE:20220225
DTEND;VALUE=DATE:20220228
DTSTAMP:20260426T082231
CREATED:19201209T102000Z
LAST-MODIFIED:20211110T102659Z
UID:10004993-1645747200-1646006399@www.bcmagazine.net
SUMMARY:Beyond Carbon: The Climate Change Project
DESCRIPTION:Beyond Carbon: The Climate Change Project\nHK Ballet\nDate: 25-27 February\, 2022\nVenue: West Kowloon\, M+\nTickets: Free
URL:https://www.bcmagazine.net/event/beyond-carbon-the-climate-change-project/
LOCATION:West Kowloon Cultural District\, M+ Pavilion\, West Kowloon Cultural District\, West Kowloon\, Hong Kong
CATEGORIES:2022,Ballet,Dance,Free,Performing Arts
ATTACH;FMTTYPE=image/jpeg:https://www.bcmagazine.net/wp-content/uploads/1920/12/Hong-Kong-Ballet-Beyond-Carbon.jpeg
GEO:22.2989668;114.1551898
X-APPLE-STRUCTURED-LOCATION;VALUE=URI;X-ADDRESS=West Kowloon Cultural District M+ Pavilion West Kowloon Cultural District West Kowloon Hong Kong;X-APPLE-RADIUS=500;X-TITLE=West Kowloon Cultural District:geo:114.1551898,22.2989668
END:VEVENT
BEGIN:VEVENT
DTSTART;VALUE=DATE:20220109
DTEND;VALUE=DATE:20220110
DTSTAMP:20260426T082231
CREATED:19210930T034537Z
LAST-MODIFIED:20220105T132508Z
UID:10005276-1641686400-1641772799@www.bcmagazine.net
SUMMARY:Hoi Ha Festival
DESCRIPTION:Hoi Ha Festival\nDate: 19\, 25-27 December\, 2021\, 1\,2\,8\,9 January\, 2022\nVenue: Hoi Ha Visitor Centre\nTickets: Free\nMore info:\nwww.afcd.gov.hk
URL:https://www.bcmagazine.net/event/hoi-ha-festival/2022-01-09/
LOCATION:Hoi Ha Visitor Centre\, Hong Kong
CATEGORIES:2021,2022,Free
ATTACH;FMTTYPE=image/jpeg:https://www.bcmagazine.net/wp-content/uploads/1921/09/Hoi-Ha-Festival-2021-22.jpeg
END:VEVENT
BEGIN:VEVENT
DTSTART;VALUE=DATE:20220108
DTEND;VALUE=DATE:20220109
DTSTAMP:20260426T082231
CREATED:19210930T034537Z
LAST-MODIFIED:20220105T132508Z
UID:10005275-1641600000-1641686399@www.bcmagazine.net
SUMMARY:Hoi Ha Festival
DESCRIPTION:Hoi Ha Festival\nDate: 19\, 25-27 December\, 2021\, 1\,2\,8\,9 January\, 2022\nVenue: Hoi Ha Visitor Centre\nTickets: Free\nMore info:\nwww.afcd.gov.hk
URL:https://www.bcmagazine.net/event/hoi-ha-festival/2022-01-08/
LOCATION:Hoi Ha Visitor Centre\, Hong Kong
CATEGORIES:2021,2022,Free
ATTACH;FMTTYPE=image/jpeg:https://www.bcmagazine.net/wp-content/uploads/1921/09/Hoi-Ha-Festival-2021-22.jpeg
END:VEVENT
BEGIN:VEVENT
DTSTART;VALUE=DATE:20220102
DTEND;VALUE=DATE:20220103
DTSTAMP:20260426T082231
CREATED:19210930T034537Z
LAST-MODIFIED:20220105T132508Z
UID:10005274-1641081600-1641167999@www.bcmagazine.net
SUMMARY:Hoi Ha Festival
DESCRIPTION:Hoi Ha Festival\nDate: 19\, 25-27 December\, 2021\, 1\,2\,8\,9 January\, 2022\nVenue: Hoi Ha Visitor Centre\nTickets: Free\nMore info:\nwww.afcd.gov.hk
URL:https://www.bcmagazine.net/event/hoi-ha-festival/2022-01-02/
LOCATION:Hoi Ha Visitor Centre\, Hong Kong
CATEGORIES:2021,2022,Free
ATTACH;FMTTYPE=image/jpeg:https://www.bcmagazine.net/wp-content/uploads/1921/09/Hoi-Ha-Festival-2021-22.jpeg
END:VEVENT
BEGIN:VEVENT
DTSTART;VALUE=DATE:20220101
DTEND;VALUE=DATE:20220102
DTSTAMP:20260426T082231
CREATED:19210930T034537Z
LAST-MODIFIED:20220105T132508Z
UID:10005273-1640995200-1641081599@www.bcmagazine.net
SUMMARY:Hoi Ha Festival
DESCRIPTION:Hoi Ha Festival\nDate: 19\, 25-27 December\, 2021\, 1\,2\,8\,9 January\, 2022\nVenue: Hoi Ha Visitor Centre\nTickets: Free\nMore info:\nwww.afcd.gov.hk
URL:https://www.bcmagazine.net/event/hoi-ha-festival/2022-01-01/
LOCATION:Hoi Ha Visitor Centre\, Hong Kong
CATEGORIES:2021,2022,Free
ATTACH;FMTTYPE=image/jpeg:https://www.bcmagazine.net/wp-content/uploads/1921/09/Hoi-Ha-Festival-2021-22.jpeg
END:VEVENT
BEGIN:VEVENT
DTSTART;TZID=Asia/Hong_Kong:20211231T220000
DTEND;TZID=Asia/Hong_Kong:20211231T220000
DTSTAMP:20260426T082231
CREATED:19211104T034537Z
LAST-MODIFIED:20211221T154516Z
UID:10005324-1640988000-1640988000@www.bcmagazine.net
SUMMARY:New Year Countdown Concert
DESCRIPTION:New Year Countdown Concert\nAGA\, Alfred Hui\, Gin Lee\, Jay Fung\, Joyce Cheng\, Mirror\, Hong Kong Philharmonic Orchestra\nDate: 10pm\, 31 December\, 2021\nVenue: West Kowloon Cultural District\, Art Park\nTickets: Free
URL:https://www.bcmagazine.net/event/new-year-countdown-concert-2021/
LOCATION:West Kowloon Culture District\, West Kowloon Waterfront Promenade\, Hong Kong
CATEGORIES:2021,Concert,Free,Music,Nightlife,Performing Arts
ATTACH;FMTTYPE=image/jpeg:https://www.bcmagazine.net/wp-content/uploads/1921/11/Hong-Kong-New-Year-Countdown-Concert-2021-22.jpg
GEO:22.302243;114.155596
X-APPLE-STRUCTURED-LOCATION;VALUE=URI;X-ADDRESS=West Kowloon Culture District West Kowloon Waterfront Promenade Hong Kong;X-APPLE-RADIUS=500;X-TITLE=West Kowloon Waterfront Promenade:geo:114.155596,22.302243
END:VEVENT
BEGIN:VEVENT
DTSTART;TZID=Asia/Hong_Kong:20211231T213000
DTEND;TZID=Asia/Hong_Kong:20211231T213000
DTSTAMP:20260426T082231
CREATED:20211221T124537Z
LAST-MODIFIED:20211221T155717Z
UID:10006695-1640986200-1640986200@www.bcmagazine.net
SUMMARY:2021 Beautiful Night Hong Kong
DESCRIPTION:2021 Beautiful Night Hong Kong\nAaron Kwok Fu-shing\, Vivian Chow Wai-man\, Grasshopper\nDate: 10pm\, 31 December\, 2021\nVenue: Central Harbourfront\nTickets: $12\,000\, $1\,280\, $980\, $680\, $480 from Cityline
URL:https://www.bcmagazine.net/event/2021-beautiful-night-hong-kong/
LOCATION:Central Harbourfront\,  9 Lung Wo Road\, Central\, Hong Kong
CATEGORIES:2021,Concert,Free,Music,Nightlife,Performing Arts
ATTACH;FMTTYPE=image/jpeg:https://www.bcmagazine.net/wp-content/uploads/1921/11/2021-Beautiful-Night-Hong-Kong.jpg
GEO:22.2826223;114.164346
X-APPLE-STRUCTURED-LOCATION;VALUE=URI;X-ADDRESS=Central Harbourfront  9 Lung Wo Road Central Hong Kong;X-APPLE-RADIUS=500;X-TITLE=9 Lung Wo Road:geo:114.164346,22.2826223
END:VEVENT
BEGIN:VEVENT
DTSTART;VALUE=DATE:20211227
DTEND;VALUE=DATE:20211228
DTSTAMP:20260426T082231
CREATED:19210930T034537Z
LAST-MODIFIED:20220105T132508Z
UID:10005272-1640563200-1640649599@www.bcmagazine.net
SUMMARY:Hoi Ha Festival
DESCRIPTION:Hoi Ha Festival\nDate: 19\, 25-27 December\, 2021\, 1\,2\,8\,9 January\, 2022\nVenue: Hoi Ha Visitor Centre\nTickets: Free\nMore info:\nwww.afcd.gov.hk
URL:https://www.bcmagazine.net/event/hoi-ha-festival/2021-12-27/
LOCATION:Hoi Ha Visitor Centre\, Hong Kong
CATEGORIES:2021,2022,Free
ATTACH;FMTTYPE=image/jpeg:https://www.bcmagazine.net/wp-content/uploads/1921/09/Hoi-Ha-Festival-2021-22.jpeg
END:VEVENT
BEGIN:VEVENT
DTSTART;VALUE=DATE:20211227
DTEND;VALUE=DATE:20211228
DTSTAMP:20260426T082231
CREATED:19201219T090416Z
LAST-MODIFIED:20211210T010028Z
UID:10005016-1640563200-1640649599@www.bcmagazine.net
SUMMARY:Wild West Adventure Christmas Market
DESCRIPTION:Wild West Adventure Christmas Market\nDate: 11–12\, 18–19\, 24–27 December 2021\nVenue: Stanley Plaza\nTickets: Free
URL:https://www.bcmagazine.net/event/wild-west-adventure-christmas-market-2021/2021-12-27/
LOCATION:Stanley Plaza\, Stanley\, Hong Kong
CATEGORIES:2021,Food,Free,Lifestyle,Market
ATTACH;FMTTYPE=image/jpeg:https://www.bcmagazine.net/wp-content/uploads/2020/04/Wild-West-Adventure-Christmas-Market-stanley-2021.jpg
END:VEVENT
BEGIN:VEVENT
DTSTART;VALUE=DATE:20211226
DTEND;VALUE=DATE:20211227
DTSTAMP:20260426T082232
CREATED:19210930T034537Z
LAST-MODIFIED:20220105T132508Z
UID:10005271-1640476800-1640563199@www.bcmagazine.net
SUMMARY:Hoi Ha Festival
DESCRIPTION:Hoi Ha Festival\nDate: 19\, 25-27 December\, 2021\, 1\,2\,8\,9 January\, 2022\nVenue: Hoi Ha Visitor Centre\nTickets: Free\nMore info:\nwww.afcd.gov.hk
URL:https://www.bcmagazine.net/event/hoi-ha-festival/2021-12-26/
LOCATION:Hoi Ha Visitor Centre\, Hong Kong
CATEGORIES:2021,2022,Free
ATTACH;FMTTYPE=image/jpeg:https://www.bcmagazine.net/wp-content/uploads/1921/09/Hoi-Ha-Festival-2021-22.jpeg
END:VEVENT
BEGIN:VEVENT
DTSTART;VALUE=DATE:20211226
DTEND;VALUE=DATE:20211227
DTSTAMP:20260426T082232
CREATED:19201219T090416Z
LAST-MODIFIED:20211210T010028Z
UID:10005015-1640476800-1640563199@www.bcmagazine.net
SUMMARY:Wild West Adventure Christmas Market
DESCRIPTION:Wild West Adventure Christmas Market\nDate: 11–12\, 18–19\, 24–27 December 2021\nVenue: Stanley Plaza\nTickets: Free
URL:https://www.bcmagazine.net/event/wild-west-adventure-christmas-market-2021/2021-12-26/
LOCATION:Stanley Plaza\, Stanley\, Hong Kong
CATEGORIES:2021,Food,Free,Lifestyle,Market
ATTACH;FMTTYPE=image/jpeg:https://www.bcmagazine.net/wp-content/uploads/2020/04/Wild-West-Adventure-Christmas-Market-stanley-2021.jpg
END:VEVENT
BEGIN:VEVENT
DTSTART;VALUE=DATE:20211225
DTEND;VALUE=DATE:20211226
DTSTAMP:20260426T082232
CREATED:19210930T034537Z
LAST-MODIFIED:20220105T132508Z
UID:10005270-1640390400-1640476799@www.bcmagazine.net
SUMMARY:Hoi Ha Festival
DESCRIPTION:Hoi Ha Festival\nDate: 19\, 25-27 December\, 2021\, 1\,2\,8\,9 January\, 2022\nVenue: Hoi Ha Visitor Centre\nTickets: Free\nMore info:\nwww.afcd.gov.hk
URL:https://www.bcmagazine.net/event/hoi-ha-festival/2021-12-25/
LOCATION:Hoi Ha Visitor Centre\, Hong Kong
CATEGORIES:2021,2022,Free
ATTACH;FMTTYPE=image/jpeg:https://www.bcmagazine.net/wp-content/uploads/1921/09/Hoi-Ha-Festival-2021-22.jpeg
END:VEVENT
BEGIN:VEVENT
DTSTART;VALUE=DATE:20211225
DTEND;VALUE=DATE:20211226
DTSTAMP:20260426T082232
CREATED:19201219T090416Z
LAST-MODIFIED:20211210T010028Z
UID:10005014-1640390400-1640476799@www.bcmagazine.net
SUMMARY:Wild West Adventure Christmas Market
DESCRIPTION:Wild West Adventure Christmas Market\nDate: 11–12\, 18–19\, 24–27 December 2021\nVenue: Stanley Plaza\nTickets: Free
URL:https://www.bcmagazine.net/event/wild-west-adventure-christmas-market-2021/2021-12-25/
LOCATION:Stanley Plaza\, Stanley\, Hong Kong
CATEGORIES:2021,Food,Free,Lifestyle,Market
ATTACH;FMTTYPE=image/jpeg:https://www.bcmagazine.net/wp-content/uploads/2020/04/Wild-West-Adventure-Christmas-Market-stanley-2021.jpg
END:VEVENT
BEGIN:VEVENT
DTSTART;VALUE=DATE:20211224
DTEND;VALUE=DATE:20211225
DTSTAMP:20260426T082232
CREATED:19201219T090416Z
LAST-MODIFIED:20211210T010028Z
UID:10005013-1640304000-1640390399@www.bcmagazine.net
SUMMARY:Wild West Adventure Christmas Market
DESCRIPTION:Wild West Adventure Christmas Market\nDate: 11–12\, 18–19\, 24–27 December 2021\nVenue: Stanley Plaza\nTickets: Free
URL:https://www.bcmagazine.net/event/wild-west-adventure-christmas-market-2021/2021-12-24/
LOCATION:Stanley Plaza\, Stanley\, Hong Kong
CATEGORIES:2021,Food,Free,Lifestyle,Market
ATTACH;FMTTYPE=image/jpeg:https://www.bcmagazine.net/wp-content/uploads/2020/04/Wild-West-Adventure-Christmas-Market-stanley-2021.jpg
END:VEVENT
BEGIN:VEVENT
DTSTART;VALUE=DATE:20211219
DTEND;VALUE=DATE:20211220
DTSTAMP:20260426T082232
CREATED:19210930T034537Z
LAST-MODIFIED:20220105T132508Z
UID:10005269-1639872000-1639958399@www.bcmagazine.net
SUMMARY:Hoi Ha Festival
DESCRIPTION:Hoi Ha Festival\nDate: 19\, 25-27 December\, 2021\, 1\,2\,8\,9 January\, 2022\nVenue: Hoi Ha Visitor Centre\nTickets: Free\nMore info:\nwww.afcd.gov.hk
URL:https://www.bcmagazine.net/event/hoi-ha-festival/2021-12-19/
LOCATION:Hoi Ha Visitor Centre\, Hong Kong
CATEGORIES:2021,2022,Free
ATTACH;FMTTYPE=image/jpeg:https://www.bcmagazine.net/wp-content/uploads/1921/09/Hoi-Ha-Festival-2021-22.jpeg
END:VEVENT
BEGIN:VEVENT
DTSTART;VALUE=DATE:20211219
DTEND;VALUE=DATE:20211220
DTSTAMP:20260426T082232
CREATED:19201219T090416Z
LAST-MODIFIED:20211210T010028Z
UID:10005012-1639872000-1639958399@www.bcmagazine.net
SUMMARY:Wild West Adventure Christmas Market
DESCRIPTION:Wild West Adventure Christmas Market\nDate: 11–12\, 18–19\, 24–27 December 2021\nVenue: Stanley Plaza\nTickets: Free
URL:https://www.bcmagazine.net/event/wild-west-adventure-christmas-market-2021/2021-12-19/
LOCATION:Stanley Plaza\, Stanley\, Hong Kong
CATEGORIES:2021,Food,Free,Lifestyle,Market
ATTACH;FMTTYPE=image/jpeg:https://www.bcmagazine.net/wp-content/uploads/2020/04/Wild-West-Adventure-Christmas-Market-stanley-2021.jpg
END:VEVENT
BEGIN:VEVENT
DTSTART;VALUE=DATE:20211218
DTEND;VALUE=DATE:20211219
DTSTAMP:20260426T082232
CREATED:19201219T090416Z
LAST-MODIFIED:20211210T010028Z
UID:10005011-1639785600-1639871999@www.bcmagazine.net
SUMMARY:Wild West Adventure Christmas Market
DESCRIPTION:Wild West Adventure Christmas Market\nDate: 11–12\, 18–19\, 24–27 December 2021\nVenue: Stanley Plaza\nTickets: Free
URL:https://www.bcmagazine.net/event/wild-west-adventure-christmas-market-2021/2021-12-18/
LOCATION:Stanley Plaza\, Stanley\, Hong Kong
CATEGORIES:2021,Food,Free,Lifestyle,Market
ATTACH;FMTTYPE=image/jpeg:https://www.bcmagazine.net/wp-content/uploads/2020/04/Wild-West-Adventure-Christmas-Market-stanley-2021.jpg
END:VEVENT
BEGIN:VEVENT
DTSTART;TZID=Asia/Hong_Kong:20211214T170000
DTEND;TZID=Asia/Hong_Kong:20211214T170000
DTSTAMP:20260426T082232
CREATED:20211201T080806Z
LAST-MODIFIED:20211214T010647Z
UID:10006692-1639501200-1639501200@www.bcmagazine.net
SUMMARY:Victoria Harbour Windsurfing Race
DESCRIPTION:Victoria Harbour Windsurfing Race\nDate: 5pm\, 14 December\, 2021\nVenue: Victoria Harbour\nTickets: Free
URL:https://www.bcmagazine.net/event/victoria-harbour-windsurfing-race-2021/
LOCATION:Victoria Harbour\, Hong Kong
CATEGORIES:2021,Free,Sailing,Sport
ATTACH;FMTTYPE=image/jpeg:https://www.bcmagazine.net/wp-content/uploads/1917/02/hk-victoria-harbour-windsurf-race-2021.jpg
END:VEVENT
BEGIN:VEVENT
DTSTART;VALUE=DATE:20211212
DTEND;VALUE=DATE:20211213
DTSTAMP:20260426T082232
CREATED:19201219T090416Z
LAST-MODIFIED:20211210T010028Z
UID:10005010-1639267200-1639353599@www.bcmagazine.net
SUMMARY:Wild West Adventure Christmas Market
DESCRIPTION:Wild West Adventure Christmas Market\nDate: 11–12\, 18–19\, 24–27 December 2021\nVenue: Stanley Plaza\nTickets: Free
URL:https://www.bcmagazine.net/event/wild-west-adventure-christmas-market-2021/2021-12-12/
LOCATION:Stanley Plaza\, Stanley\, Hong Kong
CATEGORIES:2021,Food,Free,Lifestyle,Market
ATTACH;FMTTYPE=image/jpeg:https://www.bcmagazine.net/wp-content/uploads/2020/04/Wild-West-Adventure-Christmas-Market-stanley-2021.jpg
END:VEVENT
BEGIN:VEVENT
DTSTART;VALUE=DATE:20211212
DTEND;VALUE=DATE:20211213
DTSTAMP:20260426T082232
CREATED:19201219T090416Z
LAST-MODIFIED:20211210T010757Z
UID:10005019-1639267200-1639353599@www.bcmagazine.net
SUMMARY:Shop Social Christmas Bazaar
DESCRIPTION:Shop Social Christmas Bazaar\nDate: 11am-6pm\, 11–12 December 2021\nVenue: Flat B\, 3/F\, Shun Luen Factory Building\, 86 To Kwa Wan Road\, Kowloon\nTickets: Free
URL:https://www.bcmagazine.net/event/shop-social-christmas-bazaar-2021/2021-12-12/
LOCATION:Flat B\, 3/F\, Shun Luen Factory Building\, 86 To Kwa Wan Road\, Kowloon\, Hong Kong
CATEGORIES:2021,Food,Free,Lifestyle,Market
ATTACH;FMTTYPE=image/jpeg:https://www.bcmagazine.net/wp-content/uploads/1920/12/Shop-Social-Christmas-Bazaar-2021.jpeg
END:VEVENT
BEGIN:VEVENT
DTSTART;TZID=Asia/Hong_Kong:20211211T203000
DTEND;TZID=Asia/Hong_Kong:20211211T203000
DTSTAMP:20260426T082232
CREATED:20211104T034537Z
LAST-MODIFIED:20211106T105850Z
UID:10006686-1639254600-1639254600@www.bcmagazine.net
SUMMARY:The Red Stripes
DESCRIPTION:The Red Stripes\nDate: 8:30pm\, 11 December\, 2021\nVenue: Grappas Cellar\nTickets: Free
URL:https://www.bcmagazine.net/event/the-red-stripes-11-12-2021/
LOCATION:Grappas Cellar Causeway Bay\, LG08\, LG/F Lee Garden Two\, Causeway Bay\, Hong Kong
CATEGORIES:2021,Concert,Free,Music,Nightlife,Performing Arts
ATTACH;FMTTYPE=image/jpeg:https://www.bcmagazine.net/wp-content/uploads/2021/11/red-stripes-christmas-2021.jpg
END:VEVENT
BEGIN:VEVENT
DTSTART;VALUE=DATE:20211211
DTEND;VALUE=DATE:20211212
DTSTAMP:20260426T082232
CREATED:19201219T090416Z
LAST-MODIFIED:20211210T010028Z
UID:10005009-1639180800-1639267199@www.bcmagazine.net
SUMMARY:Wild West Adventure Christmas Market
DESCRIPTION:Wild West Adventure Christmas Market\nDate: 11–12\, 18–19\, 24–27 December 2021\nVenue: Stanley Plaza\nTickets: Free
URL:https://www.bcmagazine.net/event/wild-west-adventure-christmas-market-2021/2021-12-11/
LOCATION:Stanley Plaza\, Stanley\, Hong Kong
CATEGORIES:2021,Food,Free,Lifestyle,Market
ATTACH;FMTTYPE=image/jpeg:https://www.bcmagazine.net/wp-content/uploads/2020/04/Wild-West-Adventure-Christmas-Market-stanley-2021.jpg
END:VEVENT
BEGIN:VEVENT
DTSTART;VALUE=DATE:20211211
DTEND;VALUE=DATE:20211212
DTSTAMP:20260426T082232
CREATED:19201219T090416Z
LAST-MODIFIED:20211210T010757Z
UID:10005018-1639180800-1639267199@www.bcmagazine.net
SUMMARY:Shop Social Christmas Bazaar
DESCRIPTION:Shop Social Christmas Bazaar\nDate: 11am-6pm\, 11–12 December 2021\nVenue: Flat B\, 3/F\, Shun Luen Factory Building\, 86 To Kwa Wan Road\, Kowloon\nTickets: Free
URL:https://www.bcmagazine.net/event/shop-social-christmas-bazaar-2021/2021-12-11/
LOCATION:Flat B\, 3/F\, Shun Luen Factory Building\, 86 To Kwa Wan Road\, Kowloon\, Hong Kong
CATEGORIES:2021,Food,Free,Lifestyle,Market
ATTACH;FMTTYPE=image/jpeg:https://www.bcmagazine.net/wp-content/uploads/1920/12/Shop-Social-Christmas-Bazaar-2021.jpeg
END:VEVENT
BEGIN:VEVENT
DTSTART;TZID=Asia/Hong_Kong:20211202T200000
DTEND;TZID=Asia/Hong_Kong:20211202T200000
DTSTAMP:20260426T082232
CREATED:19210930T034537Z
LAST-MODIFIED:20211106T104810Z
UID:10005260-1638475200-1638475200@www.bcmagazine.net
SUMMARY:The Red Stripes
DESCRIPTION:The Red Stripes\nDate: 8pm\, 2 December\, 2021\nVenue: Salon 10\nTickets: Free
URL:https://www.bcmagazine.net/event/the-red-stripes-02-12-2021/
LOCATION:Salon 10\, 10 Arbuthnot Road\, Central\, Hong Kong
CATEGORIES:2021,Concert,Free,Music,Nightlife,Performing Arts
ATTACH;FMTTYPE=image/jpeg:https://www.bcmagazine.net/wp-content/uploads/2021/09/The-Red-Stripes-2021.jpg
END:VEVENT
BEGIN:VEVENT
DTSTART;TZID=Asia/Hong_Kong:20211128T090000
DTEND;TZID=Asia/Hong_Kong:20211128T230000
DTSTAMP:20260426T082232
CREATED:19150609T041646Z
LAST-MODIFIED:20220907T002000Z
UID:10000149-1638090000-1638140400@www.bcmagazine.net
SUMMARY:Cantonese Opera Day 2021
DESCRIPTION:Cantonese Opera Day 2021\nWhen: 28 November\, 2021\nWhere: HK Cultural Centre\nTickets: Free with tickets – available 18 November
URL:https://www.bcmagazine.net/event/cantonese-opera-day-2021/
LOCATION:HK Cultural Centre\, Grand Theatre\,\, 10 Salisbury Road\, Tsim Sha Tsui\, Hong Kong
CATEGORIES:2021,Cantonese Opera,Cultural Festival,Free,Music,Performing Arts
ATTACH;FMTTYPE=image/png:https://www.bcmagazine.net/wp-content/uploads/2015/06/Cantonese-Opera-Day-2021.png
GEO:22.294318;114.171708
X-APPLE-STRUCTURED-LOCATION;VALUE=URI;X-ADDRESS=HK Cultural Centre Grand Theatre 10 Salisbury Road Tsim Sha Tsui Hong Kong;X-APPLE-RADIUS=500;X-TITLE=10 Salisbury Road:geo:114.171708,22.294318
END:VEVENT
BEGIN:VEVENT
DTSTART;VALUE=DATE:20211128
DTEND;VALUE=DATE:20211129
DTSTAMP:20260426T082232
CREATED:20211128T083008Z
LAST-MODIFIED:20211201T083157Z
UID:10006690-1638057600-1638143999@www.bcmagazine.net
SUMMARY:A Man Beyond the Ordinary: Bruce Lee
DESCRIPTION:A Man Beyond the Ordinary: Bruce Lee\nDate: 28 November\, 2021 – 28 November 2026\nVenue: Hong Kong Heritage Museum\nTickets: $10\nMore info: www.hkhmbrucelee2021.com 
URL:https://www.bcmagazine.net/event/a-man-beyond-the-ordinary-bruce-lee-exhibition/
LOCATION:Hong Kong Heritage Museum\, 1 Man Lam Road\, Sha Tin\, Hong Kong
CATEGORIES:2021,Exhibition,Film,Free,Performing Arts
ATTACH;FMTTYPE=image/png:https://www.bcmagazine.net/wp-content/uploads/2021/12/bruce-lee-the-big-boss-poster.png
END:VEVENT
BEGIN:VEVENT
DTSTART;VALUE=DATE:20211126
DTEND;VALUE=DATE:20220103
DTSTAMP:20260426T082232
CREATED:19210208T121521Z
LAST-MODIFIED:20211113T031435Z
UID:10005067-1637884800-1641167999@www.bcmagazine.net
SUMMARY:WinterFest
DESCRIPTION:WinterFest\nDate: 26 November\, 2021 – 2 January 2022\nVenue: Hong Kong\nTickets: various
URL:https://www.bcmagazine.net/event/winterfest-2021/
CATEGORIES:2021,2022,Food,Free,Lifestyle,Music,Nightlife,Performing Arts
ATTACH;FMTTYPE=image/png:https://www.bcmagazine.net/wp-content/uploads/1921/02/winterfest-hktb.png
END:VEVENT
BEGIN:VEVENT
DTSTART;TZID=Asia/Hong_Kong:20211120T160000
DTEND;TZID=Asia/Hong_Kong:20211120T160000
DTSTAMP:20260426T082232
CREATED:19210930T034537Z
LAST-MODIFIED:20211106T104912Z
UID:10005258-1637424000-1637424000@www.bcmagazine.net
SUMMARY:The Red Stripes
DESCRIPTION:The Red Stripes\nDate: 4pm\, 20 November\, 2021\nVenue: Basehall\nTickets: Free
URL:https://www.bcmagazine.net/event/the-red-stripes-20-11-2021/
LOCATION:Basehall\, LG/F Jardine House\, 1 Connaught Place\, Central\, Hong Kong
CATEGORIES:2021,Concert,Free,Music,Nightlife,Performing Arts
ATTACH;FMTTYPE=image/jpeg:https://www.bcmagazine.net/wp-content/uploads/2021/09/The-Red-Stripes-2021.jpg
END:VEVENT
BEGIN:VEVENT
DTSTART;VALUE=DATE:20211113
DTEND;VALUE=DATE:20211115
DTSTAMP:20260426T082232
CREATED:20211105T034537Z
LAST-MODIFIED:20211109T102453Z
UID:10006687-1636761600-1636934399@www.bcmagazine.net
SUMMARY:Skateboard Fest 2021
DESCRIPTION:Skateboard Fest 2021\nDate: 13-14 November\, 2021\nVenue: Pak Sha Road\, Causeway Bay\nTickets: Free
URL:https://www.bcmagazine.net/event/skateboard-fest-2021/
CATEGORIES:2021,Free,Lifestyle,Sport
ATTACH;FMTTYPE=image/jpeg:https://www.bcmagazine.net/wp-content/uploads/2021/11/skateboard-fest-2021.jpeg
END:VEVENT
END:VCALENDAR