BEGIN:VCALENDAR
VERSION:2.0
PRODID:-//bc magazine - ECPv6.15.20//NONSGML v1.0//EN
CALSCALE:GREGORIAN
METHOD:PUBLISH
X-WR-CALNAME:bc magazine
X-ORIGINAL-URL:https://www.bcmagazine.net
X-WR-CALDESC:Events for bc magazine
REFRESH-INTERVAL;VALUE=DURATION:PT1H
X-Robots-Tag:noindex
X-PUBLISHED-TTL:PT1H
BEGIN:VTIMEZONE
TZID:Asia/Hong_Kong
BEGIN:STANDARD
TZOFFSETFROM:+0800
TZOFFSETTO:+0800
TZNAME:HKT
DTSTART:20180101T000000
END:STANDARD
END:VTIMEZONE
BEGIN:VEVENT
DTSTART;VALUE=DATE:20190920
DTEND;VALUE=DATE:20191216
DTSTAMP:20260421T161106
CREATED:20190905T075925Z
LAST-MODIFIED:20190919T145337Z
UID:10006599-1568937600-1576454399@www.bcmagazine.net
SUMMARY:Leonardo da Vinci Art and Science Then and Now
DESCRIPTION:Leonardo da Vinci Art and Science Then and Now\nDate: 20 September – 15 December\, 2019\nVenue: City University of Hong Kong\, CityU Exhibition Gallery\, 18/F\, Lau Ming Wai Academic Building\, 83 Tat Chee Avenue\, Kowloon Tong\nTickets: Free\nMore info:\n10am-7pm daily except Monday
URL:https://www.bcmagazine.net/event/leonardo-da-vinci-art-and-science-then-and-now/
LOCATION:CityU Exhibition Gallery\, 18/F\, Lau Ming Wai Academic Building\, 83 Tat Chee Avenue\, Kowloon Tong\, Hong Kong
CATEGORIES:2019,Art Gallery,Exhibition,Free,Lifestyle,Other
ATTACH;FMTTYPE=image/jpeg:https://www.bcmagazine.net/wp-content/uploads/2015/05/Leonardo_Web-Banner_1920x816.jpg
END:VEVENT
BEGIN:VEVENT
DTSTART;TZID=Asia/Hong_Kong:20191009T200000
DTEND;TZID=Asia/Hong_Kong:20191009T200000
DTSTAMP:20260421T161106
CREATED:19170909T021037Z
LAST-MODIFIED:20181127T002904Z
UID:10003422-1570651200-1570651200@www.bcmagazine.net
SUMMARY:Peel Street Poetry
DESCRIPTION:Peel Street Poetry is an open mic poetry night at Social Room. It runs every Wednesdays of the month except the first and last. The environment is friendly and they love new performers\, so come share your poetry or just listen along to some of Hong Kong’s sharpest poetic talents. \nPeel Street Poetry Open Mic\nDate: 2nd\, 3rd (and 4th) Wednesdays of the month\nVenue: Social Room\nTickets: Free\nMore info:\nwww.peelstreetpoetry.com
URL:https://www.bcmagazine.net/event/peel-street-poetry/2019-10-09/
LOCATION:Social Room\, 74-78 Stanley Street \, Central\, Hong Kong
CATEGORIES:2018,2019,Free,Performing Arts,Poetry
GEO:22.2834184;114.1544925
X-APPLE-STRUCTURED-LOCATION;VALUE=URI;X-ADDRESS=Social Room 74-78 Stanley Street  Central Hong Kong;X-APPLE-RADIUS=500;X-TITLE=74-78 Stanley Street:geo:114.1544925,22.2834184
END:VEVENT
BEGIN:VEVENT
DTSTART;VALUE=DATE:20191013
DTEND;VALUE=DATE:20191014
DTSTAMP:20260421T161106
CREATED:19180721T074637Z
LAST-MODIFIED:20191015T040614Z
UID:10004347-1570924800-1571011199@www.bcmagazine.net
SUMMARY:Cyclothon - Cancelled
DESCRIPTION:Cyclothon\nDate: 13 October\, 2019\nVenue: Tsing Ma Bridge\nTickets: Free by registration http://register.hongkongcyclothon.com
URL:https://www.bcmagazine.net/event/cyclothon-2019/
CATEGORIES:2019,Cycling,Free,Sport
END:VEVENT
END:VCALENDAR