BEGIN:VCALENDAR
VERSION:2.0
PRODID:-//bc magazine - ECPv6.15.20//NONSGML v1.0//EN
CALSCALE:GREGORIAN
METHOD:PUBLISH
X-WR-CALNAME:bc magazine
X-ORIGINAL-URL:https://www.bcmagazine.net
X-WR-CALDESC:Events for bc magazine
REFRESH-INTERVAL;VALUE=DURATION:PT1H
X-Robots-Tag:noindex
X-PUBLISHED-TTL:PT1H
BEGIN:VTIMEZONE
TZID:Asia/Hong_Kong
BEGIN:STANDARD
TZOFFSETFROM:+0800
TZOFFSETTO:+0800
TZNAME:HKT
DTSTART:20220101T000000
END:STANDARD
END:VTIMEZONE
BEGIN:VEVENT
DTSTART;VALUE=DATE:20230619
DTEND;VALUE=DATE:20230626
DTSTAMP:20260423T104517
CREATED:20230518T084257Z
LAST-MODIFIED:20230526T105645Z
UID:10006819-1687132800-1687737599@www.bcmagazine.net
SUMMARY:Refugee Week
DESCRIPTION:Refugee Week\nDate: 19-25 June\, 2023\nVenue: Various\nMore info: @refugeeweekHK
URL:https://www.bcmagazine.net/event/refugee-week-2023/
CATEGORIES:2023,Free,Lifestyle
ATTACH;FMTTYPE=image/png:https://www.bcmagazine.net/wp-content/uploads/2023/05/HKrefugee-wekk-2023.png
END:VEVENT
BEGIN:VEVENT
DTSTART;VALUE=DATE:20230624
DTEND;VALUE=DATE:20230627
DTSTAMP:20260423T104517
CREATED:19170530T034649Z
LAST-MODIFIED:20230516T025359Z
UID:10006809-1687564800-1687823999@www.bcmagazine.net
SUMMARY:Hong Kong International Dragon Boat Races
DESCRIPTION:Hong Kong International Dragon Boat Races\nDate: 24-25 June\, 2023\nVenue: Central Harbourfront\nTickets: Free
URL:https://www.bcmagazine.net/event/hong-kong-international-dragon-boat-races-2023/
LOCATION:Central Harbourfront\,  9 Lung Wo Road\, Central\, Hong Kong
CATEGORIES:2023,Cultural Festival,Free,Sport
ATTACH;FMTTYPE=image/jpeg:https://www.bcmagazine.net/wp-content/uploads/1917/05/Hong-Kong-International-Dragon-Boat-Races.jpeg
GEO:22.2826223;114.164346
X-APPLE-STRUCTURED-LOCATION;VALUE=URI;X-ADDRESS=Central Harbourfront  9 Lung Wo Road Central Hong Kong;X-APPLE-RADIUS=500;X-TITLE=9 Lung Wo Road:geo:114.164346,22.2826223
END:VEVENT
END:VCALENDAR