BEGIN:VCALENDAR
VERSION:2.0
PRODID:-//bc magazine - ECPv6.15.20//NONSGML v1.0//EN
CALSCALE:GREGORIAN
METHOD:PUBLISH
X-WR-CALNAME:bc magazine
X-ORIGINAL-URL:https://www.bcmagazine.net
X-WR-CALDESC:Events for bc magazine
REFRESH-INTERVAL;VALUE=DURATION:PT1H
X-Robots-Tag:noindex
X-PUBLISHED-TTL:PT1H
BEGIN:VTIMEZONE
TZID:Asia/Hong_Kong
BEGIN:STANDARD
TZOFFSETFROM:+0800
TZOFFSETTO:+0800
TZNAME:HKT
DTSTART:20140101T000000
END:STANDARD
END:VTIMEZONE
BEGIN:VEVENT
DTSTART;VALUE=DATE:20151121
DTEND;VALUE=DATE:20151124
DTSTAMP:20260425T100915
CREATED:19151003T070524Z
LAST-MODIFIED:20151003T071004Z
UID:10000476-1448064000-1448323199@www.bcmagazine.net
SUMMARY:A Language of Their Own
DESCRIPTION:A Language of Their Own\nPink Season\nDate: 19-21\, November\, 2015\nVenue: Fringe Club\, Fringe Upstairs\nTickets: $180\nMore info:\n19 Nov 2015 (Thu) at 7:30pm\n20 Nov 2015 (Fri) at 7:30pm\n21 Nov 2015 (Sat) at 3:00pm & 7:30pm
URL:https://www.bcmagazine.net/event/a-language-of-their-own/
LOCATION:Fringe Club\, Fringe Upstairs\, Central\, Hong Kong
CATEGORIES:2015,Cultural Festival,LGBT,Performing Arts
END:VEVENT
BEGIN:VEVENT
DTSTART;TZID=Asia/Hong_Kong:20151114T193000
DTEND;TZID=Asia/Hong_Kong:20151114T220000
DTSTAMP:20260425T100916
CREATED:19151003T071206Z
LAST-MODIFIED:20151003T071647Z
UID:10000478-1447529400-1447538400@www.bcmagazine.net
SUMMARY:Sexual Outlaws\, Rebel and Renegades
DESCRIPTION:Sexual Outlaws\, Rebel and Renegades : Hidden Heroes of the Gay American Experience\nPink Season\nDate: 7:30pm\, 14\, November\, 2015\nVenue: Fringe Club\, Fringe Upstairs\nTickets: $60
URL:https://www.bcmagazine.net/event/sexual-outlaws-rebel-and-renegades/
LOCATION:Fringe Club\, Fringe Upstairs\, Central\, Hong Kong
CATEGORIES:2015,Cultural Festival,LGBT,Performing Arts
END:VEVENT
BEGIN:VEVENT
DTSTART;TZID=Asia/Hong_Kong:20151107T140000
DTEND;TZID=Asia/Hong_Kong:20151107T170000
DTSTAMP:20260425T100916
CREATED:19151016T232832Z
LAST-MODIFIED:20151016T233134Z
UID:10000504-1446904800-1446915600@www.bcmagazine.net
SUMMARY:HK Pride Parade
DESCRIPTION:HK Pride Parade\nDate: 2pm\, 7 November\, 2015\nVenue: Victoria Park\nTickets: Free
URL:https://www.bcmagazine.net/event/hk-pride-parade-2015/
LOCATION:Victoria Park\, Causeway Bay\, Hong Kong
CATEGORIES:2015,Free,LGBT
END:VEVENT
BEGIN:VEVENT
DTSTART;TZID=Asia/Hong_Kong:20151101T100000
DTEND;TZID=Asia/Hong_Kong:20151101T190000
DTSTAMP:20260425T100916
CREATED:19151003T070117Z
LAST-MODIFIED:20151003T070440Z
UID:10000094-1446372000-1446404400@www.bcmagazine.net
SUMMARY:Out in HK Urban Race
DESCRIPTION:Out in HK Urban Race\nDate: 10am-7pm\, 1\, November\, 2015\nVenue: Hong Kong\nTickets: $190\nMore info: www.facebook.com/groups/outinhk/
URL:https://www.bcmagazine.net/event/out-in-hk-urban-race/
CATEGORIES:2015,Charity,LGBT,Sport
END:VEVENT
BEGIN:VEVENT
DTSTART;TZID=Asia/Hong_Kong:20150920T140000
DTEND;TZID=Asia/Hong_Kong:20150920T190000
DTSTAMP:20260425T100916
CREATED:20150920T005019Z
LAST-MODIFIED:20151019T044150Z
UID:10005083-1442757600-1442775600@www.bcmagazine.net
SUMMARY:Pink Dot
DESCRIPTION:Pink Dot\nDate: 2-7pm\, 20 September\, 2015\nVenue: Tamar Park\nTickets: Free
URL:https://www.bcmagazine.net/event/pink-dot-2015/
LOCATION:Tamar Park\, Harcourt Road\, Admiralty\, Hong Kong
CATEGORIES:2015,Concert,Cultural Festival,Food,Free,LGBT,Music
GEO:22.2797904;114.1649412
X-APPLE-STRUCTURED-LOCATION;VALUE=URI;X-ADDRESS=Tamar Park Harcourt Road Admiralty Hong Kong;X-APPLE-RADIUS=500;X-TITLE=Harcourt Road:geo:114.1649412,22.2797904
END:VEVENT
BEGIN:VEVENT
DTSTART;VALUE=DATE:20150919
DTEND;VALUE=DATE:20151011
DTSTAMP:20260425T100916
CREATED:20150914T034205Z
LAST-MODIFIED:20191021T154126Z
UID:10005064-1442620800-1444521599@www.bcmagazine.net
SUMMARY:HK Lesbian & Gay Film Festival
DESCRIPTION:Now in it’s 26 year the Hong Kong Lesbian & Gay Film Festival (HKLGFF) continues to bring a wide range of LGBT films to local audiences. This year’s festival features 59 films and runs for three weeks this year from 19 September to 10 October 2015. \nOpening Film + Gala Party\nFront Cover is the tale of a gay Chinese-American fashion stylist\, who despises his ethnic heritage\, yet is given an important assignment to style a patriotic actor from Beijing. After a rocky start\, a friendship develops leading them to examine their beliefs and identities. Starring Jake Choi\, James Chen and directed by Ray Yeung\, Front Cover is a bittersweet dramatic comedy\, which looks at the Asian-American experience with humour\, irony and insight. \nhttps://www.youtube.com/watch?v=nMs_rE1_ln4Video can’t be loaded because JavaScript is disabled: HKLGFF 2015: Front Cover Trailer 《封面裡的羅生門》預告 (https://www.youtube.com/watch?v=nMs_rE1_ln4)\nIn Yes or No 2.5 Love You Baby\, starring Sunanta Yoonniyom\, Pimpakan Bangchawong and Chansakorn Kittiwattanakorn\, Wine\, a photographer\, and Pii\, a chef\, are roommates and best friends. They share their lives together but things start to change when two girls Pim and Fah move in next door. Pim coincidently is Wine’s first love\, whom she still hasn’t forgotten but Pim now has a boyfriend. Things get complicated when Fah develops feelings for Pii. Director Kirati Nak-intanon and the cast will attend the screening. \nThe Opening Gala Party is at Zafran\, 10:30pm 19 September\, 2015. Bring your opening movie ticket stub for free admission and one complimentary drink. \nClosing Films + Party\nIn Baby Steps\, a Taiwanese-American man Danny\, and his boyfriend\, long to have a baby\, but the journey becomes increasingly complicated by Danny’s well-intentioned but meddlesome mother who wants to control every aspect of the process from Taipei. Produced by Oscar winning producer Li-Kong Hsu (Crouching Tiger\, Hidden Dragon\, The Wedding Banquet\, Eat Drink Man Woman)\, and legendary Taiwan actress Grace Guei who also stars in the film as Danny’s mother. Director/ male lead Barney Cheng will be present at the screening to greet the audience. \nFreeheld\, starring Oscar winner Julianne Moore and Ellen Page\, is based on a true story that took place from 2002 – 2006. New Jersey Detective Lieutenant Laurel Hester (Moore) is diagnosed with terminal cancer. She shares her life with her loving partner Stacie (Page) a car mechanic who is much younger than her. Laurel fearing for Stacie’s future sought to leave all her benefits to her\, only to be blocked by the county’s governing body of Freeholders. With the help of an LGBT activist Steven (Carell) together they fight to have Laurel’s pension benefits passed on to Stacie. A love story about a loving partnership that in the eyes of law isn’t seen as equals. \nhttps://www.youtube.com/watch?v=blk27Jj9UE8Video can’t be loaded because JavaScript is disabled: Freeheld Official Trailer #1 (2015) Ellen Page\, Julianne Moore Drama Movie HD (https://www.youtube.com/watch?v=blk27Jj9UE8)\nThe Closing Party is at Kee Club: 10pm\, 10 October\, 2015. Bring your closing movie ticket stub for free admission and one complimentary drink. \nHighlights\nI am Michael starring James Franco\, Zachary Quinto\, and produced by Gus Van Sant is based on Benoit Denizet-Lewis’ New York Times Magazine article “My Ex-Gay Friend”. It is a controversial true story of a gay activist Michael Glatze in 2007 shocked his friends and followers when he publicly renounced his homosexuality and becomes a Christian pastor. What could have led to such an extreme change of belief? \nWonderful World End\, starring Ai Hashimoto and Jun Anonami\, is about two girls whose relationship surpasses everything like age and sex. This romantic fantastical music film is lighthearted but the feelings and young talents are genuine together. “Guys can’t save us. Only a girl can save a girl.” \nIn the documentary My Fair Wedding\, Kim Gwang-soo\, an openly gay film-maker announces his intention to marry Dave Kim\, his partner of 9 years who is 19 years his junior. On 7th September\, 2013\, the couple tie the knot in the heart of downtown Seoul\, challenging the tradition-abiding and conservative Korean sensibility through this event which became the first gay marriage in Korean history. However\, everything around them is inculcated with a culture of homophobia. As the big day approaches\, they grow more and more nervous\, wondering what will happen on their wedding day. Kim Gwang-soo and Dave Kim will be present at the screenings to share their stories with audience. \nhttps://youtu.be/6jfem2CO-vkVideo can’t be loaded because JavaScript is disabled: ｛醉‧生夢死 ｝"Thanatos\, Drunk" 國際香港電影節2分鐘預告 Official Trailer (https://youtu.be/6jfem2CO-vk)\nTaiwanese auteur Chang Tso-chi latest work is Thanatos Drunk. Rat works at a market stall but his alcoholic mother constantly nags him to get a proper job and stop hanging out with Shuo\, an underworld gigolo whom he looks up to and shares a flat with. Rat’s older brother\, Shang-ho\, used to live in at the US but returns after losing his boyfriend there. Shang-ho gradually falls for Shuo until Shuo’s past catches up on him… \nHong Kong Lesbian & Gay Film Festival\nDate: 19 September – 10 October\, 2015\nVenue: AMC Festival Walk ($90)\, AMC Pacific Place ($95)\, The ONE ($80) & Broadway Cinematheque ($80)\nTickets: various\nMore info: www.hklgff.hk
URL:https://www.bcmagazine.net/event/hk-lesbian-gay-film-festival-2015/
CATEGORIES:2015,Cultural Festival,Film,LGBT
END:VEVENT
END:VCALENDAR