BEGIN:VCALENDAR
VERSION:2.0
PRODID:-//bc magazine - ECPv6.15.20//NONSGML v1.0//EN
CALSCALE:GREGORIAN
METHOD:PUBLISH
X-WR-CALNAME:bc magazine
X-ORIGINAL-URL:https://www.bcmagazine.net
X-WR-CALDESC:Events for bc magazine
REFRESH-INTERVAL;VALUE=DURATION:PT1H
X-Robots-Tag:noindex
X-PUBLISHED-TTL:PT1H
BEGIN:VTIMEZONE
TZID:Asia/Hong_Kong
BEGIN:STANDARD
TZOFFSETFROM:+0800
TZOFFSETTO:+0800
TZNAME:HKT
DTSTART:20200101T000000
END:STANDARD
END:VTIMEZONE
BEGIN:VEVENT
DTSTART;TZID=Asia/Hong_Kong:20211127T200000
DTEND;TZID=Asia/Hong_Kong:20211127T200000
DTSTAMP:20260424T175632
CREATED:19211111T044512Z
LAST-MODIFIED:20211112T101901Z
UID:10005341-1638043200-1638043200@www.bcmagazine.net
SUMMARY:In The Mood For Drag
DESCRIPTION:DragJam: In The Mood For Drag – Drag to the Future!\nDate: 8pm\, 27 November\, 2021\nVenue: Mudita\, 24-30 Ice House Street\, Central\nTickets: $200
URL:https://www.bcmagazine.net/event/in-the-mood-for-drag/
LOCATION:Mudita\, 24-30 Ice House St\, Central\, Hong Kong
CATEGORIES:2021,LGBT,Lifestyle,Music,Nightlife,Performing Arts,Theatre
ATTACH;FMTTYPE=image/jpeg:https://www.bcmagazine.net/wp-content/uploads/2019/03/in.-the-mood-for-drag-2021.11.jpg
END:VEVENT
END:VCALENDAR