BEGIN:VCALENDAR
VERSION:2.0
PRODID:-//bc magazine - ECPv6.15.20//NONSGML v1.0//EN
CALSCALE:GREGORIAN
METHOD:PUBLISH
X-WR-CALNAME:bc magazine
X-ORIGINAL-URL:https://www.bcmagazine.net
X-WR-CALDESC:Events for bc magazine
REFRESH-INTERVAL;VALUE=DURATION:PT1H
X-Robots-Tag:noindex
X-PUBLISHED-TTL:PT1H
BEGIN:VTIMEZONE
TZID:Asia/Hong_Kong
BEGIN:STANDARD
TZOFFSETFROM:+0800
TZOFFSETTO:+0800
TZNAME:HKT
DTSTART:20210101T000000
END:STANDARD
END:VTIMEZONE
BEGIN:VEVENT
DTSTART;VALUE=DATE:20231208
DTEND;VALUE=DATE:20231211
DTSTAMP:20260426T074710
CREATED:20231204T101257Z
LAST-MODIFIED:20231208T102043Z
UID:10009422-1701993600-1702252799@www.bcmagazine.net
SUMMARY:Italian Christmas Village
DESCRIPTION:Italian Christmas Village\nConsulate General of Italy in Hong Kong\nDate: 8-10 December\, 2023\nVenue: Central Market\nTickets: Free Free\,
URL:https://www.bcmagazine.net/event/italian-christmas-village-2023/
LOCATION:Central Market\, 93 Queen's Road Central\, Central\, Hong Kong
CATEGORIES:2023,Free,Lifestyle,Market
ATTACH;FMTTYPE=image/jpeg:https://www.bcmagazine.net/wp-content/uploads/2023/12/italian-christmas-market-2023.jpeg
END:VEVENT
BEGIN:VEVENT
DTSTART;VALUE=DATE:20231118
DTEND;VALUE=DATE:20231119
DTSTAMP:20260426T074710
CREATED:20231111T171919Z
LAST-MODIFIED:20231118T201012Z
UID:10009410-1700265600-1700351999@www.bcmagazine.net
SUMMARY:Lamma Fun Day Beach Music Festival
DESCRIPTION:20th Lamma Fun Day Beach Music Festival\nDate: 11am-11pm\, 18 November\, 2023\nVenue: Tai Wan To Beach (Power Station Beach)\, Lamma Island\nTickets: Free\nMore info: www.facebook.com/LammaFunDay
URL:https://www.bcmagazine.net/event/lamma-fun-day-2023/
LOCATION:Tai Wan To Beach\, Lamma Island\, Hong Kong
CATEGORIES:2023,Concert,Food,Free,Lifestyle,Music,Sport
ATTACH;FMTTYPE=image/jpeg:https://www.bcmagazine.net/wp-content/uploads/1916/09/Lamma-fun-day-2023.jpeg
END:VEVENT
BEGIN:VEVENT
DTSTART;VALUE=DATE:20231027
DTEND;VALUE=DATE:20231030
DTSTAMP:20260426T074710
CREATED:20230903T124202Z
LAST-MODIFIED:20230907T084944Z
UID:10008373-1698364800-1698623999@www.bcmagazine.net
SUMMARY:Shi Fu Miz Festival
DESCRIPTION:Shi Fu Miz Festival 2023\nDate: 27-29 October\, 2023\nVenue: Sai Yuen Camping & Adventure Park\nTickets: $1\,280\, $1\,080\, $980\, $780\, $580 from Shi Fu Miz
URL:https://www.bcmagazine.net/event/shi-fu-miz-festival-2023/
LOCATION:Saiyuen Camping & Adventure Park\, Sai Yuen\, Sai Wan\, Hong Kong
CATEGORIES:2023,Comedy,Concert,Lifestyle,Music,Performing Arts
ATTACH;FMTTYPE=image/png:https://www.bcmagazine.net/wp-content/uploads/1918/07/shi-fu-miz-festivl-2023.png
END:VEVENT
BEGIN:VEVENT
DTSTART;VALUE=DATE:20231007
DTEND;VALUE=DATE:20231016
DTSTAMP:20260426T074710
CREATED:20241006T000859Z
LAST-MODIFIED:20241007T133324Z
UID:10010166-1696636800-1697414399@www.bcmagazine.net
SUMMARY:India by the Bay
DESCRIPTION:India by the Bay returns for its ninth edition from 8-12 November 2024. \nThe Festival offers HongKongers an insight into Indian culture and history through a diverse and eclectic programme including music\, dance\, film\, food\, theatre\, yoga\, literature and art. \nIndia by the Bay 2024\nDate: 8-12 November\, 2024\nVenue: Asia Society Hong Kong Center\nTickets: Various
URL:https://www.bcmagazine.net/event/india-by-the-bay-2024/
LOCATION:Asia Society Hong Kong Center\, 9 Justice Drive\, Admiralty\, Hong Kong
CATEGORIES:2024,Cultural Festival,Dance,Lifestyle,Music,Other
ATTACH;FMTTYPE=image/jpeg:https://www.bcmagazine.net/wp-content/uploads/2024/10/India-by-the-Bay-2024.jpg
END:VEVENT
BEGIN:VEVENT
DTSTART;VALUE=DATE:20231007
DTEND;VALUE=DATE:20231016
DTSTAMP:20260426T074710
CREATED:20230908T000859Z
LAST-MODIFIED:20230914T101447Z
UID:10008374-1696636800-1697414399@www.bcmagazine.net
SUMMARY:India by the Bay
DESCRIPTION:India by the Bay returns for its eighth edition from the 7-15 October. \nThe Festival offers HongKongers an insight into Indian culture and history through a diverse and eclectic programme including music\, dance\, film\, food\, theatre\, yoga\, literature and art. \nIndia by the Bay 2023\nDate: 7-15 October\, 2023\nVenue: Asia Society Hong Kong Center\nTickets: tbc
URL:https://www.bcmagazine.net/event/india-by-the-bay-2023/
LOCATION:Asia Society Hong Kong Center\, 9 Justice Drive\, Admiralty\, Hong Kong
CATEGORIES:2023,Cultural Festival,Dance,Lifestyle,Music,Other
ATTACH;FMTTYPE=image/jpeg:https://www.bcmagazine.net/wp-content/uploads/2023/09/India-by-the-Bay-2023-.jpg
END:VEVENT
BEGIN:VEVENT
DTSTART;VALUE=DATE:20230905
DTEND;VALUE=DATE:20230908
DTSTAMP:20260426T074710
CREATED:20230614T044512Z
LAST-MODIFIED:20230617T091101Z
UID:10007951-1693872000-1694131199@www.bcmagazine.net
SUMMARY:Restaurant & Bar Hong Kong
DESCRIPTION:Restaurant & Bar Hong Kong + Gourmet Asia\nDate: 5-7 September\, 2023\nVenue: HK Convention & Exhibition Centre\nTickets: tbc
URL:https://www.bcmagazine.net/event/restaurant-bar-hong-kong-2023/
LOCATION:HK Convention and Exhibition Centre\, 1 Expo Drive\, Wanchai\, Hong Kong
CATEGORIES:2023,Food,Lifestyle,Nightlife
ATTACH;FMTTYPE=image/png:https://www.bcmagazine.net/wp-content/uploads/1919/04/RBHK2023.png
END:VEVENT
BEGIN:VEVENT
DTSTART;VALUE=DATE:20230829
DTEND;VALUE=DATE:20230901
DTSTAMP:20260426T074710
CREATED:20230526T170334Z
LAST-MODIFIED:20230615T115328Z
UID:10007950-1693267200-1693526399@www.bcmagazine.net
SUMMARY:Asia Adult Expo
DESCRIPTION:Asia Adult Expo\nDate: 29-31 August\, 2023\nVenue: HK Convention & Exhibition Centre\nTickets: Free Registration\, $200 (Door)
URL:https://www.bcmagazine.net/event/asia-adult-expo-2023/
LOCATION:HK Convention and Exhibition Centre\, 1 Expo Drive\, Wanchai\, Hong Kong
CATEGORIES:2023,Exhibition,LGBT,Lifestyle,Other
ATTACH;FMTTYPE=image/jpeg:https://www.bcmagazine.net/wp-content/uploads/1918/08/Asia-Adult-Expo-2023.jpeg
END:VEVENT
BEGIN:VEVENT
DTSTART;VALUE=DATE:20230619
DTEND;VALUE=DATE:20230626
DTSTAMP:20260426T074710
CREATED:20230518T084257Z
LAST-MODIFIED:20230526T105645Z
UID:10006819-1687132800-1687737599@www.bcmagazine.net
SUMMARY:Refugee Week
DESCRIPTION:Refugee Week\nDate: 19-25 June\, 2023\nVenue: Various\nMore info: @refugeeweekHK
URL:https://www.bcmagazine.net/event/refugee-week-2023/
LOCATION:Lamma Island
CATEGORIES:2023,Free,Lifestyle
ATTACH;FMTTYPE=image/png:https://www.bcmagazine.net/wp-content/uploads/2023/05/HKrefugee-wekk-2023.png
END:VEVENT
BEGIN:VEVENT
DTSTART;VALUE=DATE:20230609
DTEND;VALUE=DATE:20230724
DTSTAMP:20260426T074710
CREATED:20230611T041457Z
LAST-MODIFIED:20230625T014635Z
UID:10007953-1686268800-1690156799@www.bcmagazine.net
SUMMARY:S20 Songkran Music Festival
DESCRIPTION:S20 Songkran Music Festival\nDate: 5-6 August 2023\nVenue: Central Harbourfront\nTickets: $3\,380\, $2\,080\, $1\,980\, $1\,180\nMore info:
URL:https://www.bcmagazine.net/event/s20-songkran-music-festival-2023/
LOCATION:Central Harbourfront\,  9 Lung Wo Road\, Central\, Hong Kong
CATEGORIES:2023,Lifestyle,Music,Other,Performing Arts,Sport
ATTACH;FMTTYPE=image/jpeg:https://www.bcmagazine.net/wp-content/uploads/2023/06/s20-HK-2023.jpeg
GEO:22.2826223;114.164346
X-APPLE-STRUCTURED-LOCATION;VALUE=URI;X-ADDRESS=Central Harbourfront  9 Lung Wo Road Central Hong Kong;X-APPLE-RADIUS=500;X-TITLE=9 Lung Wo Road:geo:114.164346,22.2826223
END:VEVENT
BEGIN:VEVENT
DTSTART;VALUE=DATE:20230609
DTEND;VALUE=DATE:20230724
DTSTAMP:20260426T074710
CREATED:20230603T041457Z
LAST-MODIFIED:20230613T112700Z
UID:10006820-1686268800-1690156799@www.bcmagazine.net
SUMMARY:Summerfest
DESCRIPTION:Summerfest\nDate: 9 June – 23 July\, 2023\nVenue: Central Harbourfront\nTickets: Free\nMore info:\nMondays to Fridays: 3pm – 9pm\nSaturdays\, Sundays\, and Public Holidays: 1pm – 9pm\nprogramme schedule
URL:https://www.bcmagazine.net/event/summerfest-2023/
LOCATION:Central Harbourfront\,  9 Lung Wo Road\, Central\, Hong Kong
CATEGORIES:2023,Lifestyle,Music,Other,Performing Arts,Sport
ATTACH;FMTTYPE=image/webp:https://www.bcmagazine.net/wp-content/uploads/2021/06/SummerFest_2023.webp
GEO:22.2826223;114.164346
X-APPLE-STRUCTURED-LOCATION;VALUE=URI;X-ADDRESS=Central Harbourfront  9 Lung Wo Road Central Hong Kong;X-APPLE-RADIUS=500;X-TITLE=9 Lung Wo Road:geo:114.164346,22.2826223
END:VEVENT
BEGIN:VEVENT
DTSTART;TZID=Asia/Hong_Kong:20230513T130000
DTEND;TZID=Asia/Hong_Kong:20230513T130000
DTSTAMP:20260426T074710
CREATED:20230427T044512Z
LAST-MODIFIED:20230512T110140Z
UID:10006805-1683982800-1683982800@www.bcmagazine.net
SUMMARY:Ginsanity
DESCRIPTION:Ginsanity brings together more than 50 different craft gins and tonics from across the globe for visitors to discover. Entry is free. \nGinsanity\nDate: 12-13 May\, 2023\nVenue: PMQ\nTickets: Free
URL:https://www.bcmagazine.net/event/ginsanity-2023/2023-05-13/
LOCATION:PMQ\, 35 Aberdeen Street\, Central\, Hong Kong
CATEGORIES:2023,Concert,Food,Free,Lifestyle,Music,Nightlife,Performing Arts
ATTACH;FMTTYPE=image/jpeg:https://www.bcmagazine.net/wp-content/uploads/2019/04/ginsanity-2023.jpeg
GEO:22.2836011;114.1524554
X-APPLE-STRUCTURED-LOCATION;VALUE=URI;X-ADDRESS=PMQ 35 Aberdeen Street Central Hong Kong;X-APPLE-RADIUS=500;X-TITLE=35 Aberdeen Street:geo:114.1524554,22.2836011
END:VEVENT
BEGIN:VEVENT
DTSTART;TZID=Asia/Hong_Kong:20230512T160000
DTEND;TZID=Asia/Hong_Kong:20230512T160000
DTSTAMP:20260426T074710
CREATED:20230427T044512Z
LAST-MODIFIED:20230512T110140Z
UID:10006804-1683907200-1683907200@www.bcmagazine.net
SUMMARY:Ginsanity
DESCRIPTION:Ginsanity brings together more than 50 different craft gins and tonics from across the globe for visitors to discover. Entry is free. \nGinsanity\nDate: 12-13 May\, 2023\nVenue: PMQ\nTickets: Free
URL:https://www.bcmagazine.net/event/ginsanity-2023/2023-05-12/
LOCATION:PMQ\, 35 Aberdeen Street\, Central\, Hong Kong
CATEGORIES:2023,Concert,Food,Free,Lifestyle,Music,Nightlife,Performing Arts
ATTACH;FMTTYPE=image/jpeg:https://www.bcmagazine.net/wp-content/uploads/2019/04/ginsanity-2023.jpeg
GEO:22.2836011;114.1524554
X-APPLE-STRUCTURED-LOCATION;VALUE=URI;X-ADDRESS=PMQ 35 Aberdeen Street Central Hong Kong;X-APPLE-RADIUS=500;X-TITLE=35 Aberdeen Street:geo:114.1524554,22.2836011
END:VEVENT
BEGIN:VEVENT
DTSTART;VALUE=DATE:20230401
DTEND;VALUE=DATE:20230701
DTSTAMP:20260426T074710
CREATED:19160430T000803Z
LAST-MODIFIED:20230326T174015Z
UID:10006793-1680307200-1688169599@www.bcmagazine.net
SUMMARY:Le French May 2023
DESCRIPTION:Le French May\nDate: April-June\, 2023\nVenue: Various\nTickets: Various\nMore info:\nwww.FrenchMay.com
URL:https://www.bcmagazine.net/event/le-french-may-2023/
LOCATION:Lamma Island
CATEGORIES:2023,Art Gallery,Concert,Cultural Festival,Exhibition,Fashion,Film,Food,Lifestyle,Multimedia,Music,Performing Arts
ATTACH;FMTTYPE=image/jpeg:https://www.bcmagazine.net/wp-content/uploads/2016/04/french-may-2023-cover-art.jpg
END:VEVENT
BEGIN:VEVENT
DTSTART;VALUE=DATE:20221120
DTEND;VALUE=DATE:20221121
DTSTAMP:20260426T074710
CREATED:19171217T065358Z
LAST-MODIFIED:20220819T144555Z
UID:10003691-1668902400-1668988799@www.bcmagazine.net
SUMMARY:Hong Kong Marathon
DESCRIPTION:Hong Kong Marathon\nDate: 20 November\, 2022\nVenue: Tsim Sha Tsui to Tsing Ma Bridge to Victoria Park\nTickets: Free to watch
URL:https://www.bcmagazine.net/event/hong-kong-marathon-2022/
LOCATION:Lamma Island
CATEGORIES:2022,Lifestyle,Sport
END:VEVENT
BEGIN:VEVENT
DTSTART;VALUE=DATE:20221023
DTEND;VALUE=DATE:20221024
DTSTAMP:20260426T074711
CREATED:20220818T014823Z
LAST-MODIFIED:20220818T020209Z
UID:10006716-1666483200-1666569599@www.bcmagazine.net
SUMMARY:Pink Dot
DESCRIPTION:Pink Dot Hong Kong\nDate: 23 October\, 2022\nVenue: Various\nTickets: Free
URL:https://www.bcmagazine.net/event/pink-dot-2022/
LOCATION:Lamma Island
CATEGORIES:2022,Charity,Free,LGBT,Lifestyle
ATTACH;FMTTYPE=image/jpeg:https://www.bcmagazine.net/wp-content/uploads/2020/09/pink-dot-2022.jpg
END:VEVENT
BEGIN:VEVENT
DTSTART;VALUE=DATE:20221016
DTEND;VALUE=DATE:20221017
DTSTAMP:20260426T074711
CREATED:19170512T093526Z
LAST-MODIFIED:20220522T103126Z
UID:10002623-1665878400-1665964799@www.bcmagazine.net
SUMMARY:Tai Po Dragon Boat Races
DESCRIPTION:Tai Po Dragon Boat Races\nDate: 8am\, 16 October 2022\nVenue: Tai O Waterfront\nTickets: Free
URL:https://www.bcmagazine.net/event/tai-po-dragon-boat-races-2022/
LOCATION:Tai Po Waterfront\, Tai Po\, Hong Kong
CATEGORIES:2022,Free,Lifestyle,Sport
END:VEVENT
BEGIN:VEVENT
DTSTART;VALUE=DATE:20221016
DTEND;VALUE=DATE:20221017
DTSTAMP:20260426T074711
CREATED:19170512T093526Z
LAST-MODIFIED:20220725T053823Z
UID:10002624-1665878400-1665964799@www.bcmagazine.net
SUMMARY:Tai Po Dragon Boat Races
DESCRIPTION:Tai Po Dragon Boat Races\nDate: 8am\, 16 October 2022\nVenue: Tai O Waterfront\nTickets: Free
URL:https://www.bcmagazine.net/event/tai-po-dragon-boat-races-2022-2/
LOCATION:Tai Po Waterfront\, Tai Po\, Hong Kong
CATEGORIES:2022,Free,Lifestyle,Sport
END:VEVENT
BEGIN:VEVENT
DTSTART;VALUE=DATE:20221002
DTEND;VALUE=DATE:20221003
DTSTAMP:20260426T074711
CREATED:19170512T093526Z
LAST-MODIFIED:20220522T102249Z
UID:10002619-1664668800-1664755199@www.bcmagazine.net
SUMMARY:Stanley Dragon Boat Championships 2022
DESCRIPTION:Stanley Dragon Boat Championships 2022\nDate: 8am\, 2 October 2022\nVenue: Stanley Main Beach\nTickets: Free
URL:https://www.bcmagazine.net/event/stanley-dragon-boat-championships202278458/
LOCATION:Stanley Main Beach\, Stanley Beach Rd\, Stanley\, Hong Kong
CATEGORIES:2022,Cultural Festival,Free,Lifestyle,Sport
GEO:22.2217985;114.2138349
X-APPLE-STRUCTURED-LOCATION;VALUE=URI;X-ADDRESS=Stanley Main Beach Stanley Beach Rd Stanley Hong Kong;X-APPLE-RADIUS=500;X-TITLE=Stanley Beach Rd:geo:114.2138349,22.2217985
END:VEVENT
BEGIN:VEVENT
DTSTART;VALUE=DATE:20221002
DTEND;VALUE=DATE:20221003
DTSTAMP:20260426T074711
CREATED:19170512T093526Z
LAST-MODIFIED:20220522T102914Z
UID:10002622-1664668800-1664755199@www.bcmagazine.net
SUMMARY:Aberdeen Dragon Boat Races
DESCRIPTION:Aberdeen Dragon Boat Races\nDate: 8am\, 2 October 2022\nVenue: Tai O Waterfront\nTickets: Free
URL:https://www.bcmagazine.net/event/aberdeen-dragon-boat-races-2022/
LOCATION:Aberdeen Waterfront\, Aberdeen\, Hong Kong
CATEGORIES:2022,Free,Lifestyle,Sport
END:VEVENT
BEGIN:VEVENT
DTSTART;TZID=Asia/Hong_Kong:20220918T130000
DTEND;TZID=Asia/Hong_Kong:20220918T130000
DTSTAMP:20260426T074711
CREATED:19180310T104830Z
LAST-MODIFIED:20220214T232407Z
UID:10003907-1663506000-1663506000@www.bcmagazine.net
SUMMARY:Hong Kong Whisky Festival
DESCRIPTION:5th Hong Kong Whisky Festival\nDate: 1pm\, 17-18 September\, 2022\nVenue: InterContinental Grand Stanford Hong Kong\nTickets: $248
URL:https://www.bcmagazine.net/event/hong-kong-whisky-festival/2022-09-18/
LOCATION:Tiffany’s New York Bar\, Intercontinental Grand Stanford\, Hong Kong
CATEGORIES:2022,Food,Lifestyle,Other
GEO:22.396428;114.109497
END:VEVENT
BEGIN:VEVENT
DTSTART;TZID=Asia/Hong_Kong:20220917T130000
DTEND;TZID=Asia/Hong_Kong:20220917T130000
DTSTAMP:20260426T074711
CREATED:19180310T104830Z
LAST-MODIFIED:20220214T232407Z
UID:10003906-1663419600-1663419600@www.bcmagazine.net
SUMMARY:Hong Kong Whisky Festival
DESCRIPTION:5th Hong Kong Whisky Festival\nDate: 1pm\, 17-18 September\, 2022\nVenue: InterContinental Grand Stanford Hong Kong\nTickets: $248
URL:https://www.bcmagazine.net/event/hong-kong-whisky-festival/2022-09-17/
LOCATION:Tiffany’s New York Bar\, Intercontinental Grand Stanford\, Hong Kong
CATEGORIES:2022,Food,Lifestyle,Other
GEO:22.396428;114.109497
END:VEVENT
BEGIN:VEVENT
DTSTART;VALUE=DATE:20220908
DTEND;VALUE=DATE:20220909
DTSTAMP:20260426T074711
CREATED:19170512T093526Z
LAST-MODIFIED:20220522T103301Z
UID:10002625-1662595200-1662681599@www.bcmagazine.net
SUMMARY:Sai Kung Dragon Boat Festival
DESCRIPTION:Sai Kung Dragon Boat Festival\nDate: 8am\, 8 September 2022\nVenue: Sai Kung\nTickets: Free
URL:https://www.bcmagazine.net/event/sai-kung-dragon-boat-festival-2022/
LOCATION:Sai Kung\, Sai Kung\, Hong Kong
CATEGORIES:2022,Free,Lifestyle,Sport
GEO:22.396428;114.109497
END:VEVENT
BEGIN:VEVENT
DTSTART;VALUE=DATE:20220620
DTEND;VALUE=DATE:20220627
DTSTAMP:20260426T074711
CREATED:19210208T121521Z
LAST-MODIFIED:20220610T032406Z
UID:10005088-1655683200-1656287999@www.bcmagazine.net
SUMMARY:Refugee Week Hong Kong
DESCRIPTION:Refugee Week Hong Kong\nDate: 20-26 June\, 2022\nVenue:  Various\nTickets: Free /Various\nMore info: www.instagram.com/refugeeweekhk
URL:https://www.bcmagazine.net/event/refugee-week-hong-kong-2022/
LOCATION:Lamma Island
CATEGORIES:Exhibition,Film,Food,Free,LGBT,Lifestyle,Market,Music,Other,Performing Arts
ATTACH;FMTTYPE=image/jpeg:https://www.bcmagazine.net/wp-content/uploads/1921/02/refugee-week-hk-2022.jpg
END:VEVENT
BEGIN:VEVENT
DTSTART;VALUE=DATE:20220619
DTEND;VALUE=DATE:20220620
DTSTAMP:20260426T074711
CREATED:19170512T093526Z
LAST-MODIFIED:20220522T101950Z
UID:10002620-1655596800-1655683199@www.bcmagazine.net
SUMMARY:21st Hong Kong Dragon Boat Short Course Races
DESCRIPTION:21st Hong Kong Dragon Boat Short Course Races\nDate: 8am\, 19 June 2022\nVenue: Stanley Main Beach\nTickets: Free
URL:https://www.bcmagazine.net/event/21st-hong-kong-dragon-boat-short-course-races/
LOCATION:Stanley Main Beach\, Stanley Beach Rd\, Stanley\, Hong Kong
CATEGORIES:2022,Cultural Festival,Free,Lifestyle,Sport
GEO:22.2217985;114.2138349
X-APPLE-STRUCTURED-LOCATION;VALUE=URI;X-ADDRESS=Stanley Main Beach Stanley Beach Rd Stanley Hong Kong;X-APPLE-RADIUS=500;X-TITLE=Stanley Beach Rd:geo:114.2138349,22.2217985
END:VEVENT
BEGIN:VEVENT
DTSTART;VALUE=DATE:20220603
DTEND;VALUE=DATE:20220613
DTSTAMP:20260426T074711
CREATED:20220531T090716Z
LAST-MODIFIED:20220601T015631Z
UID:10006705-1654214400-1655078399@www.bcmagazine.net
SUMMARY:Artaverse
DESCRIPTION:Artaverse\nDate: 3-12 June\, 2022\nVenue: Central Harbourfront\nTickets: $880\, $380\, $280
URL:https://www.bcmagazine.net/event/artaverse-2022/
LOCATION:Central Harbourfront\,  9 Lung Wo Road\, Central\, Hong Kong
CATEGORIES:2022,Art Gallery,Lifestyle,Performing Arts
ATTACH;FMTTYPE=image/jpeg:https://www.bcmagazine.net/wp-content/uploads/2017/11/ARTAVERSE-2022-Poster.jpg
GEO:22.2826223;114.164346
X-APPLE-STRUCTURED-LOCATION;VALUE=URI;X-ADDRESS=Central Harbourfront  9 Lung Wo Road Central Hong Kong;X-APPLE-RADIUS=500;X-TITLE=9 Lung Wo Road:geo:114.164346,22.2826223
END:VEVENT
BEGIN:VEVENT
DTSTART;VALUE=DATE:20220603
DTEND;VALUE=DATE:20220604
DTSTAMP:20260426T074711
CREATED:19170512T093526Z
LAST-MODIFIED:20220522T101714Z
UID:10002618-1654214400-1654300799@www.bcmagazine.net
SUMMARY:Stanley Dragon Boat Championships 2022
DESCRIPTION:Stanley Dragon Boat Championships 2022\nDate: 8am\, 3 June 2022\nVenue: Stanley Main Beach\nTickets: Free
URL:https://www.bcmagazine.net/event/stanley-dragon-boat-championships-2022/
LOCATION:Stanley Main Beach\, Stanley Beach Rd\, Stanley\, Hong Kong
CATEGORIES:2022,Cultural Festival,Free,Lifestyle,Sport
GEO:22.2217985;114.2138349
X-APPLE-STRUCTURED-LOCATION;VALUE=URI;X-ADDRESS=Stanley Main Beach Stanley Beach Rd Stanley Hong Kong;X-APPLE-RADIUS=500;X-TITLE=Stanley Beach Rd:geo:114.2138349,22.2217985
END:VEVENT
BEGIN:VEVENT
DTSTART;VALUE=DATE:20220603
DTEND;VALUE=DATE:20220604
DTSTAMP:20260426T074711
CREATED:19170512T093526Z
LAST-MODIFIED:20220522T102710Z
UID:10002621-1654214400-1654300799@www.bcmagazine.net
SUMMARY:Tai O Dragon Boat Festival
DESCRIPTION:Tai O Dragon Boat Festival\nDate: 8am\, 3 June 2022\nVenue: Tai O Waterfront\nTickets: Free
URL:https://www.bcmagazine.net/event/tai-o-fishing-villages-dragon-boat-festival-2022/
LOCATION:Tai O Waterfront\, Tai O
CATEGORIES:2022,Cultural Festival,Free,Lifestyle,Sport
END:VEVENT
BEGIN:VEVENT
DTSTART;VALUE=DATE:20220518
DTEND;VALUE=DATE:20220521
DTSTAMP:20260426T074711
CREATED:19210903T110850Z
LAST-MODIFIED:20220518T114750Z
UID:10005210-1652832000-1653091199@www.bcmagazine.net
SUMMARY:Ride of Silence 2022
DESCRIPTION:Ride of Silence 2022\nDate: 7pm\, 18 May\, 2022\nVenue: Hong Kong\nTickets: Free
URL:https://www.bcmagazine.net/event/ride-of-silence-2022/
LOCATION:Lamma Island
CATEGORIES:2022,Cycling,Exhibition,Free,Lifestyle
ATTACH;FMTTYPE=image/jpeg:https://www.bcmagazine.net/wp-content/uploads/2022/05/hk-ride-of-silence-2022.jpg
END:VEVENT
BEGIN:VEVENT
DTSTART;VALUE=DATE:20220501
DTEND;VALUE=DATE:20220516
DTSTAMP:20260426T074711
CREATED:20210907T100800Z
LAST-MODIFIED:20220501T101425Z
UID:10006675-1651363200-1652659199@www.bcmagazine.net
SUMMARY:FairBreak Invitational 2022
DESCRIPTION:FairBreak Invitational 2022\nDate: 1-15 May\, 2022\nVenue: Dubai\nMore info:\nOriginally planned for Hong Kong\, relocated to Dubai due to Covid travel restrictions
URL:https://www.bcmagazine.net/event/fairbreak-invitational-2022/
LOCATION:Lamma Island
CATEGORIES:2022,Cricket,Lifestyle,Sport
ATTACH;FMTTYPE=image/jpeg:https://www.bcmagazine.net/wp-content/uploads/2021/05/fairbreak-2022.jpg
END:VEVENT
BEGIN:VEVENT
DTSTART;VALUE=DATE:20220424
DTEND;VALUE=DATE:20220530
DTSTAMP:20260426T074711
CREATED:19180310T104830Z
LAST-MODIFIED:20220422T010330Z
UID:10003908-1650758400-1653868799@www.bcmagazine.net
SUMMARY:8th Hong Kong Games - Cancelled
DESCRIPTION:8th Hong Kong Games\nDate: 24 April – 29 May\, 2022\nVenue: Various\nTickets: tbc\nMore info: \nwww.hongkonggames.hk \n 
URL:https://www.bcmagazine.net/event/8th-hong-kong-games/
LOCATION:Lamma Island
CATEGORIES:2022,Athletics,Badminton,Basketball,Cancelled,Fitness,Lifestyle,Sport,Swimming,Volleyball
END:VEVENT
END:VCALENDAR