BEGIN:VCALENDAR
VERSION:2.0
PRODID:-//bc magazine - ECPv6.15.20//NONSGML v1.0//EN
CALSCALE:GREGORIAN
METHOD:PUBLISH
X-WR-CALNAME:bc magazine
X-ORIGINAL-URL:https://www.bcmagazine.net
X-WR-CALDESC:Events for bc magazine
REFRESH-INTERVAL;VALUE=DURATION:PT1H
X-Robots-Tag:noindex
X-PUBLISHED-TTL:PT1H
BEGIN:VTIMEZONE
TZID:Asia/Hong_Kong
BEGIN:STANDARD
TZOFFSETFROM:+0800
TZOFFSETTO:+0800
TZNAME:HKT
DTSTART:20200101T000000
END:STANDARD
END:VTIMEZONE
BEGIN:VEVENT
DTSTART;VALUE=DATE:20211101
DTEND;VALUE=DATE:20211201
DTSTAMP:20260425T190458
CREATED:20251004T120821Z
LAST-MODIFIED:20251005T171644Z
UID:10011419-1635724800-1638316799@www.bcmagazine.net
SUMMARY:Hong Kong Wine & Dine Festival
DESCRIPTION:Hong Kong Wine & Dine Festival\nDate: 23-26 October\, 2025\nVenue: Central Harbourfront Event Space\nTickets: various
URL:https://www.bcmagazine.net/event/hong-kong-wine-dine-festival-2025/
LOCATION:Central Harbourfront\,  9 Lung Wo Road\, Central\, Hong Kong
CATEGORIES:2025,Food,Lifestyle,Nightlife
ATTACH;FMTTYPE=image/jpeg:https://www.bcmagazine.net/wp-content/uploads/2025/10/W_D-2025-KV.jpg
GEO:22.2826223;114.164346
X-APPLE-STRUCTURED-LOCATION;VALUE=URI;X-ADDRESS=Central Harbourfront  9 Lung Wo Road Central Hong Kong;X-APPLE-RADIUS=500;X-TITLE=9 Lung Wo Road:geo:114.164346,22.2826223
END:VEVENT
BEGIN:VEVENT
DTSTART;TZID=Asia/Hong_Kong:20211106T201500
DTEND;TZID=Asia/Hong_Kong:20211106T201500
DTSTAMP:20260425T190458
CREATED:19210503T085402Z
LAST-MODIFIED:20211006T081807Z
UID:10005195-1636229700-1636229700@www.bcmagazine.net
SUMMARY:Uncle Ray The Celebratory Farewell Concert
DESCRIPTION:Uncle Ray The Celebratory Farewell Concert\nRay Cordeiro\nDate: 8:15pm\, 6-7 November\, 2021\nVenue: HK Coliseum\nTickets: $780\, $480 from Urbtix
URL:https://www.bcmagazine.net/event/uncle-ray-farewell-concert/2021-11-06/
LOCATION:HK Coliseum\, 9 Cheong Wan Road\, Hung Hom\, Hong Kong
CATEGORIES:2021,concert,Concert,DJ,Fan Meeting,Lifestyle,Music,Performing Arts
ATTACH;FMTTYPE=image/jpeg:https://www.bcmagazine.net/wp-content/uploads/1921/05/uncle-ray-farewell-2021.jpeg
GEO:22.3014169;114.1820305
X-APPLE-STRUCTURED-LOCATION;VALUE=URI;X-ADDRESS=HK Coliseum 9 Cheong Wan Road Hung Hom Hong Kong;X-APPLE-RADIUS=500;X-TITLE=9 Cheong Wan Road:geo:114.1820305,22.3014169
END:VEVENT
BEGIN:VEVENT
DTSTART;TZID=Asia/Hong_Kong:20211107T201500
DTEND;TZID=Asia/Hong_Kong:20211107T201500
DTSTAMP:20260425T190458
CREATED:19210503T085402Z
LAST-MODIFIED:20211006T081807Z
UID:10005196-1636316100-1636316100@www.bcmagazine.net
SUMMARY:Uncle Ray The Celebratory Farewell Concert
DESCRIPTION:Uncle Ray The Celebratory Farewell Concert\nRay Cordeiro\nDate: 8:15pm\, 6-7 November\, 2021\nVenue: HK Coliseum\nTickets: $780\, $480 from Urbtix
URL:https://www.bcmagazine.net/event/uncle-ray-farewell-concert/2021-11-07/
LOCATION:HK Coliseum\, 9 Cheong Wan Road\, Hung Hom\, Hong Kong
CATEGORIES:2021,concert,Concert,DJ,Fan Meeting,Lifestyle,Music,Performing Arts
ATTACH;FMTTYPE=image/jpeg:https://www.bcmagazine.net/wp-content/uploads/1921/05/uncle-ray-farewell-2021.jpeg
GEO:22.3014169;114.1820305
X-APPLE-STRUCTURED-LOCATION;VALUE=URI;X-ADDRESS=HK Coliseum 9 Cheong Wan Road Hung Hom Hong Kong;X-APPLE-RADIUS=500;X-TITLE=9 Cheong Wan Road:geo:114.1820305,22.3014169
END:VEVENT
END:VCALENDAR