BEGIN:VCALENDAR
VERSION:2.0
PRODID:-//bc magazine - ECPv6.15.20//NONSGML v1.0//EN
CALSCALE:GREGORIAN
METHOD:PUBLISH
X-WR-CALNAME:bc magazine
X-ORIGINAL-URL:https://www.bcmagazine.net
X-WR-CALDESC:Events for bc magazine
REFRESH-INTERVAL;VALUE=DURATION:PT1H
X-Robots-Tag:noindex
X-PUBLISHED-TTL:PT1H
BEGIN:VTIMEZONE
TZID:Asia/Hong_Kong
BEGIN:STANDARD
TZOFFSETFROM:+0800
TZOFFSETTO:+0800
TZNAME:HKT
DTSTART:20140101T000000
END:STANDARD
END:VTIMEZONE
BEGIN:VEVENT
DTSTART;TZID=Asia/Hong_Kong:20150306T200000
DTEND;TZID=Asia/Hong_Kong:20150306T230000
DTSTAMP:20260421T074008
CREATED:20150113T114247Z
LAST-MODIFIED:20150113T121324Z
UID:10005533-1425672000-1425682800@www.bcmagazine.net
SUMMARY:Cats @ Venetian Macao - 6-15 March\, 2015
DESCRIPTION:Cats\, which first opened in London in 1981\, features a musical score composed by the legendary Andrew Lloyd Webber (The Phantom of the Opera\, Joseph and the Amazing Technicolor Dreamcoat\, Jesus Christ Superstar\, Evita\, Starlight Express) that includes the timeless hit song Memory. \nBased on the book of poems Old Possum’s Book of Practical Cats (1939) by T.S. Eliot\, Cats tells the imaginative tale of a tribe of Jellicle cats as they gather together for the annual Jellicle Ball\, and one by one tell their stories for the amusement of Old Deuteronomy\, who must choose one of the cats to journey to the Heaviside Layer to be reborn into a new life. \nCats\nWhen: 6-15 March\, 2015\nWhere: The Venetian Theatre\, Venetian Macao\nHow much: MOP$680 (A Reserve)\, MOP$480 (B Reserve) and MOP$280 (C Reserve) from CotaiTicketing\nMore info: Performances are at 8 pm Monday to Friday and 2 pm and 8 pm on Saturday and Sunday (no show on Mar. 9). Tickets go on sale 14 January\, 2015
URL:https://www.bcmagazine.net/event/cats-venetian-macao-6-15-march-2015/
LOCATION:Hong Kong
CATEGORIES:Macau,Theatre
END:VEVENT
BEGIN:VEVENT
DTSTART;TZID=Asia/Hong_Kong:20150307T173000
DTEND;TZID=Asia/Hong_Kong:20150307T230000
DTSTAMP:20260421T074008
CREATED:20150116T074254Z
LAST-MODIFIED:20230223T223125Z
UID:10005541-1425749400-1425769200@www.bcmagazine.net
SUMMARY:The Showdown at Sands: Zou Shiming v Amnat Ruenroeng
DESCRIPTION:Zou Shiming China’s Olympic gold medal winner steps back into the ring as he attempts to win his first-ever world title. A celebrated amateur boxer and three-time Olympic medallist Zou Shiming is putting his undefeated pro record on the line to challenge undefeated International Boxing Federation (IBF) flyweight world champion Amnat Ruenroeng. Zou and Amnat fought three times as amateurs\, Amnat winning the first fight with Zou winning their last two contests. \nThe undercard bouts include an IBF light welterweight title eliminator between unbeaten Chinese puncher Ik Yang (18-0-0-1\, 13 KOs) and Thailand’s Patomsuk Pathompothong (30-2-1\, 18 KOs)\, as well as an NABO junior middleweight title contest between Australian fighter Daniel Dawson (40-4-1\, 26 KOs) and American boxer Glen Tapia (22-1\, 14 KOs).  \nAlso fighting in separate bouts are two local favourites – undefeated super welterweight prospect “The Macao Kid” Ng Kuok Kun (6-0\, 2 KOs) and Hong Kong’s undefeated Top-Five super flyweight contender Rex “The Wonder Kid” Tso (15-0\, 9 KOs)\, who will be fighting for the vacant WBA international super flyweight title.  \nThe Showdown at Sands: Zou Shiming vs. Amnat Ruenroeng\nWhen: 5:30pm\, 7 March 2015\nWhere: CotaiArena\, The Venetian Macao\nHow much: MOP$4\,680\, $1\,680\, $1\,280\, $980\, $580\, $280\, $180 from CotaiTicketing
URL:https://www.bcmagazine.net/event/the-showdown-at-sands-zou-shiming-vs-amnat-ruenroeng/
LOCATION:CotaiArena\, Venetian Macao\, Taipa\, Macau
CATEGORIES:Boxing,Macau,Sport
GEO:22.1483528;113.5602019
X-APPLE-STRUCTURED-LOCATION;VALUE=URI;X-ADDRESS=CotaiArena Venetian Macao Taipa Macau;X-APPLE-RADIUS=500;X-TITLE=Venetian Macao:geo:113.5602019,22.1483528
END:VEVENT
BEGIN:VEVENT
DTSTART;TZID=Asia/Hong_Kong:20150307T200000
DTEND;TZID=Asia/Hong_Kong:20150307T230000
DTSTAMP:20260421T074008
CREATED:20150105T114915Z
LAST-MODIFIED:20150113T121324Z
UID:10005492-1425758400-1425769200@www.bcmagazine.net
SUMMARY:Cats @ Venetian Macao - 6-15 March\, 2015
DESCRIPTION:Cats\, which first opened in London in 1981\, features a musical score composed by the legendary Andrew Lloyd Webber (The Phantom of the Opera\, Joseph and the Amazing Technicolor Dreamcoat\, Jesus Christ Superstar\, Evita\, Starlight Express) that includes the timeless hit song Memory. \nBased on the book of poems Old Possum’s Book of Practical Cats (1939) by T.S. Eliot\, Cats tells the imaginative tale of a tribe of Jellicle cats as they gather together for the annual Jellicle Ball\, and one by one tell their stories for the amusement of Old Deuteronomy\, who must choose one of the cats to journey to the Heaviside Layer to be reborn into a new life. \nCats\nWhen: 6-15 March\, 2015\nWhere: The Venetian Theatre\, Venetian Macao\nHow much: MOP$680 (A Reserve)\, MOP$480 (B Reserve) and MOP$280 (C Reserve) from CotaiTicketing\nMore info: Performances are at 8 pm Monday to Friday and 2 pm and 8 pm on Saturday and Sunday (no show on Mar. 9). Tickets go on sale 14 January\, 2015
URL:https://www.bcmagazine.net/event/cats-venetian-macao-6-15-march-2015-2/
LOCATION:Hong Kong
CATEGORIES:Macau,Theatre
END:VEVENT
BEGIN:VEVENT
DTSTART;TZID=Asia/Hong_Kong:20150308T200000
DTEND;TZID=Asia/Hong_Kong:20150308T230000
DTSTAMP:20260421T074008
CREATED:20150105T115322Z
LAST-MODIFIED:20150113T121324Z
UID:10005493-1425844800-1425855600@www.bcmagazine.net
SUMMARY:Cats @ Venetian Macao - 6-15 March\, 2015
DESCRIPTION:Cats\, which first opened in London in 1981\, features a musical score composed by the legendary Andrew Lloyd Webber (The Phantom of the Opera\, Joseph and the Amazing Technicolor Dreamcoat\, Jesus Christ Superstar\, Evita\, Starlight Express) that includes the timeless hit song Memory. \nBased on the book of poems Old Possum’s Book of Practical Cats (1939) by T.S. Eliot\, Cats tells the imaginative tale of a tribe of Jellicle cats as they gather together for the annual Jellicle Ball\, and one by one tell their stories for the amusement of Old Deuteronomy\, who must choose one of the cats to journey to the Heaviside Layer to be reborn into a new life. \nCats\nWhen: 6-15 March\, 2015\nWhere: The Venetian Theatre\, Venetian Macao\nHow much: MOP$680 (A Reserve)\, MOP$480 (B Reserve) and MOP$280 (C Reserve) from CotaiTicketing\nMore info: Performances are at 8 pm Monday to Friday and 2 pm and 8 pm on Saturday and Sunday (no show on Mar. 9). Tickets go on sale 14 January\, 2015
URL:https://www.bcmagazine.net/event/cats-venetian-macao-6-15-march-2015-3/
LOCATION:Hong Kong
CATEGORIES:Macau,Theatre
END:VEVENT
BEGIN:VEVENT
DTSTART;TZID=Asia/Hong_Kong:20150310T200000
DTEND;TZID=Asia/Hong_Kong:20150310T230000
DTSTAMP:20260421T074008
CREATED:20150105T115804Z
LAST-MODIFIED:20150113T121324Z
UID:10005494-1426017600-1426028400@www.bcmagazine.net
SUMMARY:Cats @ Venetian Macao - 6-15 March\, 2015
DESCRIPTION:Cats\, which first opened in London in 1981\, features a musical score composed by the legendary Andrew Lloyd Webber (The Phantom of the Opera\, Joseph and the Amazing Technicolor Dreamcoat\, Jesus Christ Superstar\, Evita\, Starlight Express) that includes the timeless hit song Memory. \nBased on the book of poems Old Possum’s Book of Practical Cats (1939) by T.S. Eliot\, Cats tells the imaginative tale of a tribe of Jellicle cats as they gather together for the annual Jellicle Ball\, and one by one tell their stories for the amusement of Old Deuteronomy\, who must choose one of the cats to journey to the Heaviside Layer to be reborn into a new life. \nCats\nWhen: 6-15 March\, 2015\nWhere: The Venetian Theatre\, Venetian Macao\nHow much: MOP$680 (A Reserve)\, MOP$480 (B Reserve) and MOP$280 (C Reserve) from CotaiTicketing\nMore info: Performances are at 8 pm Monday to Friday and 2 pm and 8 pm on Saturday and Sunday (no show on Mar. 9). Tickets go on sale 14 January\, 2015
URL:https://www.bcmagazine.net/event/cats-venetian-macao-6-15-march-2015-4/
LOCATION:Hong Kong
CATEGORIES:Macau,Theatre
END:VEVENT
BEGIN:VEVENT
DTSTART;TZID=Asia/Hong_Kong:20150311T200000
DTEND;TZID=Asia/Hong_Kong:20150311T230000
DTSTAMP:20260421T074008
CREATED:20150105T120148Z
LAST-MODIFIED:20150113T121324Z
UID:10005496-1426104000-1426114800@www.bcmagazine.net
SUMMARY:Cats @ Venetian Macao - 6-15 March\, 2015
DESCRIPTION:Cats\, which first opened in London in 1981\, features a musical score composed by the legendary Andrew Lloyd Webber (The Phantom of the Opera\, Joseph and the Amazing Technicolor Dreamcoat\, Jesus Christ Superstar\, Evita\, Starlight Express) that includes the timeless hit song Memory. \nBased on the book of poems Old Possum’s Book of Practical Cats (1939) by T.S. Eliot\, Cats tells the imaginative tale of a tribe of Jellicle cats as they gather together for the annual Jellicle Ball\, and one by one tell their stories for the amusement of Old Deuteronomy\, who must choose one of the cats to journey to the Heaviside Layer to be reborn into a new life. \nCats\nWhen: 6-15 March\, 2015\nWhere: The Venetian Theatre\, Venetian Macao\nHow much: MOP$680 (A Reserve)\, MOP$480 (B Reserve) and MOP$280 (C Reserve) from CotaiTicketing\nMore info: Performances are at 8 pm Monday to Friday and 2 pm and 8 pm on Saturday and Sunday (no show on Mar. 9). Tickets go on sale 14 January\, 2015
URL:https://www.bcmagazine.net/event/cats-venetian-macao-6-15-march-2015-6/
LOCATION:Hong Kong
CATEGORIES:Macau,Theatre
END:VEVENT
BEGIN:VEVENT
DTSTART;TZID=Asia/Hong_Kong:20150312T200000
DTEND;TZID=Asia/Hong_Kong:20150312T230000
DTSTAMP:20260421T074008
CREATED:20150105T115851Z
LAST-MODIFIED:20150113T121324Z
UID:10005495-1426190400-1426201200@www.bcmagazine.net
SUMMARY:Cats @ Venetian Macao - 6-15 March\, 2015
DESCRIPTION:Cats\, which first opened in London in 1981\, features a musical score composed by the legendary Andrew Lloyd Webber (The Phantom of the Opera\, Joseph and the Amazing Technicolor Dreamcoat\, Jesus Christ Superstar\, Evita\, Starlight Express) that includes the timeless hit song Memory. \nBased on the book of poems Old Possum’s Book of Practical Cats (1939) by T.S. Eliot\, Cats tells the imaginative tale of a tribe of Jellicle cats as they gather together for the annual Jellicle Ball\, and one by one tell their stories for the amusement of Old Deuteronomy\, who must choose one of the cats to journey to the Heaviside Layer to be reborn into a new life. \nCats\nWhen: 6-15 March\, 2015\nWhere: The Venetian Theatre\, Venetian Macao\nHow much: MOP$680 (A Reserve)\, MOP$480 (B Reserve) and MOP$280 (C Reserve) from CotaiTicketing\nMore info: Performances are at 8 pm Monday to Friday and 2 pm and 8 pm on Saturday and Sunday (no show on Mar. 9). Tickets go on sale 14 January\, 2015
URL:https://www.bcmagazine.net/event/cats-venetian-macao-6-15-march-2015-5/
LOCATION:Hong Kong
CATEGORIES:Macau,Theatre
END:VEVENT
BEGIN:VEVENT
DTSTART;TZID=Asia/Hong_Kong:20150313T200000
DTEND;TZID=Asia/Hong_Kong:20150313T230000
DTSTAMP:20260421T074008
CREATED:20150105T120528Z
LAST-MODIFIED:20150113T121324Z
UID:10005497-1426276800-1426287600@www.bcmagazine.net
SUMMARY:Cats @ Venetian Macao - 6-15 March\, 2015
DESCRIPTION:Cats\, which first opened in London in 1981\, features a musical score composed by the legendary Andrew Lloyd Webber (The Phantom of the Opera\, Joseph and the Amazing Technicolor Dreamcoat\, Jesus Christ Superstar\, Evita\, Starlight Express) that includes the timeless hit song Memory. \nBased on the book of poems Old Possum’s Book of Practical Cats (1939) by T.S. Eliot\, Cats tells the imaginative tale of a tribe of Jellicle cats as they gather together for the annual Jellicle Ball\, and one by one tell their stories for the amusement of Old Deuteronomy\, who must choose one of the cats to journey to the Heaviside Layer to be reborn into a new life. \nCats\nWhen: 6-15 March\, 2015\nWhere: The Venetian Theatre\, Venetian Macao\nHow much: MOP$680 (A Reserve)\, MOP$480 (B Reserve) and MOP$280 (C Reserve) from CotaiTicketing\nMore info: Performances are at 8 pm Monday to Friday and 2 pm and 8 pm on Saturday and Sunday (no show on Mar. 9). Tickets go on sale 14 January\, 2015
URL:https://www.bcmagazine.net/event/cats-venetian-macao-6-15-march-2015-7/
LOCATION:Hong Kong
CATEGORIES:Macau,Theatre
END:VEVENT
BEGIN:VEVENT
DTSTART;TZID=Asia/Hong_Kong:20150314T200000
DTEND;TZID=Asia/Hong_Kong:20150314T230000
DTSTAMP:20260421T074008
CREATED:20150105T120621Z
LAST-MODIFIED:20150113T121324Z
UID:10005498-1426363200-1426374000@www.bcmagazine.net
SUMMARY:Cats @ Venetian Macao - 6-15 March\, 2015
DESCRIPTION:Cats\, which first opened in London in 1981\, features a musical score composed by the legendary Andrew Lloyd Webber (The Phantom of the Opera\, Joseph and the Amazing Technicolor Dreamcoat\, Jesus Christ Superstar\, Evita\, Starlight Express) that includes the timeless hit song Memory. \nBased on the book of poems Old Possum’s Book of Practical Cats (1939) by T.S. Eliot\, Cats tells the imaginative tale of a tribe of Jellicle cats as they gather together for the annual Jellicle Ball\, and one by one tell their stories for the amusement of Old Deuteronomy\, who must choose one of the cats to journey to the Heaviside Layer to be reborn into a new life. \nCats\nWhen: 6-15 March\, 2015\nWhere: The Venetian Theatre\, Venetian Macao\nHow much: MOP$680 (A Reserve)\, MOP$480 (B Reserve) and MOP$280 (C Reserve) from CotaiTicketing\nMore info: Performances are at 8 pm Monday to Friday and 2 pm and 8 pm on Saturday and Sunday (no show on Mar. 9). Tickets go on sale 14 January\, 2015
URL:https://www.bcmagazine.net/event/cats-venetian-macao-6-15-march-2015-8/
LOCATION:Hong Kong
CATEGORIES:Macau,Theatre
END:VEVENT
BEGIN:VEVENT
DTSTART;TZID=Asia/Hong_Kong:20150314T200000
DTEND;TZID=Asia/Hong_Kong:20150314T230000
DTSTAMP:20260421T074008
CREATED:20150313T075724Z
LAST-MODIFIED:20150313T075724Z
UID:10005627-1426363200-1426374000@www.bcmagazine.net
SUMMARY:Polygram Forever Live in Macao @ Venetian - 8pm\, 14 March\, 2015
DESCRIPTION:A group of renowned singers from the music label PolyGram will take the stage at Cotai Arena for a nostalgic night. The star-studded concert will feature some of PolyGram’s most famous singing sensations including Priscilla Chan Wai-han\, Hacken Lee Hak-kan\, Vivian Chow Wai-man\, Albert Au Shui-keung\, Daniel Chan Hiu-tung and Karen Tong Bo-yu. The legends will bring back wonderful memories for their collective legion of fans when they revive some of their greatest hits. \nPolygram Forever Live in Macao\nWhen: 8pm\, 14 March\, 2015\nWhere: Cotai Arena\, Venetian\, Macau\nTickets: $1480\, $1280\, $888\, $680\, $480\, $280 from HKTicketing
URL:https://www.bcmagazine.net/event/polygram-forever-live-in-macao-venetian-8pm-14-march-2015/
LOCATION:CotaiArena\, Venetian Macao\, Taipa\, Macau
CATEGORIES:Concert,concert,Macau,Music,Performing Arts
GEO:22.1483528;113.5602019
X-APPLE-STRUCTURED-LOCATION;VALUE=URI;X-ADDRESS=CotaiArena Venetian Macao Taipa Macau;X-APPLE-RADIUS=500;X-TITLE=Venetian Macao:geo:113.5602019,22.1483528
END:VEVENT
BEGIN:VEVENT
DTSTART;TZID=Asia/Hong_Kong:20150315T200000
DTEND;TZID=Asia/Hong_Kong:20150315T230000
DTSTAMP:20260421T074008
CREATED:20150105T121004Z
LAST-MODIFIED:20150113T121324Z
UID:10005499-1426449600-1426460400@www.bcmagazine.net
SUMMARY:Cats @ Venetian Macao - 6-15 March\, 2015
DESCRIPTION:Cats\, which first opened in London in 1981\, features a musical score composed by the legendary Andrew Lloyd Webber (The Phantom of the Opera\, Joseph and the Amazing Technicolor Dreamcoat\, Jesus Christ Superstar\, Evita\, Starlight Express) that includes the timeless hit song Memory. \nBased on the book of poems Old Possum’s Book of Practical Cats (1939) by T.S. Eliot\, Cats tells the imaginative tale of a tribe of Jellicle cats as they gather together for the annual Jellicle Ball\, and one by one tell their stories for the amusement of Old Deuteronomy\, who must choose one of the cats to journey to the Heaviside Layer to be reborn into a new life. \nCats\nWhen: 6-15 March\, 2015\nWhere: The Venetian Theatre\, Venetian Macao\nHow much: MOP$680 (A Reserve)\, MOP$480 (B Reserve) and MOP$280 (C Reserve) from CotaiTicketing\nMore info: Performances are at 8 pm Monday to Friday and 2 pm and 8 pm on Saturday and Sunday (no show on Mar. 9). Tickets go on sale 14 January\, 2015
URL:https://www.bcmagazine.net/event/cats-venetian-macao-6-15-march-2015-9/
LOCATION:Hong Kong
CATEGORIES:Macau,Theatre
END:VEVENT
BEGIN:VEVENT
DTSTART;TZID=Asia/Hong_Kong:20150321T194500
DTEND;TZID=Asia/Hong_Kong:20150321T230000
DTSTAMP:20260421T074008
CREATED:20150310T101138Z
LAST-MODIFIED:20150316T101848Z
UID:10005642-1426967100-1426978800@www.bcmagazine.net
SUMMARY:Gary Macao Showcase 2015
DESCRIPTION:Korean emcee and singer-songwriter Gary Kang is coming to meet his fans in The Venetian Theatre. Gary is also a member of hip-hop duo\, Leessang and currently a co-host in the hit variety show\, Running Man. \nThe Hong Kong and Guangzhou solo showcases featured female singer\, Jung-In\, who will be perform in Macao. \nGary Macao Showcase 2015\nWhen: 7:45pm\, 21 March\, 2015\nWhere: Venetian Theatre\, Macao\nTickets: $880 from HK Ticketing
URL:https://www.bcmagazine.net/event/gary-macao-showcase-2015/
LOCATION:Hong Kong
CATEGORIES:Concert,Macau,Music,Performing Arts
END:VEVENT
BEGIN:VEVENT
DTSTART;TZID=Asia/Hong_Kong:20150321T200000
DTEND;TZID=Asia/Hong_Kong:20150321T230000
DTSTAMP:20260421T074008
CREATED:20150305T093128Z
LAST-MODIFIED:20150316T093503Z
UID:10005635-1426968000-1426978800@www.bcmagazine.net
SUMMARY:Macau’s Annual Literary Festival\, The Script Road Concert @ CotaiArena - 8pm\, 21 March\, 2015
DESCRIPTION:Macau’s Annual Literary Festival\, The Script Road\, now in its fourth year\, once again promises the city a star-studded musical event\, featuring Hong Kong’s legendary LMF\, the gab-gifted Gabriel o Pensador from Brazil and Macau’s own boisterous Blademark leads the charge.
URL:https://www.bcmagazine.net/event/macaus-annual-literary-festival-the-script-road-concert-cotaiarena-8pm-21-march-2015/
LOCATION:CotaiArena\, Venetian Macao\, Taipa\, Macau
CATEGORIES:Concert,Macau,Music
GEO:22.1483528;113.5602019
X-APPLE-STRUCTURED-LOCATION;VALUE=URI;X-ADDRESS=CotaiArena Venetian Macao Taipa Macau;X-APPLE-RADIUS=500;X-TITLE=Venetian Macao:geo:113.5602019,22.1483528
END:VEVENT
END:VCALENDAR