BEGIN:VCALENDAR
VERSION:2.0
PRODID:-//bc magazine - ECPv6.15.20//NONSGML v1.0//EN
CALSCALE:GREGORIAN
METHOD:PUBLISH
X-ORIGINAL-URL:https://www.bcmagazine.net
X-WR-CALDESC:Events for bc magazine
REFRESH-INTERVAL;VALUE=DURATION:PT1H
X-Robots-Tag:noindex
X-PUBLISHED-TTL:PT1H
BEGIN:VTIMEZONE
TZID:Asia/Hong_Kong
BEGIN:STANDARD
TZOFFSETFROM:+0800
TZOFFSETTO:+0800
TZNAME:HKT
DTSTART:20140101T000000
END:STANDARD
END:VTIMEZONE
BEGIN:VEVENT
DTSTART;TZID=Asia/Hong_Kong:20150402T200000
DTEND;TZID=Asia/Hong_Kong:20150402T210000
DTSTAMP:20260421T161806
CREATED:20150301T103509Z
LAST-MODIFIED:20150302T103534Z
UID:10005620-1428004800-1428008400@www.bcmagazine.net
SUMMARY:Easter Concert ─ German Requiem
DESCRIPTION:Easter Concert ─ German Requiem\nMacao Orchestra with the National Chorus of Korea\nWhen: 8pm\, 2-3 April\, 2015\nWhere: St. Dominic’s Church\nTickets: Admission with free ticket\nMore info: Every Easter\, the Macao Orchestra joins hands with internationally acclaimed singers and vocal ensembles. This year\, the Orchestra presents A German Requiem\, a paramount hymn by illustrious German composer Johannes Brahms. The performance\, conducted by maestro Lü Jia at St. Dominic’s Church\, features the National Chorus of Korea and world famous singers.\nConductor: Lü Jia\,\nSoprano: Katrin Adel\nBass: Wieland Satter\nProgramme:\nBrahms: A German Requiem\, To Words of the Holy Scriptures\, Op. 45
URL:https://www.bcmagazine.net/event/easter-concert-%e2%94%80-german-requiem/
LOCATION:St. Dominic’s Church\, Macau
CATEGORIES:Concert,concert,Macau,Music,Performing Arts
END:VEVENT
BEGIN:VEVENT
DTSTART;TZID=Asia/Hong_Kong:20150403T200000
DTEND;TZID=Asia/Hong_Kong:20150403T200000
DTSTAMP:20260421T161806
CREATED:20150301T103551Z
LAST-MODIFIED:20150302T103806Z
UID:10005621-1428091200-1428091200@www.bcmagazine.net
SUMMARY:Easter Concert ─ German Requiem
DESCRIPTION:Easter Concert ─ German Requiem\nMacao Orchestra with the National Chorus of Korea\nWhen: 8pm\, 2-3 April\, 2015\nWhere: St. Dominic’s Church\nTickets: Admission with free ticket\nMore info: Every Easter\, the Macao Orchestra joins hands with internationally acclaimed singers and vocal ensembles. This year\, the Orchestra presents A German Requiem\, a paramount hymn by illustrious German composer Johannes Brahms. The performance\, conducted by maestro Lü Jia at St. Dominic’s Church\, features the National Chorus of Korea and world famous singers.\nConductor: Lü Jia\,\nSoprano: Katrin Adel\nBass: Wieland Satter\nProgramme:\nBrahms: A German Requiem\, To Words of the Holy Scriptures\, Op. 45
URL:https://www.bcmagazine.net/event/easter-concert-%e2%94%80-german-requiem-2/
LOCATION:St. Dominic’s Church\, Macau
CATEGORIES:Concert,concert,Macau,Music,Performing Arts
END:VEVENT
BEGIN:VEVENT
DTSTART;TZID=Asia/Hong_Kong:20150404T200000
DTEND;TZID=Asia/Hong_Kong:20150404T230000
DTSTAMP:20260421T161806
CREATED:20150403T043416Z
LAST-MODIFIED:20150402T043913Z
UID:10005705-1428177600-1428188400@www.bcmagazine.net
SUMMARY:Sam Hui "What a Wonderful World" 2015 @ Venetian Macau - 4 April\, 2015
DESCRIPTION:Sam Hui “What a Wonderful World” 2015\nWhen: 8pm\, 4 April\, 2015\nWhere: CotaiArena\, Venetian Macau\nTickets: $1080\, $880\, $680\, $480\, $280 from HK Ticketing
URL:https://www.bcmagazine.net/event/sam-hui-what-a-wonderful-world-2015-venetian-macau-4-april-2015/
LOCATION:CotaiArena\, Venetian Macao\, Taipa\, Macau
CATEGORIES:Concert,Macau,Music
GEO:22.1483528;113.5602019
X-APPLE-STRUCTURED-LOCATION;VALUE=URI;X-ADDRESS=CotaiArena Venetian Macao Taipa Macau;X-APPLE-RADIUS=500;X-TITLE=Venetian Macao:geo:113.5602019,22.1483528
END:VEVENT
BEGIN:VEVENT
DTSTART;TZID=Asia/Hong_Kong:20150417T200000
DTEND;TZID=Asia/Hong_Kong:20150417T230000
DTSTAMP:20260421T161806
CREATED:20150301T101956Z
LAST-MODIFIED:20150302T102737Z
UID:10005619-1429300800-1429311600@www.bcmagazine.net
SUMMARY:From the New World
DESCRIPTION:From the New World\nMacao Orchestra – Chamber Music\nWhen: 8pm\, 17 April\, 2015\nWhere: Dom Pedro V Theatre\nTickets: MOP$100 from Macau Ticketing Network\nMore info: 20th century composers have made many new attempts in the modes of chamber music. In this concert\, the Macao Orchestra presents an American-style evening: Summer Music by famous American composer Samuel Barber\, followed by the American\, a classical string quartet by Antonín Dvořák. Significantly influenced by American folk music\, this work was composed by Dvořák whilst sojourning in America.\nProgramme:\nBarber: Summer Music for Wind Quintet\, Op. 31\nFoss: The Cave of the Winds\nDvořák: String Quartet No. 12 in F major\, Op.96 “American”
URL:https://www.bcmagazine.net/event/from-the-new-world/
LOCATION:Dom Pedro V Theatre\, Largo de Santo Agostinho\, Macau
CATEGORIES:Concert,concert,Macau,Music,Performing Arts
GEO:22.1922848;113.5380585
X-APPLE-STRUCTURED-LOCATION;VALUE=URI;X-ADDRESS=Dom Pedro V Theatre Largo de Santo Agostinho Macau;X-APPLE-RADIUS=500;X-TITLE=Largo de Santo Agostinho:geo:113.5380585,22.1922848
END:VEVENT
BEGIN:VEVENT
DTSTART;TZID=Asia/Hong_Kong:20150424T200000
DTEND;TZID=Asia/Hong_Kong:20150424T230000
DTSTAMP:20260421T161806
CREATED:20150301T101906Z
LAST-MODIFIED:20150302T103908Z
UID:10005618-1429905600-1429916400@www.bcmagazine.net
SUMMARY:When Music Speaks
DESCRIPTION:When Music Speaks\nMacao Orchestra\nWhen: 8pm\, 24 April 2015\nWere: Macao Science Center\nTickets:\nMore info:\nConductor: Lü Jia\nProgramme:\nDebussy: Prelúdio à Tarde de um Fauno (Prélude à l’ après-midi d’un faune)\nMozart: Sinfonia Concertante em Mi Bemol Maior\, K. 364\, 2.˚ e 3.˚ andamento\nDebussy: Prelude to the Afternoon of a Faun (Prélude à l’ après-midi d’un faune)\nMozart: Sinfonia Concertante in E-flat Major\, K. 364\, 2nd and 3rd movement \n  \n 
URL:https://www.bcmagazine.net/event/when-music-speaks/
LOCATION:Macao Science Center\, Macau
CATEGORIES:Concert,concert,Macau,Music,Performing Arts
END:VEVENT
BEGIN:VEVENT
DTSTART;TZID=Asia/Hong_Kong:20150424T203000
DTEND;TZID=Asia/Hong_Kong:20150424T230000
DTSTAMP:20260421T161806
CREATED:20150408T065314Z
LAST-MODIFIED:20150408T065314Z
UID:10005719-1429907400-1429916400@www.bcmagazine.net
SUMMARY:Backstreet Boys – In A World Like This Tour @ Venetian Macao - 24 April\, 2015
DESCRIPTION:The Backstreet Boys have added and extra date to their In A World Like This Tour. 8:30pm\, 24 April at CotaiArena\, The Venetian Macao. Tickets will be available to the public via Cotai Ticketing from 10am on 9 April\, 2015. \nBackstreet Boys – In A World Like This Tour Live In Macao\nWhen: 8:30pm\, 24 April 2015 (Friday)\nWhere: CotaiArena\, The Venetian Macao\nTickets: MOP788 (standing)\, MOP988\, 788\, 688\, 588 (seated)\nMore info: tickets on sale 9 April 10:00am from Cotai Ticketing
URL:https://www.bcmagazine.net/event/backstreet-boys-in-a-world-like-this-tour-venetian-macao-24-april-2015/
LOCATION:CotaiArena\, Venetian Macao\, Taipa\, Macau
CATEGORIES:Concert,Macau,Music
GEO:22.1483528;113.5602019
X-APPLE-STRUCTURED-LOCATION;VALUE=URI;X-ADDRESS=CotaiArena Venetian Macao Taipa Macau;X-APPLE-RADIUS=500;X-TITLE=Venetian Macao:geo:113.5602019,22.1483528
END:VEVENT
END:VCALENDAR