BEGIN:VCALENDAR
VERSION:2.0
PRODID:-//bc magazine - ECPv6.15.20//NONSGML v1.0//EN
CALSCALE:GREGORIAN
METHOD:PUBLISH
X-ORIGINAL-URL:https://www.bcmagazine.net
X-WR-CALDESC:Events for bc magazine
REFRESH-INTERVAL;VALUE=DURATION:PT1H
X-Robots-Tag:noindex
X-PUBLISHED-TTL:PT1H
BEGIN:VTIMEZONE
TZID:Asia/Hong_Kong
BEGIN:STANDARD
TZOFFSETFROM:+0800
TZOFFSETTO:+0800
TZNAME:HKT
DTSTART:20140101T000000
END:STANDARD
END:VTIMEZONE
BEGIN:VEVENT
DTSTART;TZID=Asia/Hong_Kong:20151212T200000
DTEND;TZID=Asia/Hong_Kong:20151212T230000
DTSTAMP:20260422T045913
CREATED:19151021T215443Z
LAST-MODIFIED:20151021T215750Z
UID:10000115-1449950400-1449961200@www.bcmagazine.net
SUMMARY:Winterplay
DESCRIPTION:Winterplay\nDate: 8pm\, 12 December\, 2015\nVenue: Macao Cultural Centre\, Grand Auditorium\nTickets: MOP$300\, $250\, $200\, $150 from MacauTicket
URL:https://www.bcmagazine.net/event/winterplay/
LOCATION:Macao Cultural Centre\, Grand Auditorium\, Avenida Xian Xing Hai\, Macau\, Macau
CATEGORIES:2015,Concert,Macau,Music
END:VEVENT
BEGIN:VEVENT
DTSTART;TZID=Asia/Hong_Kong:20151215T200000
DTEND;TZID=Asia/Hong_Kong:20151215T200000
DTSTAMP:20260422T045913
CREATED:19151213T124911Z
LAST-MODIFIED:20151213T125836Z
UID:10000237-1450209600-1450209600@www.bcmagazine.net
SUMMARY:Macao Youth Symphony Orchestra
DESCRIPTION:Macao Youth Symphony Orchestra\nDate: 8pm\, 15 December\, 2015\nVenue: Macao Cultural Centre\, Grand Auditorium\nTickets: Free
URL:https://www.bcmagazine.net/event/art-school-musical-2015/
LOCATION:Macao Cultural Centre\, Grand Auditorium\, Avenida Xian Xing Hai\, Macau\, Macau
CATEGORIES:2015,concert,Concert,Macau,Music,Performing Arts
END:VEVENT
BEGIN:VEVENT
DTSTART;TZID=Asia/Hong_Kong:20151215T200000
DTEND;TZID=Asia/Hong_Kong:20151215T200000
DTSTAMP:20260422T045913
CREATED:19151213T125924Z
LAST-MODIFIED:20151213T130149Z
UID:10000235-1450209600-1450209600@www.bcmagazine.net
SUMMARY:Macau Youth Symphonic Band
DESCRIPTION:Macau Youth Symphonic Band\nDate: 8pm\, 15 December\, 2015\nVenue: Macao Cultural Centre\, Small Auditorium\nTickets: MOP$100
URL:https://www.bcmagazine.net/event/macau-youth-symphonic-band/
LOCATION:Macao Cultural Centre\, Small Auditorium\, Macau
CATEGORIES:2015,concert,Concert,Macau,Music,Performing Arts
END:VEVENT
BEGIN:VEVENT
DTSTART;TZID=Asia/Hong_Kong:20151216T200000
DTEND;TZID=Asia/Hong_Kong:20151216T200000
DTSTAMP:20260422T045913
CREATED:19151213T130204Z
LAST-MODIFIED:20151213T130353Z
UID:10000234-1450296000-1450296000@www.bcmagazine.net
SUMMARY:Macao Philharmonic Orchestra
DESCRIPTION:Macao Philharmonic Orchestra Band\nDate: 8pm\, 16 December\, 2015\nVenue: Macao Cultural Centre\, Small Auditorium\nTickets: Free
URL:https://www.bcmagazine.net/event/macao-philharmonic-orchestra/
LOCATION:Macao Cultural Centre\, Grand Auditorium\, Avenida Xian Xing Hai\, Macau\, Macau
CATEGORIES:2015,concert,Concert,Macau,Music,Performing Arts
END:VEVENT
BEGIN:VEVENT
DTSTART;TZID=Asia/Hong_Kong:20151219T230000
DTEND;TZID=Asia/Hong_Kong:20151220T060000
DTSTAMP:20260422T045913
CREATED:19151212T144051Z
LAST-MODIFIED:20151212T150148Z
UID:10000201-1450566000-1450591200@www.bcmagazine.net
SUMMARY:I Am Hardwell
DESCRIPTION:I Am Hardwell – United We Are\nDate: 19 December\, 2015\nVenue: CotaiArena\nTickets: $1\,180\, $760 from HKTicketing
URL:https://www.bcmagazine.net/event/i-am-hardwell/
LOCATION:CotaiArena\, Venetian Macao\, Taipa\, Macau
CATEGORIES:2015,DJ,Macau,Music
GEO:22.1483528;113.5602019
X-APPLE-STRUCTURED-LOCATION;VALUE=URI;X-ADDRESS=CotaiArena Venetian Macao Taipa Macau;X-APPLE-RADIUS=500;X-TITLE=Venetian Macao:geo:113.5602019,22.1483528
END:VEVENT
BEGIN:VEVENT
DTSTART;TZID=Asia/Hong_Kong:20151230T200000
DTEND;TZID=Asia/Hong_Kong:20151230T200000
DTSTAMP:20260422T045913
CREATED:19151126T133411Z
LAST-MODIFIED:20151126T135354Z
UID:10000180-1451505600-1451505600@www.bcmagazine.net
SUMMARY:Eason Chan
DESCRIPTION:Another Eason’s Life in Macao\nEason Chan\nDate: 30-31 December\, 2015\nVenue: CotaiArena\nTickets: $1\,680\, $1\,280\, $980\, $580\, $380 from HKTicketing
URL:https://www.bcmagazine.net/event/eason-chan-macau-2015/2015-12-30/
LOCATION:CotaiArena\, Venetian Macao\, Taipa\, Macau
CATEGORIES:2015,Concert,Macau,Music,Performing Arts
GEO:22.1483528;113.5602019
X-APPLE-STRUCTURED-LOCATION;VALUE=URI;X-ADDRESS=CotaiArena Venetian Macao Taipa Macau;X-APPLE-RADIUS=500;X-TITLE=Venetian Macao:geo:113.5602019,22.1483528
END:VEVENT
BEGIN:VEVENT
DTSTART;TZID=Asia/Hong_Kong:20151230T200000
DTEND;TZID=Asia/Hong_Kong:20151230T200000
DTSTAMP:20260422T045913
CREATED:19151213T130452Z
LAST-MODIFIED:20151213T130841Z
UID:10000233-1451505600-1451505600@www.bcmagazine.net
SUMMARY:Starry Vienna
DESCRIPTION:Starry Vienna\nMacao Orchestra\nDate: 8pm\, 30 December\, 2015\nVenue: Macao Cultural Centre\, Grand Auditorium\nTickets: MOP$350\, $300\, $200\, $150 from MacauTicket
URL:https://www.bcmagazine.net/event/starry-vienna/
LOCATION:Macao Cultural Centre\, Grand Auditorium\, Avenida Xian Xing Hai\, Macau\, Macau
CATEGORIES:2015,concert,Concert,Macau,Music,Performing Arts
END:VEVENT
END:VCALENDAR