BEGIN:VCALENDAR
VERSION:2.0
PRODID:-//bc magazine - ECPv6.15.20//NONSGML v1.0//EN
CALSCALE:GREGORIAN
METHOD:PUBLISH
X-WR-CALNAME:bc magazine
X-ORIGINAL-URL:https://www.bcmagazine.net
X-WR-CALDESC:Events for bc magazine
REFRESH-INTERVAL;VALUE=DURATION:PT1H
X-Robots-Tag:noindex
X-PUBLISHED-TTL:PT1H
BEGIN:VTIMEZONE
TZID:Asia/Hong_Kong
BEGIN:STANDARD
TZOFFSETFROM:+0800
TZOFFSETTO:+0800
TZNAME:HKT
DTSTART:20150101T000000
END:STANDARD
END:VTIMEZONE
BEGIN:VEVENT
DTSTART;TZID=Asia/Hong_Kong:20160802T200000
DTEND;TZID=Asia/Hong_Kong:20160802T200000
DTSTAMP:20260423T085909
CREATED:19160525T081121Z
LAST-MODIFIED:20160525T083605Z
UID:10001617-1470168000-1470168000@www.bcmagazine.net
SUMMARY:Shrek
DESCRIPTION:Shrek The Musical\nDate: 22 July – 7 August\, 2016\nVenue: Venetian Theatre\, Macau\nTickets: $780\, $580\, $380\, $180 from HKTicketing\nMore info:\nMon: No Show; Tue – Fri: 8pm; Sat: 2pm & 8pm; Sun: 1pm & 6pm
URL:https://www.bcmagazine.net/event/shrek-musical-macau-2016/2016-08-02/
LOCATION:The Venetian Theatre\, Venetian Macao\, Taipa\, Macau
CATEGORIES:2016,Macau,Musical
GEO:22.1483528;113.5602019
X-APPLE-STRUCTURED-LOCATION;VALUE=URI;X-ADDRESS=The Venetian Theatre Venetian Macao Taipa Macau;X-APPLE-RADIUS=500;X-TITLE=Venetian Macao:geo:113.5602019,22.1483528
END:VEVENT
BEGIN:VEVENT
DTSTART;TZID=Asia/Hong_Kong:20160803T200000
DTEND;TZID=Asia/Hong_Kong:20160803T200000
DTSTAMP:20260423T085909
CREATED:19160525T081121Z
LAST-MODIFIED:20160525T083605Z
UID:10001618-1470254400-1470254400@www.bcmagazine.net
SUMMARY:Shrek
DESCRIPTION:Shrek The Musical\nDate: 22 July – 7 August\, 2016\nVenue: Venetian Theatre\, Macau\nTickets: $780\, $580\, $380\, $180 from HKTicketing\nMore info:\nMon: No Show; Tue – Fri: 8pm; Sat: 2pm & 8pm; Sun: 1pm & 6pm
URL:https://www.bcmagazine.net/event/shrek-musical-macau-2016/2016-08-03/
LOCATION:The Venetian Theatre\, Venetian Macao\, Taipa\, Macau
CATEGORIES:2016,Macau,Musical
GEO:22.1483528;113.5602019
X-APPLE-STRUCTURED-LOCATION;VALUE=URI;X-ADDRESS=The Venetian Theatre Venetian Macao Taipa Macau;X-APPLE-RADIUS=500;X-TITLE=Venetian Macao:geo:113.5602019,22.1483528
END:VEVENT
BEGIN:VEVENT
DTSTART;TZID=Asia/Hong_Kong:20160804T200000
DTEND;TZID=Asia/Hong_Kong:20160804T200000
DTSTAMP:20260423T085909
CREATED:19160525T081121Z
LAST-MODIFIED:20160525T083605Z
UID:10001619-1470340800-1470340800@www.bcmagazine.net
SUMMARY:Shrek
DESCRIPTION:Shrek The Musical\nDate: 22 July – 7 August\, 2016\nVenue: Venetian Theatre\, Macau\nTickets: $780\, $580\, $380\, $180 from HKTicketing\nMore info:\nMon: No Show; Tue – Fri: 8pm; Sat: 2pm & 8pm; Sun: 1pm & 6pm
URL:https://www.bcmagazine.net/event/shrek-musical-macau-2016/2016-08-04/
LOCATION:The Venetian Theatre\, Venetian Macao\, Taipa\, Macau
CATEGORIES:2016,Macau,Musical
GEO:22.1483528;113.5602019
X-APPLE-STRUCTURED-LOCATION;VALUE=URI;X-ADDRESS=The Venetian Theatre Venetian Macao Taipa Macau;X-APPLE-RADIUS=500;X-TITLE=Venetian Macao:geo:113.5602019,22.1483528
END:VEVENT
BEGIN:VEVENT
DTSTART;TZID=Asia/Hong_Kong:20160805T200000
DTEND;TZID=Asia/Hong_Kong:20160805T200000
DTSTAMP:20260423T085909
CREATED:19160525T081121Z
LAST-MODIFIED:20160525T083605Z
UID:10001620-1470427200-1470427200@www.bcmagazine.net
SUMMARY:Shrek
DESCRIPTION:Shrek The Musical\nDate: 22 July – 7 August\, 2016\nVenue: Venetian Theatre\, Macau\nTickets: $780\, $580\, $380\, $180 from HKTicketing\nMore info:\nMon: No Show; Tue – Fri: 8pm; Sat: 2pm & 8pm; Sun: 1pm & 6pm
URL:https://www.bcmagazine.net/event/shrek-musical-macau-2016/2016-08-05/
LOCATION:The Venetian Theatre\, Venetian Macao\, Taipa\, Macau
CATEGORIES:2016,Macau,Musical
GEO:22.1483528;113.5602019
X-APPLE-STRUCTURED-LOCATION;VALUE=URI;X-ADDRESS=The Venetian Theatre Venetian Macao Taipa Macau;X-APPLE-RADIUS=500;X-TITLE=Venetian Macao:geo:113.5602019,22.1483528
END:VEVENT
BEGIN:VEVENT
DTSTART;TZID=Asia/Hong_Kong:20160806T200000
DTEND;TZID=Asia/Hong_Kong:20160806T200000
DTSTAMP:20260423T085909
CREATED:19160525T081121Z
LAST-MODIFIED:20160525T083605Z
UID:10001621-1470513600-1470513600@www.bcmagazine.net
SUMMARY:Shrek
DESCRIPTION:Shrek The Musical\nDate: 22 July – 7 August\, 2016\nVenue: Venetian Theatre\, Macau\nTickets: $780\, $580\, $380\, $180 from HKTicketing\nMore info:\nMon: No Show; Tue – Fri: 8pm; Sat: 2pm & 8pm; Sun: 1pm & 6pm
URL:https://www.bcmagazine.net/event/shrek-musical-macau-2016/2016-08-06/
LOCATION:The Venetian Theatre\, Venetian Macao\, Taipa\, Macau
CATEGORIES:2016,Macau,Musical
GEO:22.1483528;113.5602019
X-APPLE-STRUCTURED-LOCATION;VALUE=URI;X-ADDRESS=The Venetian Theatre Venetian Macao Taipa Macau;X-APPLE-RADIUS=500;X-TITLE=Venetian Macao:geo:113.5602019,22.1483528
END:VEVENT
BEGIN:VEVENT
DTSTART;TZID=Asia/Hong_Kong:20160807T200000
DTEND;TZID=Asia/Hong_Kong:20160807T200000
DTSTAMP:20260423T085909
CREATED:20230114T085530Z
LAST-MODIFIED:20230114T085530Z
UID:10001624-1470600000-1470600000@www.bcmagazine.net
SUMMARY:Shrek
DESCRIPTION:Shrek The Musical\nDate: 22 July – 7 August\, 2016\nVenue: Venetian Theatre\, Macau\nTickets: $780\, $580\, $380\, $180 from HKTicketing\nMore info:\nMon: No Show; Tue – Fri: 8pm; Sat: 2pm & 8pm; Sun: 1pm & 6pm
URL:https://www.bcmagazine.net/event/shrek-musical-macau-2016/2016-08-07/
LOCATION:The Venetian Theatre\, Venetian Macao\, Taipa\, Macau
CATEGORIES:2016,Macau,Musical
GEO:22.1483528;113.5602019
X-APPLE-STRUCTURED-LOCATION;VALUE=URI;X-ADDRESS=The Venetian Theatre Venetian Macao Taipa Macau;X-APPLE-RADIUS=500;X-TITLE=Venetian Macao:geo:113.5602019,22.1483528
END:VEVENT
BEGIN:VEVENT
DTSTART;TZID=Asia/Hong_Kong:20160811T200000
DTEND;TZID=Asia/Hong_Kong:20160811T200000
DTSTAMP:20260423T085909
CREATED:19160525T082838Z
LAST-MODIFIED:20160525T085222Z
UID:10001625-1470945600-1470945600@www.bcmagazine.net
SUMMARY:Blue Man
DESCRIPTION:Blue Man Group\nDate: 11-28 August\, 2016\nVenue: Venetian Theatre\, Macau\nTickets: $880\, $680\, $380 from HKTicketing\nMore info:\nMon: No Show; Tue – Fri: 8pm; Sat: 5pm & 8pm; Sun: 2pm & 5pm
URL:https://www.bcmagazine.net/event/blue-man-macau-2016/2016-08-11/
LOCATION:The Venetian Theatre\, Venetian Macao\, Taipa\, Macau
CATEGORIES:2016,Macau,Performing Arts,Theatre
GEO:22.1483528;113.5602019
X-APPLE-STRUCTURED-LOCATION;VALUE=URI;X-ADDRESS=The Venetian Theatre Venetian Macao Taipa Macau;X-APPLE-RADIUS=500;X-TITLE=Venetian Macao:geo:113.5602019,22.1483528
END:VEVENT
BEGIN:VEVENT
DTSTART;TZID=Asia/Hong_Kong:20160812T200000
DTEND;TZID=Asia/Hong_Kong:20160812T200000
DTSTAMP:20260423T085909
CREATED:19160525T082838Z
LAST-MODIFIED:20160525T085222Z
UID:10001626-1471032000-1471032000@www.bcmagazine.net
SUMMARY:Blue Man
DESCRIPTION:Blue Man Group\nDate: 11-28 August\, 2016\nVenue: Venetian Theatre\, Macau\nTickets: $880\, $680\, $380 from HKTicketing\nMore info:\nMon: No Show; Tue – Fri: 8pm; Sat: 5pm & 8pm; Sun: 2pm & 5pm
URL:https://www.bcmagazine.net/event/blue-man-macau-2016/2016-08-12/
LOCATION:The Venetian Theatre\, Venetian Macao\, Taipa\, Macau
CATEGORIES:2016,Macau,Performing Arts,Theatre
GEO:22.1483528;113.5602019
X-APPLE-STRUCTURED-LOCATION;VALUE=URI;X-ADDRESS=The Venetian Theatre Venetian Macao Taipa Macau;X-APPLE-RADIUS=500;X-TITLE=Venetian Macao:geo:113.5602019,22.1483528
END:VEVENT
BEGIN:VEVENT
DTSTART;TZID=Asia/Hong_Kong:20160813T190000
DTEND;TZID=Asia/Hong_Kong:20160813T190000
DTSTAMP:20260423T085909
CREATED:20160807T103856Z
LAST-MODIFIED:20160808T142851Z
UID:10006125-1471114800-1471114800@www.bcmagazine.net
SUMMARY:One Championship
DESCRIPTION:MMA siblings Angela and Christian Lee are in town this week to promote the upcoming One Championship Heroes of the World at the Cotai Arena on the 13 August. Older sister Angela fresh off defeating Mei Yamaguchi to become the Atomweight World Champion is here to support her younger brother who at just 18 years old is looking to take his record to 6-0\, after winning his first five cage fights inside the first round.\n\nOne Championship’s debut fight night in Macau features 10 bouts of MMA in the cage and a grapple competition open to men and women of relevant experience.\n\nOne Championship – Heroes of the World\nDate: 7pm\, 13 August\, 2016\nVenue: Cotai Arena\nTickets: $880\, $380\, $180 from HKTicketing
URL:https://www.bcmagazine.net/event/one-championship/
LOCATION:CotaiArena\, Venetian Macao\, Taipa\, Macau
CATEGORIES:2016,Macau,Sport
GEO:22.1483528;113.5602019
X-APPLE-STRUCTURED-LOCATION;VALUE=URI;X-ADDRESS=CotaiArena Venetian Macao Taipa Macau;X-APPLE-RADIUS=500;X-TITLE=Venetian Macao:geo:113.5602019,22.1483528
END:VEVENT
BEGIN:VEVENT
DTSTART;TZID=Asia/Hong_Kong:20160813T200000
DTEND;TZID=Asia/Hong_Kong:20160813T200000
DTSTAMP:20260423T085909
CREATED:19160525T082838Z
LAST-MODIFIED:20160525T085222Z
UID:10001627-1471118400-1471118400@www.bcmagazine.net
SUMMARY:Blue Man
DESCRIPTION:Blue Man Group\nDate: 11-28 August\, 2016\nVenue: Venetian Theatre\, Macau\nTickets: $880\, $680\, $380 from HKTicketing\nMore info:\nMon: No Show; Tue – Fri: 8pm; Sat: 5pm & 8pm; Sun: 2pm & 5pm
URL:https://www.bcmagazine.net/event/blue-man-macau-2016/2016-08-13/
LOCATION:The Venetian Theatre\, Venetian Macao\, Taipa\, Macau
CATEGORIES:2016,Macau,Performing Arts,Theatre
GEO:22.1483528;113.5602019
X-APPLE-STRUCTURED-LOCATION;VALUE=URI;X-ADDRESS=The Venetian Theatre Venetian Macao Taipa Macau;X-APPLE-RADIUS=500;X-TITLE=Venetian Macao:geo:113.5602019,22.1483528
END:VEVENT
BEGIN:VEVENT
DTSTART;TZID=Asia/Hong_Kong:20160814T200000
DTEND;TZID=Asia/Hong_Kong:20160814T200000
DTSTAMP:20260423T085909
CREATED:20230114T085537Z
LAST-MODIFIED:20230114T085537Z
UID:10001638-1471204800-1471204800@www.bcmagazine.net
SUMMARY:Blue Man
DESCRIPTION:Blue Man Group\nDate: 11-28 August\, 2016\nVenue: Venetian Theatre\, Macau\nTickets: $880\, $680\, $380 from HKTicketing\nMore info:\nMon: No Show; Tue – Fri: 8pm; Sat: 5pm & 8pm; Sun: 2pm & 5pm
URL:https://www.bcmagazine.net/event/blue-man-macau-2016/2016-08-14/
LOCATION:The Venetian Theatre\, Venetian Macao\, Taipa\, Macau
CATEGORIES:2016,Macau,Performing Arts,Theatre
GEO:22.1483528;113.5602019
X-APPLE-STRUCTURED-LOCATION;VALUE=URI;X-ADDRESS=The Venetian Theatre Venetian Macao Taipa Macau;X-APPLE-RADIUS=500;X-TITLE=Venetian Macao:geo:113.5602019,22.1483528
END:VEVENT
BEGIN:VEVENT
DTSTART;TZID=Asia/Hong_Kong:20160816T200000
DTEND;TZID=Asia/Hong_Kong:20160816T200000
DTSTAMP:20260423T085909
CREATED:19160525T082838Z
LAST-MODIFIED:20160525T085222Z
UID:10001628-1471377600-1471377600@www.bcmagazine.net
SUMMARY:Blue Man
DESCRIPTION:Blue Man Group\nDate: 11-28 August\, 2016\nVenue: Venetian Theatre\, Macau\nTickets: $880\, $680\, $380 from HKTicketing\nMore info:\nMon: No Show; Tue – Fri: 8pm; Sat: 5pm & 8pm; Sun: 2pm & 5pm
URL:https://www.bcmagazine.net/event/blue-man-macau-2016/2016-08-16/
LOCATION:The Venetian Theatre\, Venetian Macao\, Taipa\, Macau
CATEGORIES:2016,Macau,Performing Arts,Theatre
GEO:22.1483528;113.5602019
X-APPLE-STRUCTURED-LOCATION;VALUE=URI;X-ADDRESS=The Venetian Theatre Venetian Macao Taipa Macau;X-APPLE-RADIUS=500;X-TITLE=Venetian Macao:geo:113.5602019,22.1483528
END:VEVENT
BEGIN:VEVENT
DTSTART;TZID=Asia/Hong_Kong:20160817T200000
DTEND;TZID=Asia/Hong_Kong:20160817T200000
DTSTAMP:20260423T085909
CREATED:19160525T082838Z
LAST-MODIFIED:20160525T085222Z
UID:10001629-1471464000-1471464000@www.bcmagazine.net
SUMMARY:Blue Man
DESCRIPTION:Blue Man Group\nDate: 11-28 August\, 2016\nVenue: Venetian Theatre\, Macau\nTickets: $880\, $680\, $380 from HKTicketing\nMore info:\nMon: No Show; Tue – Fri: 8pm; Sat: 5pm & 8pm; Sun: 2pm & 5pm
URL:https://www.bcmagazine.net/event/blue-man-macau-2016/2016-08-17/
LOCATION:The Venetian Theatre\, Venetian Macao\, Taipa\, Macau
CATEGORIES:2016,Macau,Performing Arts,Theatre
GEO:22.1483528;113.5602019
X-APPLE-STRUCTURED-LOCATION;VALUE=URI;X-ADDRESS=The Venetian Theatre Venetian Macao Taipa Macau;X-APPLE-RADIUS=500;X-TITLE=Venetian Macao:geo:113.5602019,22.1483528
END:VEVENT
BEGIN:VEVENT
DTSTART;TZID=Asia/Hong_Kong:20160818T200000
DTEND;TZID=Asia/Hong_Kong:20160818T200000
DTSTAMP:20260423T085909
CREATED:19160525T082838Z
LAST-MODIFIED:20160525T085222Z
UID:10001630-1471550400-1471550400@www.bcmagazine.net
SUMMARY:Blue Man
DESCRIPTION:Blue Man Group\nDate: 11-28 August\, 2016\nVenue: Venetian Theatre\, Macau\nTickets: $880\, $680\, $380 from HKTicketing\nMore info:\nMon: No Show; Tue – Fri: 8pm; Sat: 5pm & 8pm; Sun: 2pm & 5pm
URL:https://www.bcmagazine.net/event/blue-man-macau-2016/2016-08-18/
LOCATION:The Venetian Theatre\, Venetian Macao\, Taipa\, Macau
CATEGORIES:2016,Macau,Performing Arts,Theatre
GEO:22.1483528;113.5602019
X-APPLE-STRUCTURED-LOCATION;VALUE=URI;X-ADDRESS=The Venetian Theatre Venetian Macao Taipa Macau;X-APPLE-RADIUS=500;X-TITLE=Venetian Macao:geo:113.5602019,22.1483528
END:VEVENT
BEGIN:VEVENT
DTSTART;TZID=Asia/Hong_Kong:20160819T200000
DTEND;TZID=Asia/Hong_Kong:20160819T200000
DTSTAMP:20260423T085909
CREATED:19160525T082838Z
LAST-MODIFIED:20160525T085222Z
UID:10001631-1471636800-1471636800@www.bcmagazine.net
SUMMARY:Blue Man
DESCRIPTION:Blue Man Group\nDate: 11-28 August\, 2016\nVenue: Venetian Theatre\, Macau\nTickets: $880\, $680\, $380 from HKTicketing\nMore info:\nMon: No Show; Tue – Fri: 8pm; Sat: 5pm & 8pm; Sun: 2pm & 5pm
URL:https://www.bcmagazine.net/event/blue-man-macau-2016/2016-08-19/
LOCATION:The Venetian Theatre\, Venetian Macao\, Taipa\, Macau
CATEGORIES:2016,Macau,Performing Arts,Theatre
GEO:22.1483528;113.5602019
X-APPLE-STRUCTURED-LOCATION;VALUE=URI;X-ADDRESS=The Venetian Theatre Venetian Macao Taipa Macau;X-APPLE-RADIUS=500;X-TITLE=Venetian Macao:geo:113.5602019,22.1483528
END:VEVENT
BEGIN:VEVENT
DTSTART;TZID=Asia/Hong_Kong:20160820T200000
DTEND;TZID=Asia/Hong_Kong:20160820T200000
DTSTAMP:20260423T085909
CREATED:19160525T082838Z
LAST-MODIFIED:20160525T085222Z
UID:10001632-1471723200-1471723200@www.bcmagazine.net
SUMMARY:Blue Man
DESCRIPTION:Blue Man Group\nDate: 11-28 August\, 2016\nVenue: Venetian Theatre\, Macau\nTickets: $880\, $680\, $380 from HKTicketing\nMore info:\nMon: No Show; Tue – Fri: 8pm; Sat: 5pm & 8pm; Sun: 2pm & 5pm
URL:https://www.bcmagazine.net/event/blue-man-macau-2016/2016-08-20/
LOCATION:The Venetian Theatre\, Venetian Macao\, Taipa\, Macau
CATEGORIES:2016,Macau,Performing Arts,Theatre
GEO:22.1483528;113.5602019
X-APPLE-STRUCTURED-LOCATION;VALUE=URI;X-ADDRESS=The Venetian Theatre Venetian Macao Taipa Macau;X-APPLE-RADIUS=500;X-TITLE=Venetian Macao:geo:113.5602019,22.1483528
END:VEVENT
BEGIN:VEVENT
DTSTART;TZID=Asia/Hong_Kong:20160821T200000
DTEND;TZID=Asia/Hong_Kong:20160821T200000
DTSTAMP:20260423T085909
CREATED:20230114T085537Z
LAST-MODIFIED:20230114T085537Z
UID:10001639-1471809600-1471809600@www.bcmagazine.net
SUMMARY:Blue Man
DESCRIPTION:Blue Man Group\nDate: 11-28 August\, 2016\nVenue: Venetian Theatre\, Macau\nTickets: $880\, $680\, $380 from HKTicketing\nMore info:\nMon: No Show; Tue – Fri: 8pm; Sat: 5pm & 8pm; Sun: 2pm & 5pm
URL:https://www.bcmagazine.net/event/blue-man-macau-2016/2016-08-21/
LOCATION:The Venetian Theatre\, Venetian Macao\, Taipa\, Macau
CATEGORIES:2016,Macau,Performing Arts,Theatre
GEO:22.1483528;113.5602019
X-APPLE-STRUCTURED-LOCATION;VALUE=URI;X-ADDRESS=The Venetian Theatre Venetian Macao Taipa Macau;X-APPLE-RADIUS=500;X-TITLE=Venetian Macao:geo:113.5602019,22.1483528
END:VEVENT
BEGIN:VEVENT
DTSTART;TZID=Asia/Hong_Kong:20160823T200000
DTEND;TZID=Asia/Hong_Kong:20160823T200000
DTSTAMP:20260423T085909
CREATED:19160525T082838Z
LAST-MODIFIED:20160525T085222Z
UID:10001633-1471982400-1471982400@www.bcmagazine.net
SUMMARY:Blue Man
DESCRIPTION:Blue Man Group\nDate: 11-28 August\, 2016\nVenue: Venetian Theatre\, Macau\nTickets: $880\, $680\, $380 from HKTicketing\nMore info:\nMon: No Show; Tue – Fri: 8pm; Sat: 5pm & 8pm; Sun: 2pm & 5pm
URL:https://www.bcmagazine.net/event/blue-man-macau-2016/2016-08-23/
LOCATION:The Venetian Theatre\, Venetian Macao\, Taipa\, Macau
CATEGORIES:2016,Macau,Performing Arts,Theatre
GEO:22.1483528;113.5602019
X-APPLE-STRUCTURED-LOCATION;VALUE=URI;X-ADDRESS=The Venetian Theatre Venetian Macao Taipa Macau;X-APPLE-RADIUS=500;X-TITLE=Venetian Macao:geo:113.5602019,22.1483528
END:VEVENT
BEGIN:VEVENT
DTSTART;TZID=Asia/Hong_Kong:20160824T200000
DTEND;TZID=Asia/Hong_Kong:20160824T200000
DTSTAMP:20260423T085909
CREATED:19160525T082838Z
LAST-MODIFIED:20160525T085222Z
UID:10001634-1472068800-1472068800@www.bcmagazine.net
SUMMARY:Blue Man
DESCRIPTION:Blue Man Group\nDate: 11-28 August\, 2016\nVenue: Venetian Theatre\, Macau\nTickets: $880\, $680\, $380 from HKTicketing\nMore info:\nMon: No Show; Tue – Fri: 8pm; Sat: 5pm & 8pm; Sun: 2pm & 5pm
URL:https://www.bcmagazine.net/event/blue-man-macau-2016/2016-08-24/
LOCATION:The Venetian Theatre\, Venetian Macao\, Taipa\, Macau
CATEGORIES:2016,Macau,Performing Arts,Theatre
GEO:22.1483528;113.5602019
X-APPLE-STRUCTURED-LOCATION;VALUE=URI;X-ADDRESS=The Venetian Theatre Venetian Macao Taipa Macau;X-APPLE-RADIUS=500;X-TITLE=Venetian Macao:geo:113.5602019,22.1483528
END:VEVENT
BEGIN:VEVENT
DTSTART;TZID=Asia/Hong_Kong:20160825T200000
DTEND;TZID=Asia/Hong_Kong:20160825T200000
DTSTAMP:20260423T085909
CREATED:19160525T082838Z
LAST-MODIFIED:20160525T085222Z
UID:10001635-1472155200-1472155200@www.bcmagazine.net
SUMMARY:Blue Man
DESCRIPTION:Blue Man Group\nDate: 11-28 August\, 2016\nVenue: Venetian Theatre\, Macau\nTickets: $880\, $680\, $380 from HKTicketing\nMore info:\nMon: No Show; Tue – Fri: 8pm; Sat: 5pm & 8pm; Sun: 2pm & 5pm
URL:https://www.bcmagazine.net/event/blue-man-macau-2016/2016-08-25/
LOCATION:The Venetian Theatre\, Venetian Macao\, Taipa\, Macau
CATEGORIES:2016,Macau,Performing Arts,Theatre
GEO:22.1483528;113.5602019
X-APPLE-STRUCTURED-LOCATION;VALUE=URI;X-ADDRESS=The Venetian Theatre Venetian Macao Taipa Macau;X-APPLE-RADIUS=500;X-TITLE=Venetian Macao:geo:113.5602019,22.1483528
END:VEVENT
BEGIN:VEVENT
DTSTART;TZID=Asia/Hong_Kong:20160826T200000
DTEND;TZID=Asia/Hong_Kong:20160826T200000
DTSTAMP:20260423T085909
CREATED:19160525T082838Z
LAST-MODIFIED:20160525T085222Z
UID:10001636-1472241600-1472241600@www.bcmagazine.net
SUMMARY:Blue Man
DESCRIPTION:Blue Man Group\nDate: 11-28 August\, 2016\nVenue: Venetian Theatre\, Macau\nTickets: $880\, $680\, $380 from HKTicketing\nMore info:\nMon: No Show; Tue – Fri: 8pm; Sat: 5pm & 8pm; Sun: 2pm & 5pm
URL:https://www.bcmagazine.net/event/blue-man-macau-2016/2016-08-26/
LOCATION:The Venetian Theatre\, Venetian Macao\, Taipa\, Macau
CATEGORIES:2016,Macau,Performing Arts,Theatre
GEO:22.1483528;113.5602019
X-APPLE-STRUCTURED-LOCATION;VALUE=URI;X-ADDRESS=The Venetian Theatre Venetian Macao Taipa Macau;X-APPLE-RADIUS=500;X-TITLE=Venetian Macao:geo:113.5602019,22.1483528
END:VEVENT
BEGIN:VEVENT
DTSTART;TZID=Asia/Hong_Kong:20160827T200000
DTEND;TZID=Asia/Hong_Kong:20160827T200000
DTSTAMP:20260423T085909
CREATED:19160525T082838Z
LAST-MODIFIED:20160525T085222Z
UID:10001637-1472328000-1472328000@www.bcmagazine.net
SUMMARY:Blue Man
DESCRIPTION:Blue Man Group\nDate: 11-28 August\, 2016\nVenue: Venetian Theatre\, Macau\nTickets: $880\, $680\, $380 from HKTicketing\nMore info:\nMon: No Show; Tue – Fri: 8pm; Sat: 5pm & 8pm; Sun: 2pm & 5pm
URL:https://www.bcmagazine.net/event/blue-man-macau-2016/2016-08-27/
LOCATION:The Venetian Theatre\, Venetian Macao\, Taipa\, Macau
CATEGORIES:2016,Macau,Performing Arts,Theatre
GEO:22.1483528;113.5602019
X-APPLE-STRUCTURED-LOCATION;VALUE=URI;X-ADDRESS=The Venetian Theatre Venetian Macao Taipa Macau;X-APPLE-RADIUS=500;X-TITLE=Venetian Macao:geo:113.5602019,22.1483528
END:VEVENT
BEGIN:VEVENT
DTSTART;TZID=Asia/Hong_Kong:20160828T200000
DTEND;TZID=Asia/Hong_Kong:20160828T200000
DTSTAMP:20260423T085909
CREATED:20230114T085537Z
LAST-MODIFIED:20230114T085537Z
UID:10001640-1472414400-1472414400@www.bcmagazine.net
SUMMARY:Blue Man
DESCRIPTION:Blue Man Group\nDate: 11-28 August\, 2016\nVenue: Venetian Theatre\, Macau\nTickets: $880\, $680\, $380 from HKTicketing\nMore info:\nMon: No Show; Tue – Fri: 8pm; Sat: 5pm & 8pm; Sun: 2pm & 5pm
URL:https://www.bcmagazine.net/event/blue-man-macau-2016/2016-08-28/
LOCATION:The Venetian Theatre\, Venetian Macao\, Taipa\, Macau
CATEGORIES:2016,Macau,Performing Arts,Theatre
GEO:22.1483528;113.5602019
X-APPLE-STRUCTURED-LOCATION;VALUE=URI;X-ADDRESS=The Venetian Theatre Venetian Macao Taipa Macau;X-APPLE-RADIUS=500;X-TITLE=Venetian Macao:geo:113.5602019,22.1483528
END:VEVENT
END:VCALENDAR