BEGIN:VCALENDAR
VERSION:2.0
PRODID:-//bc magazine - ECPv6.15.20//NONSGML v1.0//EN
CALSCALE:GREGORIAN
METHOD:PUBLISH
X-WR-CALNAME:bc magazine
X-ORIGINAL-URL:https://www.bcmagazine.net
X-WR-CALDESC:Events for bc magazine
REFRESH-INTERVAL;VALUE=DURATION:PT1H
X-Robots-Tag:noindex
X-PUBLISHED-TTL:PT1H
BEGIN:VTIMEZONE
TZID:Asia/Hong_Kong
BEGIN:STANDARD
TZOFFSETFROM:+0800
TZOFFSETTO:+0800
TZNAME:HKT
DTSTART:20150101T000000
END:STANDARD
END:VTIMEZONE
BEGIN:VEVENT
DTSTART;TZID=Asia/Hong_Kong:20161103T200000
DTEND;TZID=Asia/Hong_Kong:20161103T200000
DTSTAMP:20260424T031125
CREATED:19161017T172755Z
LAST-MODIFIED:20161017T173533Z
UID:10000905-1478203200-1478203200@www.bcmagazine.net
SUMMARY:Carmen
DESCRIPTION:Carmen\nSpain National Dance Company\nDate: 8pm\, 3-4 November\, 2016\nVenue: Macao Cultural Centre\, Grand Auditorium\nTickets: $300\, $250\, $200\, $150 from MacauTicket
URL:https://www.bcmagazine.net/event/carmen-macau-2016/2016-11-03/
LOCATION:Macao Cultural Centre\, Grand Auditorium\, Avenida Xian Xing Hai\, Macau\, Macau
CATEGORIES:2016,Dance,Macau,Performing Arts
END:VEVENT
BEGIN:VEVENT
DTSTART;TZID=Asia/Hong_Kong:20161105T200000
DTEND;TZID=Asia/Hong_Kong:20161105T200000
DTSTAMP:20260424T031125
CREATED:19161017T165123Z
LAST-MODIFIED:20161017T165341Z
UID:10000895-1478376000-1478376000@www.bcmagazine.net
SUMMARY:Jin Akanishi
DESCRIPTION:Jin Akanishi – Audio Fashion\nDate: 8pm\, 5 November\, 2016\nVenue: CotaiArena\nTickets: $1\,680\, $1\,280\, $880\, $480 from CotaiTicketing
URL:https://www.bcmagazine.net/event/jin-akanishi-macau-2016/
LOCATION:CotaiArena\, Venetian Macao\, Taipa\, Macau
CATEGORIES:2016,Concert,Macau,Music
GEO:22.1483528;113.5602019
X-APPLE-STRUCTURED-LOCATION;VALUE=URI;X-ADDRESS=CotaiArena Venetian Macao Taipa Macau;X-APPLE-RADIUS=500;X-TITLE=Venetian Macao:geo:113.5602019,22.1483528
END:VEVENT
BEGIN:VEVENT
DTSTART;TZID=Asia/Hong_Kong:20161112T200000
DTEND;TZID=Asia/Hong_Kong:20161112T200000
DTSTAMP:20260424T031125
CREATED:19161017T170224Z
LAST-MODIFIED:20161017T170827Z
UID:10000899-1478980800-1478980800@www.bcmagazine.net
SUMMARY:Lala + Faith
DESCRIPTION:LaLa Hsu + Faith Yang\nDate: 8pm\, 12 November\, 2016\nVenue: Studio City Event Centre\nTickets: $980\, $780\, $580\, $380
URL:https://www.bcmagazine.net/event/lala-faith-macau-2016/
LOCATION:Studio City\, Estrada do Istmo\, Cotai\, Macau
CATEGORIES:2016,Concert,Macau,Music
GEO:22.1397693;113.5632663
X-APPLE-STRUCTURED-LOCATION;VALUE=URI;X-ADDRESS=Studio City Estrada do Istmo Cotai Macau;X-APPLE-RADIUS=500;X-TITLE=Estrada do Istmo:geo:113.5632663,22.1397693
END:VEVENT
BEGIN:VEVENT
DTSTART;VALUE=DATE:20161117
DTEND;VALUE=DATE:20161121
DTSTAMP:20260424T031125
CREATED:19161017T171300Z
LAST-MODIFIED:20161017T172041Z
UID:10000901-1479340800-1479686399@www.bcmagazine.net
SUMMARY:Macau Grand Prix
DESCRIPTION:63rd Macau Grand Prix\nDate: 17-20 November\, 2016\nVenue: Guia Circuit\, Macau\nTickets: $900\, $550\, $350\, $130\, $50 from MacauTicket
URL:https://www.bcmagazine.net/event/macau-grand-prix-2016/
LOCATION:Macau\, Macau
CATEGORIES:2016,Macau,Sport
GEO:22.198745;113.543873
END:VEVENT
BEGIN:VEVENT
DTSTART;TZID=Asia/Hong_Kong:20161119T213000
DTEND;TZID=Asia/Hong_Kong:20161119T213000
DTSTAMP:20260424T031125
CREATED:19161017T165825Z
LAST-MODIFIED:20161017T170209Z
UID:10000898-1479591000-1479591000@www.bcmagazine.net
SUMMARY:Armin van Buuren
DESCRIPTION:Armin Only – Embrace\nDate: 9:30pm\, 19 November\, 2016\nVenue: CotaiArena\nTickets: $680\, $280 from CotaiTicketing
URL:https://www.bcmagazine.net/event/armin-only-macau-2016/
LOCATION:CotaiArena\, Venetian Macao\, Taipa\, Macau
CATEGORIES:2016,DJ,Macau,Music
GEO:22.1483528;113.5602019
X-APPLE-STRUCTURED-LOCATION;VALUE=URI;X-ADDRESS=CotaiArena Venetian Macao Taipa Macau;X-APPLE-RADIUS=500;X-TITLE=Venetian Macao:geo:113.5602019,22.1483528
END:VEVENT
BEGIN:VEVENT
DTSTART;VALUE=DATE:20161126
DTEND;VALUE=DATE:20161128
DTSTAMP:20260424T031125
CREATED:19161017T170835Z
LAST-MODIFIED:20161017T171124Z
UID:10000900-1480118400-1480291199@www.bcmagazine.net
SUMMARY:World MMA Championship
DESCRIPTION:World MMA Championship\nDate: 26-27 November\, 2016\nVenue: Studio City Event Centre\nTickets: $1\,980\, $1\,280\, $880\, $580\, $280
URL:https://www.bcmagazine.net/event/world-mma-championship-macau-2016/
LOCATION:Studio City\, Estrada do Istmo\, Cotai\, Macau
CATEGORIES:2016,Macau,Sport
GEO:22.1397693;113.5632663
X-APPLE-STRUCTURED-LOCATION;VALUE=URI;X-ADDRESS=Studio City Estrada do Istmo Cotai Macau;X-APPLE-RADIUS=500;X-TITLE=Estrada do Istmo:geo:113.5632663,22.1397693
END:VEVENT
BEGIN:VEVENT
DTSTART;TZID=Asia/Hong_Kong:20161126T200000
DTEND;TZID=Asia/Hong_Kong:20161126T200000
DTSTAMP:20260424T031125
CREATED:19161017T164455Z
LAST-MODIFIED:20161017T165058Z
UID:10002271-1480190400-1480190400@www.bcmagazine.net
SUMMARY:Twins
DESCRIPTION:Twins – Live Around the World Macau\nDate: 8pm\, 26 November\, 2016\nVenue: CotaiArena\nTickets: $1\,280\, $880\, $680\, $480\, $380 from CotaiTicketing
URL:https://www.bcmagazine.net/event/twins-macau-2016/
LOCATION:CotaiArena\, Venetian Macao\, Taipa\, Macau
CATEGORIES:2016,Concert,Macau,Music
GEO:22.1483528;113.5602019
X-APPLE-STRUCTURED-LOCATION;VALUE=URI;X-ADDRESS=CotaiArena Venetian Macao Taipa Macau;X-APPLE-RADIUS=500;X-TITLE=Venetian Macao:geo:113.5602019,22.1483528
END:VEVENT
BEGIN:VEVENT
DTSTART;VALUE=DATE:20161129
DTEND;VALUE=DATE:20161205
DTSTAMP:20260424T031125
CREATED:19161017T172049Z
LAST-MODIFIED:20161017T172412Z
UID:10000903-1480377600-1480895999@www.bcmagazine.net
SUMMARY:Macau Open Badminton
DESCRIPTION:Macau Open Badminton\nDate: 29 November – 4 December\, 2016\nVenue: Tap Seac Multisport Pavilion Macau\nTickets: $400\, $150 from MacauTicket
URL:https://www.bcmagazine.net/event/macau-open-badminton-2016/
LOCATION:Tap Seac Multisport Pavilion\, Av. Conselheiro Ferreira de Almeida\, no.95\, Macau
CATEGORIES:2016,Macau,Sport
GEO:22.198933;113.5470855
X-APPLE-STRUCTURED-LOCATION;VALUE=URI;X-ADDRESS=Tap Seac Multisport Pavilion Av. Conselheiro Ferreira de Almeida no.95 Macau;X-APPLE-RADIUS=500;X-TITLE=Av. Conselheiro Ferreira de Almeida\, no.95:geo:113.5470855,22.198933
END:VEVENT
END:VCALENDAR