BEGIN:VCALENDAR
VERSION:2.0
PRODID:-//bc magazine - ECPv6.15.20//NONSGML v1.0//EN
CALSCALE:GREGORIAN
METHOD:PUBLISH
X-WR-CALNAME:bc magazine
X-ORIGINAL-URL:https://www.bcmagazine.net
X-WR-CALDESC:Events for bc magazine
REFRESH-INTERVAL;VALUE=DURATION:PT1H
X-Robots-Tag:noindex
X-PUBLISHED-TTL:PT1H
BEGIN:VTIMEZONE
TZID:Asia/Hong_Kong
BEGIN:STANDARD
TZOFFSETFROM:+0800
TZOFFSETTO:+0800
TZNAME:HKT
DTSTART:20160101T000000
END:STANDARD
END:VTIMEZONE
BEGIN:VEVENT
DTSTART;VALUE=DATE:20171220
DTEND;VALUE=DATE:20180108
DTSTAMP:20260421T053050
CREATED:19171212T072433Z
LAST-MODIFIED:20171220T075901Z
UID:10003664-1513728000-1515369599@www.bcmagazine.net
SUMMARY:The Sound of Music
DESCRIPTION:The Sound of Music\nDate: 20 December\, 2017 – 7 January\, 2018\nVenue: The Venetian Macao\, Venetian Theatre\nTickets: $888\, $688\, $488\, $288 from HKTicketing\nMore info:\n20 Dec 2017 – 7 Jan 2018 – 7:30pm (No show on Tuesdays)\n24\, 25\, 27\, 30\, 31 Dec 2017 & 6\, 7  Jan 2018 – 2pm
URL:https://www.bcmagazine.net/event/the-sound-of-music-macau-2018/
LOCATION:The Venetian Theatre\, Venetian Macao\, Taipa\, Macau
CATEGORIES:2018,Macau,Musical,Performing Arts,Theatre
GEO:22.1483528;113.5602019
X-APPLE-STRUCTURED-LOCATION;VALUE=URI;X-ADDRESS=The Venetian Theatre Venetian Macao Taipa Macau;X-APPLE-RADIUS=500;X-TITLE=Venetian Macao:geo:113.5602019,22.1483528
END:VEVENT
BEGIN:VEVENT
DTSTART;TZID=Asia/Hong_Kong:20180106T200000
DTEND;TZID=Asia/Hong_Kong:20180106T200000
DTSTAMP:20260421T053050
CREATED:19171212T072433Z
LAST-MODIFIED:20171220T080458Z
UID:10003665-1515268800-1515268800@www.bcmagazine.net
SUMMARY:3 Divas: Frances Yip\, Elisa Chan\, Maria Cordero
DESCRIPTION:3 Divas Concert in Macao – Frances Yip\, Elisa Chan\, Maria Cordero\nDate: 8pm\, 6 January\, 2018\nVenue: The Venetian Macao\, Cotai Arena\nTickets: $1\,280\, $880\, $680\, $480  Cotai Ticketing
URL:https://www.bcmagazine.net/event/3-divas-frances-yip-elisa-chan-maria-cordero-macau-2018/
LOCATION:CotaiArena\, Venetian Macao\, Taipa\, Macau
CATEGORIES:2018,Concert,Macau,Music,Performing Arts,Theatre
GEO:22.1483528;113.5602019
X-APPLE-STRUCTURED-LOCATION;VALUE=URI;X-ADDRESS=CotaiArena Venetian Macao Taipa Macau;X-APPLE-RADIUS=500;X-TITLE=Venetian Macao:geo:113.5602019,22.1483528
END:VEVENT
BEGIN:VEVENT
DTSTART;TZID=Asia/Hong_Kong:20180113T200000
DTEND;TZID=Asia/Hong_Kong:20180113T200000
DTSTAMP:20260421T053050
CREATED:19171212T072433Z
LAST-MODIFIED:20171220T081541Z
UID:10003669-1515873600-1515873600@www.bcmagazine.net
SUMMARY:Shino Lin
DESCRIPTION:Shino Lin\n Date: 8pm\, 13 January\, 2018\nVenue: The Venetian Macao\, Venetian Theatre\nTickets: $680\, $480\, $380 from Cotai Ticketing
URL:https://www.bcmagazine.net/event/shino-lin-macau-2018/
LOCATION:The Venetian Theatre\, Venetian Macao\, Taipa\, Macau
CATEGORIES:2018,Concert,Macau,Music,Performing Arts,Theatre
GEO:22.1483528;113.5602019
X-APPLE-STRUCTURED-LOCATION;VALUE=URI;X-ADDRESS=The Venetian Theatre Venetian Macao Taipa Macau;X-APPLE-RADIUS=500;X-TITLE=Venetian Macao:geo:113.5602019,22.1483528
END:VEVENT
BEGIN:VEVENT
DTSTART;TZID=Asia/Hong_Kong:20180114T180000
DTEND;TZID=Asia/Hong_Kong:20180114T180000
DTSTAMP:20260421T053050
CREATED:19171212T072433Z
LAST-MODIFIED:20171220T075115Z
UID:10003663-1515952800-1515952800@www.bcmagazine.net
SUMMARY:Wanna One
DESCRIPTION:Wanna One\nDate: 6pm\, 14 January\, 2018\nVenue: Studio City\, Macau\nTickets: $1\,680\, $1\,480\, $980\, $680 from HKTicketing
URL:https://www.bcmagazine.net/event/wanna-one-macau-2018/
LOCATION:Studio City\, Estrada do Istmo\, Cotai\, Macau
CATEGORIES:2018,Cantopop,Concert,Macau,Music
GEO:22.1397693;113.5632663
X-APPLE-STRUCTURED-LOCATION;VALUE=URI;X-ADDRESS=Studio City Estrada do Istmo Cotai Macau;X-APPLE-RADIUS=500;X-TITLE=Estrada do Istmo:geo:113.5632663,22.1397693
END:VEVENT
BEGIN:VEVENT
DTSTART;TZID=Asia/Hong_Kong:20180120T200000
DTEND;TZID=Asia/Hong_Kong:20180120T200000
DTSTAMP:20260421T053050
CREATED:19171212T072433Z
LAST-MODIFIED:20171220T074837Z
UID:10003662-1516478400-1516478400@www.bcmagazine.net
SUMMARY:Alan Tam
DESCRIPTION:Alan Tam 40th Anniversary Concert Tour\nDate: 8pm\, 20 January\, 2018\nVenue: Studio City\, Macau\nTickets: $1\,080\, $880\, $680\, $480 from HKTicketing
URL:https://www.bcmagazine.net/event/alan-tam-macau-2018/
LOCATION:Studio City\, Estrada do Istmo\, Cotai\, Macau
CATEGORIES:2018,Cantopop,Concert,Macau,Music
GEO:22.1397693;113.5632663
X-APPLE-STRUCTURED-LOCATION;VALUE=URI;X-ADDRESS=Studio City Estrada do Istmo Cotai Macau;X-APPLE-RADIUS=500;X-TITLE=Estrada do Istmo:geo:113.5632663,22.1397693
END:VEVENT
BEGIN:VEVENT
DTSTART;TZID=Asia/Hong_Kong:20180126T200000
DTEND;TZID=Asia/Hong_Kong:20180126T200000
DTSTAMP:20260421T053050
CREATED:19171212T072433Z
LAST-MODIFIED:20171220T081018Z
UID:10003666-1516996800-1516996800@www.bcmagazine.net
SUMMARY:Mayday
DESCRIPTION:Mayday\nDate: 26-28 January\, 2018\nVenue: The Venetian Macao\, Cotai Arena\nTickets: $1\,555\, $1\,155\, $855\, $555\, $355 from  Cotai Ticketing
URL:https://www.bcmagazine.net/event/mayday-macau-26-01-2018/
LOCATION:CotaiArena\, Venetian Macao\, Taipa\, Macau
CATEGORIES:2018,Concert,Macau,Music,Performing Arts,Theatre
GEO:22.1483528;113.5602019
X-APPLE-STRUCTURED-LOCATION;VALUE=URI;X-ADDRESS=CotaiArena Venetian Macao Taipa Macau;X-APPLE-RADIUS=500;X-TITLE=Venetian Macao:geo:113.5602019,22.1483528
END:VEVENT
BEGIN:VEVENT
DTSTART;TZID=Asia/Hong_Kong:20180127T200000
DTEND;TZID=Asia/Hong_Kong:20180127T200000
DTSTAMP:20260421T053050
CREATED:19171212T072433Z
LAST-MODIFIED:20171220T081249Z
UID:10003667-1517083200-1517083200@www.bcmagazine.net
SUMMARY:Mayday
DESCRIPTION:Mayday\nDate: 26-28 January\, 2018\nVenue: The Venetian Macao\, Cotai Arena\nTickets: $1\,555\, $1\,155\, $855\, $555\, $355 from  Cotai Ticketing
URL:https://www.bcmagazine.net/event/mayday-macau-27-01-2018/
LOCATION:CotaiArena\, Venetian Macao\, Taipa\, Macau
CATEGORIES:2018,Concert,Macau,Music,Performing Arts,Theatre
GEO:22.1483528;113.5602019
X-APPLE-STRUCTURED-LOCATION;VALUE=URI;X-ADDRESS=CotaiArena Venetian Macao Taipa Macau;X-APPLE-RADIUS=500;X-TITLE=Venetian Macao:geo:113.5602019,22.1483528
END:VEVENT
BEGIN:VEVENT
DTSTART;TZID=Asia/Hong_Kong:20180128T190000
DTEND;TZID=Asia/Hong_Kong:20180128T190000
DTSTAMP:20260421T053050
CREATED:19171212T072433Z
LAST-MODIFIED:20171220T081202Z
UID:10003668-1517166000-1517166000@www.bcmagazine.net
SUMMARY:Mayday
DESCRIPTION:Mayday\nDate: 26-28 January\, 2018\nVenue: The Venetian Macao\, Cotai Arena\nTickets: $1\,555\, $1\,155\, $855\, $555\, $355 from  Cotai Ticketing
URL:https://www.bcmagazine.net/event/mayday-macau-28-01-2018/
LOCATION:CotaiArena\, Venetian Macao\, Taipa\, Macau
CATEGORIES:2018,Concert,Macau,Music,Performing Arts,Theatre
GEO:22.1483528;113.5602019
X-APPLE-STRUCTURED-LOCATION;VALUE=URI;X-ADDRESS=CotaiArena Venetian Macao Taipa Macau;X-APPLE-RADIUS=500;X-TITLE=Venetian Macao:geo:113.5602019,22.1483528
END:VEVENT
END:VCALENDAR